BEGIN:VCALENDAR
VERSION:2.0
PRODID:-//Conservatoire à Rayonnement Régional du Grand Avignon - ECPv6.12.0.1//NONSGML v1.0//EN
CALSCALE:GREGORIAN
METHOD:PUBLISH
X-WR-CALNAME:Conservatoire à Rayonnement Régional du Grand Avignon
X-ORIGINAL-URL:https://2025.conservatoiregrandavignon.com
X-WR-CALDESC:Évènements pour Conservatoire à Rayonnement Régional du Grand Avignon
REFRESH-INTERVAL;VALUE=DURATION:PT1H
X-Robots-Tag:noindex
X-PUBLISHED-TTL:PT1H
BEGIN:VTIMEZONE
TZID:Europe/Paris
BEGIN:DAYLIGHT
TZOFFSETFROM:+0100
TZOFFSETTO:+0200
TZNAME:CEST
DTSTART:20190331T010000
END:DAYLIGHT
BEGIN:STANDARD
TZOFFSETFROM:+0200
TZOFFSETTO:+0100
TZNAME:CET
DTSTART:20191027T010000
END:STANDARD
END:VTIMEZONE
BEGIN:VEVENT
DTSTART;VALUE=DATE:20190207
DTEND;VALUE=DATE:20190214
DTSTAMP:20260422T024948
CREATED:20181008T223747Z
LAST-MODIFIED:20190204T123717Z
UID:18471-1549497600-1550102399@2025.conservatoiregrandavignon.com
SUMMARY:Journées européennes du Bandonéon
DESCRIPTION:3ème édition des journées européennes du bandonéon \nInvité d’honneur : Daniel Binelli \nInitié par Yvonne Hahn\, professeur au Conservatoire\, cet évènement propose depuis 2017 des rencontres de haut niveau entre la classe de bandonéon du Conservatoire du Grand Avignon et les classes de bandonéon d’autres Conservatoires et Académies de musique en Europe. Elles sont enrichies par les master-class de grands maîtres bandonéonistes\, des concerts auxquels participent les élèves et des conférences. \nCette 3ème édition accueille les élèves d’Italie et des Pays-Bas. Elle consacre le jumelage avec la classe de bandonéon de l’École Codarts à Rotterdam en la présence de Léo Vervelde et de Daniel Binelli. \nGrand maître argentin du bandonéon\, compagnon de scène d’Astor Piazzolla\, compositeur et pédagogue\, Daniel Binelli sera l’invité d’honneur de ces Journées européennes. Après avoir longtemps vécu à New-York\, il vient de s’installer à Valencia en Espagne \nJeudi 7 février\nChâteau de Fargues – Le Pontet\nAccords et réparations par Philippe Imbert \nVendredi 8 février\nAuditorium du Grand Avignon – Le Pontet\, 20h\nConcert d’ouverture avec une mise en scène originale Mix’Art mêlant danse\, Musique Assistée par Ordinateur et création de film muet. \nSamedi 9 février\nAuditorium du Grand Avignon – Le Pontet\, 10h à 16h30\nMaster class avec Daniel Binelli \nThéâtre du Balcon\, Avignon\n18h30 : conférence magistrale avec la participation de l’association Contraluz\n20h : concert du Duo Daniel Binelli\, au bandonéon et la célèbre pianiste Polly Ferman (Uruguay). L’union de leurs talents nourrit la renommée internationale de leur Duo\, créé en 2000 à New-York et dédié à la musique du Tango sous toutes ses formes. \nEspace Leclerc\, Amphithéâtre Mozart\, 10h à 17h\nMaster class de piano-tango avec Wim Warman\, professeur à la Codarts University for the Arts de Rotterdam \nDimanche 10 février\nAuditorium du Grand Avignon – Le Pontet\, 10h à 18h\nMaster class avec Daniel Binelli \nLundi 11\, mardi 12 et mercredi 13 février\nAuditorium du Grand Avignon – Le Pontet\nChâteau de Fargues – Le Pontet\nMaster class d’orchestre de tango avec Victor Hugo Villena\, Leo Vervelde\, Wim Warman. \nMercredi 13 février\nAuditorium du Grand Avignon – Le Pontet\, 20h\nConcert de clôture avec les élèves hollandais et italiens. \nTout au long de ces journées\, seront proposées des master class avec plusieurs grands maîtres du bandonéon tels que Victor Villena\, Daniel Binelli\, Fabio Furia\, Léo Vervelde\, Louise Jallu ainsi que des master-class de musique de chambre avec la pianiste Polly Ferman et Orchestre avec Léo Vervelde. \nCes événements sont co-produits par le Conservatoire du Grand Avignon et l’Association Contraluz (Association pour la défense de la culture hispanique basée à Avignon). \nPlus d’informations sur la page facebook du Conservatoire.
URL:https://2025.conservatoiregrandavignon.com/event/journees-europeennes-du-bandoneon-2/
LOCATION:Église du Pontet\, 7 Avenue de l'Église\, Le Pontet\, 84130\, France
CATEGORIES:Saison 2018-2019,Saison artistique 2018-2019,Musique
ATTACH;FMTTYPE=image/jpeg:https://2025.conservatoiregrandavignon.com/wp-content/uploads/2018/10/Journee-europeennes-du-bandoneon-du-7-au-13-fevrier-2019-4.jpg
END:VEVENT
BEGIN:VEVENT
DTSTART;VALUE=DATE:20190209
DTEND;VALUE=DATE:20190211
DTSTAMP:20260422T024948
CREATED:20181009T063250Z
LAST-MODIFIED:20181122T074908Z
UID:18563-1549670400-1549843199@2025.conservatoiregrandavignon.com
SUMMARY:WEEKEND PASSION
DESCRIPTION:Pour la deuxième année consécutive\, le Conservatoire offre aux musiciens amateurs jouant de la musique ancienne un suivi pédagogique et artistique de leur engagement musical ainsi qu’un accompagnement dans la réalisation de leurs projets à l’occasion de trois weekends.
URL:https://2025.conservatoiregrandavignon.com/event/weekend-passion-2/
LOCATION:Vaucluse
CATEGORIES:Saison 2018-2019,Musique,Week-ends passion
ATTACH;FMTTYPE=image/jpeg:https://2025.conservatoiregrandavignon.com/wp-content/uploads/2018/11/bandeau-amateurs.jpg
END:VEVENT
END:VCALENDAR