BEGIN:VCALENDAR
VERSION:2.0
PRODID:-//Conservatoire à Rayonnement Régional du Grand Avignon - ECPv6.12.0.1//NONSGML v1.0//EN
CALSCALE:GREGORIAN
METHOD:PUBLISH
X-WR-CALNAME:Conservatoire à Rayonnement Régional du Grand Avignon
X-ORIGINAL-URL:https://2025.conservatoiregrandavignon.com
X-WR-CALDESC:Évènements pour Conservatoire à Rayonnement Régional du Grand Avignon
REFRESH-INTERVAL;VALUE=DURATION:PT1H
X-Robots-Tag:noindex
X-PUBLISHED-TTL:PT1H
BEGIN:VTIMEZONE
TZID:Europe/Paris
BEGIN:DAYLIGHT
TZOFFSETFROM:+0100
TZOFFSETTO:+0200
TZNAME:CEST
DTSTART:20190331T010000
END:DAYLIGHT
BEGIN:STANDARD
TZOFFSETFROM:+0200
TZOFFSETTO:+0100
TZNAME:CET
DTSTART:20191027T010000
END:STANDARD
END:VTIMEZONE
BEGIN:VEVENT
DTSTART;VALUE=DATE:20190503
DTEND;VALUE=DATE:20190506
DTSTAMP:20260423T161327
CREATED:20181009T074422Z
LAST-MODIFIED:20181123T110645Z
UID:18599-1556841600-1557100799@2025.conservatoiregrandavignon.com
SUMMARY:Master class et concert de harpe / Fabrice Pierre
DESCRIPTION:Artiste invité : Fabrice Pierre \nConcert en duo de harpes autour des préludes. Fabrice Pierre\, professeur de harpe au CNSM de Lyon\, a reçu l’enseignement de Pierre Jamet.  Il mène une double carrière de chef d’orchestre et de harpiste\, consacrant une majeure partie de ses activités à la musique de chambre. Le concert sur le thème des Préludes sera l’occasion d’entendre en duo de harpes Fabrice Pierre et Léa Mesnil\, ancienne élève du Conservatoire. \nVendredi 3 mai\nEspace Leclerc\, Amphithéâtre Mozart\,\nMaster class\, 10h – 12h30 et 14h – 17h30\nConcert\, 19h \nSamedi 4 mai\nEspace Leclerc\, Amphithéâtre Mozart\,\nMaster class de maintenance et de réglage d’une harpe\, 10h – 12h30 et 14h – 17h30
URL:https://2025.conservatoiregrandavignon.com/event/master-class-et-concert-de-harpe/
LOCATION:Auditorium Jean Moulin – Le Thor\, 971 Chem. des Estourans\, Le Thor\, 84250\, France
CATEGORIES:Saison 2018-2019,Saison pédagogique 2018-2019,Artistes invités 2018-2019,Musique,Masterclass
ATTACH;FMTTYPE=image/jpeg:https://2025.conservatoiregrandavignon.com/wp-content/uploads/2018/10/MC-fabrice-pierre-3-et-4-mai-2019.jpg
END:VEVENT
BEGIN:VEVENT
DTSTART;VALUE=DATE:20190504
DTEND;VALUE=DATE:20190506
DTSTAMP:20260423T161327
CREATED:20181009T053914Z
LAST-MODIFIED:20190426T075208Z
UID:18515-1556928000-1557100799@2025.conservatoiregrandavignon.com
SUMMARY:Concert de la classe d’art lyrique accompagnée par l’orchestre symphonique
DESCRIPTION:Samedi 4 mai\, 20h\nDimanche 5 mai\, 17h \nNoces de Figaro et les plus grands airs de W.A. Mozart\nDirection : Yves-Michel Dubois \nDistribution :\nFIGARO : Benoit COADIC \nSUZANNE : Samedi Nina LEFLOCH / Dimanche Clelia MOREAU \nLE COMTE : Matthias JACQUOT \nLA COMTESSE : Samedi Émilie MARTINEZ / Dimanche Anne DERYM \nCHÉRUBIN : Hannah BOUDJOUHER \nLE RÉCITANT : Virgil RAVACHOL \nAccompagné par l’Orchestre SYMPHONIQUE DU CONSERVATOIRE \n  \nTravail musical au piano mené par Noélie LANTIN \nMise en scène Valérie MARESTIN \nDirection d’orchestre Yves Michel DUBOIS \nDécors réalisés par la classe de menuiserie du LEA Vincensini de Vedène sous la direction de Monsieur Saint Martin. \n  \nCe spectacle est une adaptation de l’opéra\, les Noces de Figaro\, le chef d’œuvre de Mozart\, dans une version raccourcie\, accessible aux scolaires et au public non initié. \nPour faciliter la compréhension\, les récitatifs en Italien sont remplacés par des dialogues en Français extraits de la pièce de Beaumarchais. Les extraits chantés sont sélectionnés pour illustrer à leur tour le déroulé de l’action. \nCette version permet de transmettre aux jeunes une part du patrimoine lyrique\, de vanter l’inimitable talent de Mozart et de découvrir la modernité et la pertinence des répliques de Beaumarchais dont le compositeur s’inspire. \nL’œuvre offre un enchaînement de situations et de stratégies habiles\, conduites par deux domestiques\, Suzanne et Figaro qui s’opposent à un comte orgueilleux et machiste. \nCet opéra-comique pose les questions d’égalité sociale\, d’égalité des chances\, d’égalité des sexes\, d’égalité des pouvoirs\, d’égalité tout court… De lutte des classes et du mépris des grands à l’égard des petits : Le comte règne en maître absolu sur son château et ses habitants. Il use malgré son abolition\, du droit de cuissage\, un ancien droit accordé aux puissants\, droit de posséder et d’abuser de toutes les femmes à volonté et en toute liberté… \nInspiré de la trilogie de Beaumarchais censurée à sa création\, cet opéra-comique soulève les questions d’inégalité sociale\, d’oppression et de privilège des puissants\, d’abus de pouvoir\, de harcèlement sexuel\, d’adultère\, de fragilité des rapports amoureux… Des questions qui\, en étant soulevées trois siècles plus tard\, heurtent et interpellent toujours notre société moderne\, nos penseurs\, nos politiques et nous-mêmes. \nCe spectacle à valeur d’examen pour les chanteurs qui passent leurs UV d’art lyrique devant jury externe. \n 
URL:https://2025.conservatoiregrandavignon.com/event/concert-de-la-classe-dart-lyrique-accompagnee-par-lorchestre-symphonique/
LOCATION:Église du Pontet\, 7 Avenue de l'Église\, Le Pontet\, 84130\, France
CATEGORIES:Saison 2018-2019,Saison artistique 2018-2019,Musique
ATTACH;FMTTYPE=image/jpeg:https://2025.conservatoiregrandavignon.com/wp-content/uploads/2018/10/Concert-OS-4-et-5-mai-2019.jpg
END:VEVENT
END:VCALENDAR