BEGIN:VCALENDAR
VERSION:2.0
PRODID:-//Conservatoire à Rayonnement Régional du Grand Avignon - ECPv6.12.0.1//NONSGML v1.0//EN
CALSCALE:GREGORIAN
METHOD:PUBLISH
X-WR-CALNAME:Conservatoire à Rayonnement Régional du Grand Avignon
X-ORIGINAL-URL:https://2025.conservatoiregrandavignon.com
X-WR-CALDESC:Évènements pour Conservatoire à Rayonnement Régional du Grand Avignon
REFRESH-INTERVAL;VALUE=DURATION:PT1H
X-Robots-Tag:noindex
X-PUBLISHED-TTL:PT1H
BEGIN:VTIMEZONE
TZID:Europe/Paris
BEGIN:DAYLIGHT
TZOFFSETFROM:+0100
TZOFFSETTO:+0200
TZNAME:CEST
DTSTART:20190331T010000
END:DAYLIGHT
BEGIN:STANDARD
TZOFFSETFROM:+0200
TZOFFSETTO:+0100
TZNAME:CET
DTSTART:20191027T010000
END:STANDARD
END:VTIMEZONE
BEGIN:VEVENT
DTSTART;TZID=Europe/Paris:20190507T133000
DTEND;TZID=Europe/Paris:20190507T200000
DTSTAMP:20260423T000205
CREATED:20190503T072441Z
LAST-MODIFIED:20190506T095205Z
UID:20550-1557235800-1557259200@2025.conservatoiregrandavignon.com
SUMMARY:Résidence Pascale JAKUBOWSKI
DESCRIPTION:MARDI 7 MAI 2019\nSalle 114\, 13h30 à 15h30  (non public)\nTravail avec les élèves compositeurs/compositrices \nAmphithéâtre Mozart\, 16h-8h (public)\nTravail avec les élèves de musique de chambre avec Pascale Jakubowski \nAuditorium du Grand Avignon-Le Pontet\, 19h30 (entrée libre)\nPrésentation de la pièce Translations par Pascale Jakubowski\, pièce créée pour l’ORAP. \nAuditorium du Grand Avignon-Le Pontet\, 20h (entrée libre)\nProgramme du concert :\nAiles\, extrait du « destin des petits riens »\nSun 1 (vidéo et musique électroacoustique ) – David Coubes\nPrélude op. 28 nr. 4 (Piano) – Frédéric Chopin\nVolutes\, extrait d’Ellipses (Piano) – Pascale Jakubowski\nLame (vidéo et musique électroacoustique ) – David Coubes\nP’oasis :  Choeur d’enfants\, Fl\, Cl\, Vibra – Edith Canat de Chizy\nLes coquillages éblouis : Choeur d’enfants\, 2 fl\, Cl\, Vlc. – Pascale Jakubowski\nEau\, extrait du « destin des petits riens » \n\n\n\n    \n        \n            \n        \n        \n            \n                CV Pascale JAKUBOWSKI\n                \n                     399.26 KB\n                     24 downloads\n                \n            \n            ...\n        \n        \n            Télécharger
URL:https://2025.conservatoiregrandavignon.com/event/residence-pascale-jakubowski/
LOCATION:Église du Pontet\, 7 Avenue de l'Église\, Le Pontet\, 84130\, France
ATTACH;FMTTYPE=image/jpeg:https://2025.conservatoiregrandavignon.com/wp-content/uploads/2019/05/Our-Daily-Treat1.jpg
END:VEVENT
BEGIN:VEVENT
DTSTART;TZID=Europe/Paris:20190507T190000
DTEND;TZID=Europe/Paris:20190507T190000
DTSTAMP:20260423T000205
CREATED:20181009T054034Z
LAST-MODIFIED:20190506T091038Z
UID:18517-1557255600-1557255600@2025.conservatoiregrandavignon.com
SUMMARY:Concert des chœurs des Classes à Horaires Aménagés - ANNULE
DESCRIPTION:Direction : Isabelle Oriez
URL:https://2025.conservatoiregrandavignon.com/event/concert-des-choeurs-des-classes-a-horaires-amenages/
LOCATION:Auditorium Jean Moulin – Le Thor\, 971 Chem. des Estourans\, Le Thor\, 84250\, France
CATEGORIES:Saison 2018-2019,Saison artistique 2018-2019,Musique
ATTACH;FMTTYPE=image/jpeg:https://2025.conservatoiregrandavignon.com/wp-content/uploads/2019/05/ANNULE-..jpg
END:VEVENT
END:VCALENDAR