BEGIN:VCALENDAR
VERSION:2.0
PRODID:-//Conservatoire à Rayonnement Régional du Grand Avignon - ECPv6.12.0.1//NONSGML v1.0//EN
CALSCALE:GREGORIAN
METHOD:PUBLISH
X-WR-CALNAME:Conservatoire à Rayonnement Régional du Grand Avignon
X-ORIGINAL-URL:https://2025.conservatoiregrandavignon.com
X-WR-CALDESC:Évènements pour Conservatoire à Rayonnement Régional du Grand Avignon
REFRESH-INTERVAL;VALUE=DURATION:PT1H
X-Robots-Tag:noindex
X-PUBLISHED-TTL:PT1H
BEGIN:VTIMEZONE
TZID:Europe/Paris
BEGIN:DAYLIGHT
TZOFFSETFROM:+0100
TZOFFSETTO:+0200
TZNAME:CEST
DTSTART:20190331T010000
END:DAYLIGHT
BEGIN:STANDARD
TZOFFSETFROM:+0200
TZOFFSETTO:+0100
TZNAME:CET
DTSTART:20191027T010000
END:STANDARD
END:VTIMEZONE
BEGIN:VEVENT
DTSTART;TZID=Europe/Paris:20190520T190000
DTEND;TZID=Europe/Paris:20190520T190000
DTSTAMP:20260423T095843
CREATED:20181009T054826Z
LAST-MODIFIED:20181016T064910Z
UID:18528-1558378800-1558378800@2025.conservatoiregrandavignon.com
SUMMARY:Concert de la classe d’art lyrique
DESCRIPTION:Direction : Valérie Marestin
URL:https://2025.conservatoiregrandavignon.com/event/concert-de-la-classe-dart-lyrique/
LOCATION:Auditorium Jean Moulin – Le Thor\, 971 Chem. des Estourans\, Le Thor\, 84250\, France
CATEGORIES:Saison 2018-2019,Saison artistique 2018-2019,Musique
ATTACH;FMTTYPE=image/jpeg:https://2025.conservatoiregrandavignon.com/wp-content/uploads/2018/10/Concert-art-lyrique-20-mai-2019.jpg
END:VEVENT
END:VCALENDAR