BEGIN:VCALENDAR
VERSION:2.0
PRODID:-//Conservatoire à Rayonnement Régional du Grand Avignon - ECPv6.12.0.1//NONSGML v1.0//EN
CALSCALE:GREGORIAN
METHOD:PUBLISH
X-WR-CALNAME:Conservatoire à Rayonnement Régional du Grand Avignon
X-ORIGINAL-URL:https://2025.conservatoiregrandavignon.com
X-WR-CALDESC:Évènements pour Conservatoire à Rayonnement Régional du Grand Avignon
REFRESH-INTERVAL;VALUE=DURATION:PT1H
X-Robots-Tag:noindex
X-PUBLISHED-TTL:PT1H
BEGIN:VTIMEZONE
TZID:Europe/Paris
BEGIN:DAYLIGHT
TZOFFSETFROM:+0100
TZOFFSETTO:+0200
TZNAME:CEST
DTSTART:20190331T010000
END:DAYLIGHT
BEGIN:STANDARD
TZOFFSETFROM:+0200
TZOFFSETTO:+0100
TZNAME:CET
DTSTART:20191027T010000
END:STANDARD
END:VTIMEZONE
BEGIN:VEVENT
DTSTART;TZID=Europe/Paris:20190522T200000
DTEND;TZID=Europe/Paris:20190524T200000
DTSTAMP:20260423T125928
CREATED:20181009T055041Z
LAST-MODIFIED:20181016T071215Z
UID:18530-1558555200-1558728000@2025.conservatoiregrandavignon.com
SUMMARY:Restitution des projets dirigés des élèves du pôle théâtre
DESCRIPTION:Pour la troisième année consécutive\, le Théâtre du Chien qui fume accueillera\, dans le cadre des examens de fin d’année du pôle théâtre\, les « projets dirigés » des élèves de 2ème et 3ème cycles. Une forme théâtrale dirigée par un artiste enseignant du Conservatoire sera présentée par ces élèves acteurs à l’occasion de deux soirées.
URL:https://2025.conservatoiregrandavignon.com/event/restitution-des-projets-diriges-des-eleves-du-pole-theatre/
LOCATION:Théâtre du chien qui fume\, 75\, rue des Teinturiers\, Avignon\, 84000
CATEGORIES:Saison 2018-2019,Saison artistique 2018-2019,Théâtre
ATTACH;FMTTYPE=image/jpeg:https://2025.conservatoiregrandavignon.com/wp-content/uploads/2018/10/Theatre-du-chien-qui-fume-22-et-24-mai-2.jpg
END:VEVENT
BEGIN:VEVENT
DTSTART;TZID=Europe/Paris:20190523T190000
DTEND;TZID=Europe/Paris:20190523T190000
DTSTAMP:20260423T125928
CREATED:20181009T055203Z
LAST-MODIFIED:20181016T064523Z
UID:18533-1558638000-1558638000@2025.conservatoiregrandavignon.com
SUMMARY:Concert acoustique des classes de musiques actuelles
DESCRIPTION:
URL:https://2025.conservatoiregrandavignon.com/event/concert-acoustique-des-classes-de-musiques-actuelles/
LOCATION:Auditorium Jean Moulin – Le Thor\, 971 Chem. des Estourans\, Le Thor\, 84250\, France
CATEGORIES:Saison 2018-2019,Saison artistique 2018-2019,Musique
ATTACH;FMTTYPE=image/jpeg:https://2025.conservatoiregrandavignon.com/wp-content/uploads/2018/10/Musique-actuelle-25-mai-2019-1.jpg
END:VEVENT
END:VCALENDAR