BEGIN:VCALENDAR
VERSION:2.0
PRODID:-//Conservatoire à Rayonnement Régional du Grand Avignon - ECPv6.12.0.1//NONSGML v1.0//EN
CALSCALE:GREGORIAN
METHOD:PUBLISH
X-WR-CALNAME:Conservatoire à Rayonnement Régional du Grand Avignon
X-ORIGINAL-URL:https://2025.conservatoiregrandavignon.com
X-WR-CALDESC:Évènements pour Conservatoire à Rayonnement Régional du Grand Avignon
REFRESH-INTERVAL;VALUE=DURATION:PT1H
X-Robots-Tag:noindex
X-PUBLISHED-TTL:PT1H
BEGIN:VTIMEZONE
TZID:Europe/Paris
BEGIN:DAYLIGHT
TZOFFSETFROM:+0100
TZOFFSETTO:+0200
TZNAME:CEST
DTSTART:20190331T010000
END:DAYLIGHT
BEGIN:STANDARD
TZOFFSETFROM:+0200
TZOFFSETTO:+0100
TZNAME:CET
DTSTART:20191027T010000
END:STANDARD
END:VTIMEZONE
BEGIN:VEVENT
DTSTART;VALUE=DATE:20190601
DTEND;VALUE=DATE:20190603
DTSTAMP:20260423T042653
CREATED:20181009T061157Z
LAST-MODIFIED:20181016T062426Z
UID:18541-1559347200-1559519999@2025.conservatoiregrandavignon.com
SUMMARY:« Transport Express »\, comédie musicale d’Emmanuel Touchard
DESCRIPTION:Samedi 1er juin\, 20h\nDimanche 2 juin\, 17h \nAvec le chœur de jeunes \nDirection : Isabelle Oriez\nAccompagnement piano : Catherine Chaine \nA travers cet exercice de style\, prêt d’une vingtaine de chansons ayant traversé le siècle nous reviennent aux oreilles\, ludiques\, joyeuses\, toujours sensibles. \nDe la fantastique Trolley Song de 1945\, au féérique bateau blanc de Gilbert Bécaud\, en passant par le fracassant aéroplane blindé de Jacques Higelin\, nous cheminons tout au long de cette friandise musicale et scénique\, tels d’heureux vacanciers en partance sur la Nationale 7. Tous les arrangements sont originaux. \nPas de train-train quotidien pour les artistes de Transports Express alors en voiture !
URL:https://2025.conservatoiregrandavignon.com/event/transport-express-comedie-musicale-demmanuel-touchard/
LOCATION:Église du Pontet\, 7 Avenue de l'Église\, Le Pontet\, 84130\, France
CATEGORIES:Saison 2018-2019,Saison artistique 2018-2019,Musique
ATTACH;FMTTYPE=image/jpeg:https://2025.conservatoiregrandavignon.com/wp-content/uploads/2018/10/Transport-express-1er-et-2-juin-2019-1.jpg
END:VEVENT
END:VCALENDAR