BEGIN:VCALENDAR
VERSION:2.0
PRODID:-//Conservatoire à Rayonnement Régional du Grand Avignon - ECPv6.12.0.1//NONSGML v1.0//EN
CALSCALE:GREGORIAN
METHOD:PUBLISH
X-ORIGINAL-URL:https://2025.conservatoiregrandavignon.com
X-WR-CALDESC:Évènements pour Conservatoire à Rayonnement Régional du Grand Avignon
REFRESH-INTERVAL;VALUE=DURATION:PT1H
X-Robots-Tag:noindex
X-PUBLISHED-TTL:PT1H
BEGIN:VTIMEZONE
TZID:Europe/Paris
BEGIN:DAYLIGHT
TZOFFSETFROM:+0100
TZOFFSETTO:+0200
TZNAME:CEST
DTSTART:20190331T010000
END:DAYLIGHT
BEGIN:STANDARD
TZOFFSETFROM:+0200
TZOFFSETTO:+0100
TZNAME:CET
DTSTART:20191027T010000
END:STANDARD
END:VTIMEZONE
BEGIN:VEVENT
DTSTART;TZID=Europe/Paris:20190608T200000
DTEND;TZID=Europe/Paris:20190608T200000
DTSTAMP:20260423T113529
CREATED:20181009T061637Z
LAST-MODIFIED:20181015T201309Z
UID:18548-1560024000-1560024000@2025.conservatoiregrandavignon.com
SUMMARY:De toutes les couleurs : ici et ailleurs
DESCRIPTION:Chansons autour des couleurs \nAvec les pratiques vocales collectives et le petit chœur d’enfants \nDirection : Isabelle Oriez
URL:https://2025.conservatoiregrandavignon.com/event/de-toutes-les-couleurs-ici-et-ailleurs/
LOCATION:Église du Pontet\, 7 Avenue de l'Église\, Le Pontet\, 84130\, France
CATEGORIES:Saison 2018-2019,Saison artistique 2018-2019,Musique
END:VEVENT
END:VCALENDAR