BEGIN:VCALENDAR
VERSION:2.0
PRODID:-//Conservatoire à Rayonnement Régional du Grand Avignon - ECPv6.12.0.1//NONSGML v1.0//EN
CALSCALE:GREGORIAN
METHOD:PUBLISH
X-WR-CALNAME:Conservatoire à Rayonnement Régional du Grand Avignon
X-ORIGINAL-URL:https://2025.conservatoiregrandavignon.com
X-WR-CALDESC:Évènements pour Conservatoire à Rayonnement Régional du Grand Avignon
REFRESH-INTERVAL;VALUE=DURATION:PT1H
X-Robots-Tag:noindex
X-PUBLISHED-TTL:PT1H
BEGIN:VTIMEZONE
TZID:Europe/Paris
BEGIN:DAYLIGHT
TZOFFSETFROM:+0100
TZOFFSETTO:+0200
TZNAME:CEST
DTSTART:20190331T010000
END:DAYLIGHT
BEGIN:STANDARD
TZOFFSETFROM:+0200
TZOFFSETTO:+0100
TZNAME:CET
DTSTART:20191027T010000
END:STANDARD
END:VTIMEZONE
BEGIN:VEVENT
DTSTART;VALUE=DATE:20190617
DTEND;VALUE=DATE:20190622
DTSTAMP:20260423T084225
CREATED:20181009T070002Z
LAST-MODIFIED:20181016T062214Z
UID:18581-1560729600-1561161599@2025.conservatoiregrandavignon.com
SUMMARY:« Projets du pôle théâtre »
DESCRIPTION:Les élèves du pôle théâtre présentent\, comme chaque\, leur « projet personnel » de fin de cycle. \nTous les jours à 19h
URL:https://2025.conservatoiregrandavignon.com/event/projets-du-pole-theatre/
LOCATION:Église du Pontet\, 7 Avenue de l'Église\, Le Pontet\, 84130\, France
CATEGORIES:Saison 2018-2019,Examens publics,Théâtre
ATTACH;FMTTYPE=image/jpeg:https://2025.conservatoiregrandavignon.com/wp-content/uploads/2018/10/Projets-pole-theatre-17-au-21-juin-2019-1.jpg
END:VEVENT
BEGIN:VEVENT
DTSTART;TZID=Europe/Paris:20190620T200000
DTEND;TZID=Europe/Paris:20190620T220000
DTSTAMP:20260423T084225
CREATED:20190617T134615Z
LAST-MODIFIED:20190617T134644Z
UID:20988-1561060800-1561068000@2025.conservatoiregrandavignon.com
SUMMARY:PRÉSENTATION DES TRAVAUX DU POLE THÉÂTRE
DESCRIPTION:PRÉSENTATION du projet dirigé des ateliers de perfectionnement de la pratique amateur\nAuditorium du Grand Avignon\nJeudi 20 juin 2019\, 20h00 \nDirection Marcelle Basso-Boccabella  \nD’après : Sopro (Souffle) de Tiago Rodrigues \nMise en scène : Marcelle Basso  \nLumière : Philippe Montes Morin \nMusique :  Carol Albitar (chant)\, Marie-Françoise Antonini (conception\, hautbois\, percussion)\, Ursula Priad (accordéon)  \nSopro » est une pièce récente de Tiago Rodrigues. Metteur en scène\, acteur et auteur portugais\, vieux compagnon de route du TG Stan\, il dirige actuellement le Théâtre National de Lisbonne. Il a créé « Sopro » en 2017 au théâtre des Carmes\, dans le cadre du festival d’Avignon.  \n Au début de la pièce\, la directrice du théâtre vient de mourir pendant une représentation de « Bérénice » de Racine. Pour maintenir le théâtre en marche\, l’actuel directeur monte une pièce qui met en scène la souffleuse\, en tant que personnage principal. Elle évoque certaines scènes du répertoire (« Dinis et Isabel »\, d’Antonio Patricio »\, « L’avare » de Molière\, « Les trois sœurs » de Tchekov\, « Antigone » de Sophocle et « Bérénice » de Racine) et raconte certains moments marquants dans sa longue carrière au service des acteurs. \nAvec : \nLa souffleuse :  Marie-Françoise Antonini\, Claudine Baille\, Céline Marcy\, Amparo Aliena Noguera\, Amandine Mégret\, Céline Être\, Ndeye Binta Nang\, Michelle Ange Ischia Berenguer \nLe directeur : Thierry Thérondel\, Laurent Girard \nLa directrice : Déborah Payan \nDinis : Patrick Wagon \nLe fou : Ursula Priad \nUne demoiselle : Carol Albitar \nVerchinine (dans le rôle d’Harpagon) : Jean-Noël Papera \nVerchinine (dans le rôle de Verchinine) : Laurent Girard \nIrina : Ursula Priad \nOlga : Déborah Payan \nMacha : Carol Albitar \nKouliguine : Mohamed M’Haïdra \nLa choryphée : Tina Vara Ruiz \nCréon : Olivier Granara \nIsmène : Sophie Hémin \nAntigone : Amandine Mégret \nVerchinine : Olivier Granara \nLa directrice (dans le rôle de Bérénice) : Céline Marcy \n  \n  \n  \n 
URL:https://2025.conservatoiregrandavignon.com/event/presentation-des-travaux-du-pole-theatre-2/
LOCATION:Église du Pontet\, 7 Avenue de l'Église\, Le Pontet\, 84130\, France
ATTACH;FMTTYPE=image/jpeg:https://2025.conservatoiregrandavignon.com/wp-content/uploads/2019/06/IMG_8673.jpg
END:VEVENT
END:VCALENDAR