BEGIN:VCALENDAR
VERSION:2.0
PRODID:-//Conservatoire à Rayonnement Régional du Grand Avignon - ECPv6.12.0.1//NONSGML v1.0//EN
CALSCALE:GREGORIAN
METHOD:PUBLISH
X-ORIGINAL-URL:https://2025.conservatoiregrandavignon.com
X-WR-CALDESC:Évènements pour Conservatoire à Rayonnement Régional du Grand Avignon
REFRESH-INTERVAL;VALUE=DURATION:PT1H
X-Robots-Tag:noindex
X-PUBLISHED-TTL:PT1H
BEGIN:VTIMEZONE
TZID:Europe/Paris
BEGIN:DAYLIGHT
TZOFFSETFROM:+0100
TZOFFSETTO:+0200
TZNAME:CEST
DTSTART:20190331T010000
END:DAYLIGHT
BEGIN:STANDARD
TZOFFSETFROM:+0200
TZOFFSETTO:+0100
TZNAME:CET
DTSTART:20191027T010000
END:STANDARD
END:VTIMEZONE
BEGIN:VEVENT
DTSTART;TZID=Europe/Paris:20191008T160000
DTEND;TZID=Europe/Paris:20191008T200000
DTSTAMP:20260423T192121
CREATED:20190918T134129Z
LAST-MODIFIED:20190927T131855Z
UID:21028-1570550400-1570564800@2025.conservatoiregrandavignon.com
SUMMARY:Atelier de technique du son : aspects techniques acoustiques de la prise de son d’un groupe de musique jazz
DESCRIPTION:L’ingénieure du son Anaëlle Marsollier\, qui s’est formée à l’Institut de Recherche et Coordination Acoustique/Musique de Paris et qui a travaillé dans le prestigieux studio d’enregistrement de la Buissonne à Pernes-Les-Fontaines\, nous fait le plaisir de venir enseigner son art. Un deuxième atelier sur les enjeux de la diffusion multicanal d’une pièce de musique mixte aura lieu le 4 février.\nAtelier ouvert au public.
URL:https://2025.conservatoiregrandavignon.com/event/atelier-de-technique-du-son-aspects-techniques-acoustiques-de-la-prise-de-son-dun-groupe-de-musique-jazz/
LOCATION:Auditorium Jean Moulin – Le Thor\, 971 Chem. des Estourans\, Le Thor\, 84250\, France
CATEGORIES:Atelier,Saison 2019-2020,Saison artistique 2019-2020,Musique
ATTACH;FMTTYPE=image/jpeg:https://2025.conservatoiregrandavignon.com/wp-content/uploads/2019/09/MAO-JUIN-2019@ACM-4.jpg
END:VEVENT
END:VCALENDAR