BEGIN:VCALENDAR
VERSION:2.0
PRODID:-//Conservatoire à Rayonnement Régional du Grand Avignon - ECPv6.12.0.1//NONSGML v1.0//EN
CALSCALE:GREGORIAN
METHOD:PUBLISH
X-WR-CALNAME:Conservatoire à Rayonnement Régional du Grand Avignon
X-ORIGINAL-URL:https://2025.conservatoiregrandavignon.com
X-WR-CALDESC:Évènements pour Conservatoire à Rayonnement Régional du Grand Avignon
REFRESH-INTERVAL;VALUE=DURATION:PT1H
X-Robots-Tag:noindex
X-PUBLISHED-TTL:PT1H
BEGIN:VTIMEZONE
TZID:Europe/Paris
BEGIN:DAYLIGHT
TZOFFSETFROM:+0100
TZOFFSETTO:+0200
TZNAME:CEST
DTSTART:20190331T010000
END:DAYLIGHT
BEGIN:STANDARD
TZOFFSETFROM:+0200
TZOFFSETTO:+0100
TZNAME:CET
DTSTART:20191027T010000
END:STANDARD
END:VTIMEZONE
BEGIN:VEVENT
DTSTART;TZID=Europe/Paris:20191010T100000
DTEND;TZID=Europe/Paris:20191010T183000
DTSTAMP:20260423T130313
CREATED:20190918T203417Z
LAST-MODIFIED:20190927T124532Z
UID:21163-1570701600-1570732200@2025.conservatoiregrandavignon.com
SUMMARY:MASTER CLASS de guitare - Artiste invité : Joël Gombert
DESCRIPTION:Jeudi 10 et vendredi 11 octobre 2019\nEspace Leclerc\, Amphithéâtre Mozart \nJoël Gombert est le guitariste du duo Jazz « Laurence Joël ». Il a partagé la scène avec Sylvain Luc\, Marcel Azzola\, Stéphane Belmondo\, rencontré Tuck & Patti\, ou encore Pat Metheny. Joël Gombert collabore fréquemment avec Jean-Félix Lalanne\, entre autres sur le Festival Couleurs Guitare 2016 et 2017. Parmi ces derniers albums\, notons « Bravo la vie » sorti en 2018 avec Laurence M et la participation de Louis Winsberg et Sylvain Luc\, en co-réalisation avec Michel Haumont et l’album « Kaleidoscope » à paraître en 2019 chez Acoustic Music Records en duo avec Michel Haumont. Guitariste qui absorbe véritablement tous les styles\, il s’approprie la sonorité de la guitare classique\, la liberté du jazz\, les techniques picking\, le feeling country ou encore l’énergie du rock. \nUn maître mot avec Joël Gombert : au service de l’émotion\, point de carcan !\nLes élèves guitaristes classique\, jazz et de musiques actuelles auront l’occasion de se retrouver autour de lui lors de la master class. À cette occasion\, cet instrument polymorphe sera approché de manière totalement nouvelle afin de susciter des ouvertures qui enrichiront la pratique de chacun. \nCrédit photo ACM
URL:https://2025.conservatoiregrandavignon.com/event/master-class-de-guitare-artiste-invite-joel-gombert/2019-10-10/
LOCATION:Auditorium Jean Moulin – Le Thor\, 971 Chem. des Estourans\, Le Thor\, 84250\, France
CATEGORIES:Saison 2019-2020,Saison pédagogique 2019-2020,Musique,Masterclass
ATTACH;FMTTYPE=image/jpeg:https://2025.conservatoiregrandavignon.com/wp-content/uploads/2019/09/MC-de-guitare-11-oct-2019-credit-photo-ACM-2019-31-scaled.jpg
END:VEVENT
END:VCALENDAR