BEGIN:VCALENDAR
VERSION:2.0
PRODID:-//Conservatoire à Rayonnement Régional du Grand Avignon - ECPv6.12.0.1//NONSGML v1.0//EN
CALSCALE:GREGORIAN
METHOD:PUBLISH
X-WR-CALNAME:Conservatoire à Rayonnement Régional du Grand Avignon
X-ORIGINAL-URL:https://2025.conservatoiregrandavignon.com
X-WR-CALDESC:Évènements pour Conservatoire à Rayonnement Régional du Grand Avignon
REFRESH-INTERVAL;VALUE=DURATION:PT1H
X-Robots-Tag:noindex
X-PUBLISHED-TTL:PT1H
BEGIN:VTIMEZONE
TZID:Europe/Paris
BEGIN:DAYLIGHT
TZOFFSETFROM:+0100
TZOFFSETTO:+0200
TZNAME:CEST
DTSTART:20190331T010000
END:DAYLIGHT
BEGIN:STANDARD
TZOFFSETFROM:+0200
TZOFFSETTO:+0100
TZNAME:CET
DTSTART:20191027T010000
END:STANDARD
END:VTIMEZONE
BEGIN:VEVENT
DTSTART;TZID=Europe/Paris:20191219T190000
DTEND;TZID=Europe/Paris:20191219T190000
DTSTAMP:20260423T143652
CREATED:20190918T162231Z
LAST-MODIFIED:20190923T014434Z
UID:21065-1576782000-1576782000@2025.conservatoiregrandavignon.com
SUMMARY:Concert de la classe de jazz\, de Philippe Coromp et Julien Tamisier
DESCRIPTION:Jeudi 19 décembre 2019\nEspace Leclerc\, Amphithéâtre Mozart\, 19h \n\n		\n		\n			\n				\n			\n			\n				\n			\n			\n				\n			\n			\n				\n			\n			\n				\n			\n			\n		\n\nCrédit photo Sélia Jacinto
URL:https://2025.conservatoiregrandavignon.com/event/concert-de-la-classe-de-jazz-de-philippe-coromp-et-julien-tamisier-3/
LOCATION:Auditorium Jean Moulin – Le Thor\, 971 Chem. des Estourans\, Le Thor\, 84250\, France
CATEGORIES:Saison 2019-2020,Saison artistique 2019-2020,Musique
ATTACH;FMTTYPE=image/jpeg:https://2025.conservatoiregrandavignon.com/wp-content/uploads/2019/09/19-dec-2019-classe-de-jazz-crédit-photo-Sjacinto-1.jpg
END:VEVENT
END:VCALENDAR