BEGIN:VCALENDAR
VERSION:2.0
PRODID:-//Conservatoire à Rayonnement Régional du Grand Avignon - ECPv6.12.0.1//NONSGML v1.0//EN
CALSCALE:GREGORIAN
METHOD:PUBLISH
X-WR-CALNAME:Conservatoire à Rayonnement Régional du Grand Avignon
X-ORIGINAL-URL:https://2025.conservatoiregrandavignon.com
X-WR-CALDESC:Évènements pour Conservatoire à Rayonnement Régional du Grand Avignon
REFRESH-INTERVAL;VALUE=DURATION:PT1H
X-Robots-Tag:noindex
X-PUBLISHED-TTL:PT1H
BEGIN:VTIMEZONE
TZID:Europe/Paris
BEGIN:DAYLIGHT
TZOFFSETFROM:+0100
TZOFFSETTO:+0200
TZNAME:CEST
DTSTART:20200329T010000
END:DAYLIGHT
BEGIN:STANDARD
TZOFFSETFROM:+0200
TZOFFSETTO:+0100
TZNAME:CET
DTSTART:20201025T010000
END:STANDARD
END:VTIMEZONE
BEGIN:VEVENT
DTSTART;TZID=Europe/Paris:20200116T160000
DTEND;TZID=Europe/Paris:20200118T120000
DTSTAMP:20260423T130421
CREATED:20200114T082828Z
LAST-MODIFIED:20200115T105806Z
UID:21756-1579190400-1579348800@2025.conservatoiregrandavignon.com
SUMMARY:Master class sur les flûtes du monde
DESCRIPTION:SIYOTANKA\, LE BÂTON QUI CHANTE\,\nExposition commentée et master classes sur les flûtes du monde.\nIntervenante : Annie Ploquin-Rignol \nJeudi 16 janvier 2020\n16h / 20h : Master classes sur les flûtes du monde (Irlande\, Chine\, Japon\, Amérique\, Roumanie\, Bali…etc )\nSalle de cours  \n\nVendredi 17 Janvier 2020\n16h30 / 20h30\, Amphithéâtre Mozart\nMaster classes sur les flûtes du monde \nSamedi 18 Janvier 2020\n9h30 / 12h : Amphithéâtre Mozart\nExposition sur les flûtes du monde\,\ncommentée et « musicalisée » \n\n\n\n    \n        \n            \n        \n        \n            \n                Bio Annie Ploquin-Rignol\n                \n                     15.17 KB\n                     19 downloads\n                \n            \n            ...\n        \n        \n            Télécharger\n        \n    \n\n\n\n\n \n 
URL:https://2025.conservatoiregrandavignon.com/event/master-class-sur-les-flutes-du-monde/2020-01-16/
LOCATION:Auditorium Jean Moulin – Le Thor\, 971 Chem. des Estourans\, Le Thor\, 84250\, France
CATEGORIES:Saison pédagogique 2019-2020,Masterclass
ATTACH;FMTTYPE=image/jpeg:https://2025.conservatoiregrandavignon.com/wp-content/uploads/2020/01/annie-ploquin-@camille-langlais.jpg
END:VEVENT
BEGIN:VEVENT
DTSTART;TZID=Europe/Paris:20200118T200000
DTEND;TZID=Europe/Paris:20200118T200000
DTSTAMP:20260423T130421
CREATED:20190918T163404Z
LAST-MODIFIED:20191002T093928Z
UID:21073-1579377600-1579377600@2025.conservatoiregrandavignon.com
SUMMARY:Concert des orchestres d'harmonie
DESCRIPTION:Samedi 18 janvier 2020\nSalle du Forum\, Les Angles\, 20h\nConcert des orchestres d’harmonie du conservatoire\, de Rochefort du Gard et de Montfavet \nDirection : Eric Sombret\, François Béguin et Philippe Brouard
URL:https://2025.conservatoiregrandavignon.com/event/concert-des-orchestres-symphoniques-2/
LOCATION:Salle du forum\, 10\, boulevard des carrières\, Les Angles
CATEGORIES:Saison 2019-2020,Saison artistique 2019-2020
ATTACH;FMTTYPE=image/jpeg:https://2025.conservatoiregrandavignon.com/wp-content/uploads/2019/10/DSC_6661.jpg
END:VEVENT
END:VCALENDAR