BEGIN:VCALENDAR
VERSION:2.0
PRODID:-//Conservatoire à Rayonnement Régional du Grand Avignon - ECPv6.12.0.1//NONSGML v1.0//EN
CALSCALE:GREGORIAN
METHOD:PUBLISH
X-WR-CALNAME:Conservatoire à Rayonnement Régional du Grand Avignon
X-ORIGINAL-URL:https://2025.conservatoiregrandavignon.com
X-WR-CALDESC:Évènements pour Conservatoire à Rayonnement Régional du Grand Avignon
REFRESH-INTERVAL;VALUE=DURATION:PT1H
X-Robots-Tag:noindex
X-PUBLISHED-TTL:PT1H
BEGIN:VTIMEZONE
TZID:Europe/Paris
BEGIN:DAYLIGHT
TZOFFSETFROM:+0100
TZOFFSETTO:+0200
TZNAME:CEST
DTSTART:20200329T010000
END:DAYLIGHT
BEGIN:STANDARD
TZOFFSETFROM:+0200
TZOFFSETTO:+0100
TZNAME:CET
DTSTART:20201025T010000
END:STANDARD
END:VTIMEZONE
BEGIN:VEVENT
DTSTART;TZID=Europe/Paris:20200129T170000
DTEND;TZID=Europe/Paris:20200129T183000
DTSTAMP:20260423T125929
CREATED:20190918T163604Z
LAST-MODIFIED:20200113T132437Z
UID:21075-1580317200-1580322600@2025.conservatoiregrandavignon.com
SUMMARY:Concert des classes de trompettes de Hervé Cunty\, William Sayd et François Bérody
DESCRIPTION:Mercredi 29 janvier 2020\nEspace Leclerc\, Amphithéâtre Mozart\, 17h\nConcert des classes de trompettes de Hervé Cunty\, William Sayd et François Bérody \nCrédit photo ACM
URL:https://2025.conservatoiregrandavignon.com/event/concert-des-classes-de-trompettes-de-herve-cunty-william-sayd-et-francois-berody/
LOCATION:Auditorium Jean Moulin – Le Thor\, 971 Chem. des Estourans\, Le Thor\, 84250\, France
CATEGORIES:Saison 2019-2020,Saison artistique 2019-2020
ATTACH;FMTTYPE=image/jpeg:https://2025.conservatoiregrandavignon.com/wp-content/uploads/2019/09/29-janv-2020-trompettes-credit-photo-ACM-17.jpg
END:VEVENT
END:VCALENDAR