BEGIN:VCALENDAR
VERSION:2.0
PRODID:-//Conservatoire à Rayonnement Régional du Grand Avignon - ECPv6.12.0.1//NONSGML v1.0//EN
CALSCALE:GREGORIAN
METHOD:PUBLISH
X-ORIGINAL-URL:https://2025.conservatoiregrandavignon.com
X-WR-CALDESC:Évènements pour Conservatoire à Rayonnement Régional du Grand Avignon
REFRESH-INTERVAL;VALUE=DURATION:PT1H
X-Robots-Tag:noindex
X-PUBLISHED-TTL:PT1H
BEGIN:VTIMEZONE
TZID:Europe/Paris
BEGIN:DAYLIGHT
TZOFFSETFROM:+0100
TZOFFSETTO:+0200
TZNAME:CEST
DTSTART:20200329T010000
END:DAYLIGHT
BEGIN:STANDARD
TZOFFSETFROM:+0200
TZOFFSETTO:+0100
TZNAME:CET
DTSTART:20201025T010000
END:STANDARD
END:VTIMEZONE
BEGIN:VEVENT
DTSTART;VALUE=DATE:20200131
DTEND;VALUE=DATE:20200202
DTSTAMP:20260423T101205
CREATED:20190918T163940Z
LAST-MODIFIED:20190923T015913Z
UID:21077-1580428800-1580601599@2025.conservatoiregrandavignon.com
SUMMARY:« A la découverte de la danse »
DESCRIPTION:Vendredi 31 janvier à 20h30 et samedi 1er février 2020 à 16h\nL’autre Scène\, Vedène \nRendez-vous annuel et désormais incontournable\, le pôle danse du Conservatoire lève le rideau sur le travail de l’ensemble de ses classes de danse\, des plus petits aux plus grands. Un spectacle millimétré pour des sensations décuplées ! \nEntrée libre sur réservation auprès de la billetterie de l’Opéra au 04 90 14 26 00 \nPour les familles des élèves danseurs\, retrait des places le vendredi 10 et le vendredi 17 janvier 2020 à la billetterie de l’Opéra.\nPour le public extérieur\, retrait des places à partir du mardi 21 janvier à l’Espace Leclerc du Conservatoire.\nLes réservations se font uniquement sur place.\nSpectacle chorégraphié co-organisé avec l’APECDA. \n\n		\n		\n			\n				\n			\n			\n				\n			\n			\n		\n\nCrédit photo ACM
URL:https://2025.conservatoiregrandavignon.com/event/a-la-decouverte-de-la-danse-2/
LOCATION:L’Autre Scène\, Av. Pierre de Coubertin\, Vedène\, Vaucluse\, 84270
CATEGORIES:Saison 2019-2020,Saison artistique 2019-2020
ATTACH;FMTTYPE=image/jpeg:https://2025.conservatoiregrandavignon.com/wp-content/uploads/2019/09/31-janv-et-1-er-fev-danse-2019-credit-photo-ACM2-2.jpg
END:VEVENT
END:VCALENDAR