BEGIN:VCALENDAR
VERSION:2.0
PRODID:-//Conservatoire à Rayonnement Régional du Grand Avignon - ECPv6.12.0.1//NONSGML v1.0//EN
CALSCALE:GREGORIAN
METHOD:PUBLISH
X-WR-CALNAME:Conservatoire à Rayonnement Régional du Grand Avignon
X-ORIGINAL-URL:https://2025.conservatoiregrandavignon.com
X-WR-CALDESC:Évènements pour Conservatoire à Rayonnement Régional du Grand Avignon
REFRESH-INTERVAL;VALUE=DURATION:PT1H
X-Robots-Tag:noindex
X-PUBLISHED-TTL:PT1H
BEGIN:VTIMEZONE
TZID:Europe/Paris
BEGIN:DAYLIGHT
TZOFFSETFROM:+0100
TZOFFSETTO:+0200
TZNAME:CEST
DTSTART:20200329T010000
END:DAYLIGHT
BEGIN:STANDARD
TZOFFSETFROM:+0200
TZOFFSETTO:+0100
TZNAME:CET
DTSTART:20201025T010000
END:STANDARD
END:VTIMEZONE
BEGIN:VEVENT
DTSTART;VALUE=DATE:20200205
DTEND;VALUE=DATE:20200209
DTSTAMP:20260423T100209
CREATED:20190918T164534Z
LAST-MODIFIED:20190930T070350Z
UID:21082-1580860800-1581206399@2025.conservatoiregrandavignon.com
SUMMARY:« Cage-Scarlatti\, l’harmonie des opposés »
DESCRIPTION:Du mercredi 5 au samedi 8 février 2020\nEspace Leclerc\, Amphithéâtre Mozart\n« Cage-Scarlatti\, l’harmonie des opposés »
URL:https://2025.conservatoiregrandavignon.com/event/cage-scarlatti-lharmonie-des-opposes/
LOCATION:Auditorium Jean Moulin – Le Thor\, 971 Chem. des Estourans\, Le Thor\, 84250\, France
CATEGORIES:Saison 2019-2020,Saison artistique 2019-2020,Musique
ATTACH;FMTTYPE=image/jpeg:https://2025.conservatoiregrandavignon.com/wp-content/uploads/2019/09/5-au-8-fev-2020-piano-prepare-libre-de-droit.jpg
END:VEVENT
BEGIN:VEVENT
DTSTART;TZID=Europe/Paris:20200206T140000
DTEND;TZID=Europe/Paris:20200206T170000
DTSTAMP:20260423T100209
CREATED:20190918T204945Z
LAST-MODIFIED:20191023T132552Z
UID:21176-1580997600-1581008400@2025.conservatoiregrandavignon.com
SUMMARY:Atelier de préparation de piano avec Antoine Didry
DESCRIPTION:Jeudi 6 février 2020\nEspace Leclerc\, Amphithéâtre Mozart\, 14h-17h \nJOHN CAGE\, Sonates et Interludes pour piano préparé \nEn 1938\, John Cage invente le piano préparé pour répondre dans l’urgence à une commande de musique pour ballet. N’ayant pas de place pour accueillir un ensemble de percussion\, Cage explore alors les possibilités illimitées du piano pour créer de nouveaux sons. Il insère entre les cordes différents types de vis\, gommes\, boulons\, écrous\, plastiques\, caoutchoucs… Dix ans plus tard\, John Cage écrit les Sonates et Interludes pour piano préparé\, oeuvre magique dont les mélodies de timbres évoquent des sonorités des plus exotiques rappelant les Gamelans de Bali… \nA l’aide du matériel préconisé par John Cage\, Antoine Didry-Demarle expliquera aux élèves comment préparer un piano\, et quelles techniques déployer pour interpréter ce répertoire totalement original. Il mettra en regard d’autres oeuvres du répertoire classique\, en particulier les Sonates pour clavier de Domenico Scarlatti\, afin de mettre en valeur ce qui unie ou sépare des esthétiques a priori opposées. Cet atelier – master classe permettra de découvrir un monde sonore inouï\, à la recherche d’une nouvelle écoute… \nCes 3 journées d’atelier se concluront par une performance du Duo Métamorphoses (Andrea Corazziari & Antoine Didry-Demarle) : CAGE / SCARLATTI\, l’Harmonie des Opposés… \n  \nBIO : Antoine DIDRY-DEMARLE\nhttp://www.serenadesenbaronnies.fr/les-artistes/211-antoine-didry-delarme\nou\nhttps://www.musicalta.com/project/antoine-didry-demarle/ \n(crédit photo : Gaspard Brunet)
URL:https://2025.conservatoiregrandavignon.com/event/atelier-de-preparation-de-piano-avec-antoine-didry/
LOCATION:Auditorium Jean Moulin – Le Thor\, 971 Chem. des Estourans\, Le Thor\, 84250\, France
CATEGORIES:Atelier,Saison 2019-2020,Saison pédagogique 2019-2020
ATTACH;FMTTYPE=image/jpeg:https://2025.conservatoiregrandavignon.com/wp-content/uploads/2019/10/05020035-Copie-2.jpg
END:VEVENT
BEGIN:VEVENT
DTSTART;TZID=Europe/Paris:20200206T190000
DTEND;TZID=Europe/Paris:20200206T190000
DTSTAMP:20260423T100209
CREATED:20190918T164754Z
LAST-MODIFIED:20200127T075129Z
UID:21084-1581015600-1581015600@2025.conservatoiregrandavignon.com
SUMMARY:Concert du duo "Métamorphoses"
DESCRIPTION:Jeudi 6 février 2020\nEspace Leclerc\, Amphithéâtre Mozart\, 19h\nCAGE –SCARLATTI\, l’harmonie des opposés \nL’intégrale des Sonates and Interludes de John Cage (1912-1992) pour piano préparé dialogue avec un choix de sonates pour clavier de Domenico Scarlatti (1685-1757). \nDeux pianistes sont sur la scène et assurent le voyage musical… \n“La question est de savoir si oui ou non\, on écoute…” – John Cage \nBio :\nNé de la rencontre entre les pianistes italien et français Andrea Corazziari et Antoine Didry-Demarle\, le Duo Métamorphoses\, créé à Paris en 2007\, se produit dans de multiples formations : piano à 4 mains\, deux pianos à 4 mains\, piano préparé. Il s’intéresse tout particulièrement au répertoire américain (John Cage\, Steve Reich\, George Crumb\, John Adams) ainsi qu’aux compositeurs européens comme György Ligeti\, Giovanni Sollima\, Gustav Mahler\, Igor Stravinsky\, Béla Bartok\, Claude Debussy\, Simeon ten Holt. Il réalise en février 2008 la création française de Musica per due pianoforti de Fausto Razzi\, en 2019 la création mondiale de Discorso di Gagarin de Mauro Lanza. \nLe Duo Métamorphoses se produit régulièrement dans toute l’Europe : Victoria Hall à Genève\, Amphithéâtre de la Sorbonne à Paris\, Abbaye des Dominicains à Guebwiller\, Teatro Valli de Reggio Emilia… En Suisse\, les performances remarquées du Duo ont été enregistrées par la RSR et la RSI\, notamment pour la performance du Kammerkonzert de Ligeti dirigé par Heinz Holliger. Depuis plusieurs années\, le Duo Métamorphoses collabore avec le Festival Via Lattea de Lugano\, pour lequel il réalise la performance intégrale du Catalogue d’Oiseaux d’Olivier Messiaen\, interprété jour et nuit et en pleine forêt. \nParmi le prochains rendez-vous du duo\, un projet dédié à Fauré à Lugano en septembre 2020.
URL:https://2025.conservatoiregrandavignon.com/event/concert-cage-et-scarlatti-avec-les-classes-du-departement-piano/
LOCATION:Auditorium Jean Moulin – Le Thor\, 971 Chem. des Estourans\, Le Thor\, 84250\, France
CATEGORIES:Saison 2019-2020,Saison artistique 2019-2020,Musique
ATTACH;FMTTYPE=image/jpeg:https://2025.conservatoiregrandavignon.com/wp-content/uploads/2019/09/duo-metamorphose.jpg
END:VEVENT
END:VCALENDAR