BEGIN:VCALENDAR
VERSION:2.0
PRODID:-//Conservatoire à Rayonnement Régional du Grand Avignon - ECPv6.12.0.1//NONSGML v1.0//EN
CALSCALE:GREGORIAN
METHOD:PUBLISH
X-WR-CALNAME:Conservatoire à Rayonnement Régional du Grand Avignon
X-ORIGINAL-URL:https://2025.conservatoiregrandavignon.com
X-WR-CALDESC:Évènements pour Conservatoire à Rayonnement Régional du Grand Avignon
REFRESH-INTERVAL;VALUE=DURATION:PT1H
X-Robots-Tag:noindex
X-PUBLISHED-TTL:PT1H
BEGIN:VTIMEZONE
TZID:Europe/Paris
BEGIN:DAYLIGHT
TZOFFSETFROM:+0100
TZOFFSETTO:+0200
TZNAME:CEST
DTSTART:20200329T010000
END:DAYLIGHT
BEGIN:STANDARD
TZOFFSETFROM:+0200
TZOFFSETTO:+0100
TZNAME:CET
DTSTART:20201025T010000
END:STANDARD
END:VTIMEZONE
BEGIN:VEVENT
DTSTART;VALUE=DATE:20200205
DTEND;VALUE=DATE:20200209
DTSTAMP:20260423T130002
CREATED:20190918T164534Z
LAST-MODIFIED:20190930T070350Z
UID:21082-1580860800-1581206399@2025.conservatoiregrandavignon.com
SUMMARY:« Cage-Scarlatti\, l’harmonie des opposés »
DESCRIPTION:Du mercredi 5 au samedi 8 février 2020\nEspace Leclerc\, Amphithéâtre Mozart\n« Cage-Scarlatti\, l’harmonie des opposés »
URL:https://2025.conservatoiregrandavignon.com/event/cage-scarlatti-lharmonie-des-opposes/
LOCATION:Auditorium Jean Moulin – Le Thor\, 971 Chem. des Estourans\, Le Thor\, 84250\, France
CATEGORIES:Saison 2019-2020,Saison artistique 2019-2020,Musique
ATTACH;FMTTYPE=image/jpeg:https://2025.conservatoiregrandavignon.com/wp-content/uploads/2019/09/5-au-8-fev-2020-piano-prepare-libre-de-droit.jpg
END:VEVENT
BEGIN:VEVENT
DTSTART;TZID=Europe/Paris:20200207T100000
DTEND;TZID=Europe/Paris:20200207T180000
DTSTAMP:20260423T130002
CREATED:20191107T122130Z
LAST-MODIFIED:20200117T101209Z
UID:21611-1581069600-1581098400@2025.conservatoiregrandavignon.com
SUMMARY:WORK SHOP - CAGE et SCARLATTI
DESCRIPTION:Atelier piano/clavecin\n10h-13h et 14h -18h
URL:https://2025.conservatoiregrandavignon.com/event/work-shop-cage-et-scarlatti/
LOCATION:Auditorium Jean Moulin – Le Thor\, 971 Chem. des Estourans\, Le Thor\, 84250\, France
CATEGORIES:Saison artistique 2019-2020
ATTACH;FMTTYPE=image/jpeg:https://2025.conservatoiregrandavignon.com/wp-content/uploads/2019/11/05020035-Copie-2.jpg
END:VEVENT
END:VCALENDAR