BEGIN:VCALENDAR
VERSION:2.0
PRODID:-//Conservatoire à Rayonnement Régional du Grand Avignon - ECPv6.12.0.1//NONSGML v1.0//EN
CALSCALE:GREGORIAN
METHOD:PUBLISH
X-WR-CALNAME:Conservatoire à Rayonnement Régional du Grand Avignon
X-ORIGINAL-URL:https://2025.conservatoiregrandavignon.com
X-WR-CALDESC:Évènements pour Conservatoire à Rayonnement Régional du Grand Avignon
REFRESH-INTERVAL;VALUE=DURATION:PT1H
X-Robots-Tag:noindex
X-PUBLISHED-TTL:PT1H
BEGIN:VTIMEZONE
TZID:Europe/Paris
BEGIN:DAYLIGHT
TZOFFSETFROM:+0100
TZOFFSETTO:+0200
TZNAME:CEST
DTSTART:20200329T010000
END:DAYLIGHT
BEGIN:STANDARD
TZOFFSETFROM:+0200
TZOFFSETTO:+0100
TZNAME:CET
DTSTART:20201025T010000
END:STANDARD
END:VTIMEZONE
BEGIN:VEVENT
DTSTART;VALUE=DATE:20200205
DTEND;VALUE=DATE:20200209
DTSTAMP:20260423T130447
CREATED:20190918T164534Z
LAST-MODIFIED:20190930T070350Z
UID:21082-1580860800-1581206399@2025.conservatoiregrandavignon.com
SUMMARY:« Cage-Scarlatti\, l’harmonie des opposés »
DESCRIPTION:Du mercredi 5 au samedi 8 février 2020\nEspace Leclerc\, Amphithéâtre Mozart\n« Cage-Scarlatti\, l’harmonie des opposés »
URL:https://2025.conservatoiregrandavignon.com/event/cage-scarlatti-lharmonie-des-opposes/
LOCATION:Auditorium Jean Moulin – Le Thor\, 971 Chem. des Estourans\, Le Thor\, 84250\, France
CATEGORIES:Saison 2019-2020,Saison artistique 2019-2020,Musique
ATTACH;FMTTYPE=image/jpeg:https://2025.conservatoiregrandavignon.com/wp-content/uploads/2019/09/5-au-8-fev-2020-piano-prepare-libre-de-droit.jpg
END:VEVENT
BEGIN:VEVENT
DTSTART;TZID=Europe/Paris:20200208T100000
DTEND;TZID=Europe/Paris:20200208T163000
DTSTAMP:20260423T130447
CREATED:20191107T122314Z
LAST-MODIFIED:20200117T102208Z
UID:21613-1581156000-1581179400@2025.conservatoiregrandavignon.com
SUMMARY:WORK SHOP - CAGE et SCARLATTI
DESCRIPTION:9h30-13h et 14h00-15h30 Ateliers\n16h30  Concert de Restitution des ateliers\n \nJOHN CAGE\, Sonates et Interludes pour piano préparé \nEn 1938\, John Cage invente le piano préparé pour répondre dans l’urgence à une commande de musique pour ballet. N’ayant pas de place pour accueillir un ensemble de percussion\, Cage explore alors les possibilités illimitées du piano pour créer de nouveaux sons. Il insère entre les cordes différents types de vis\, gommes\, boulons\, écrous\, plastiques\, caoutchoucs… Dix ans plus tard\, John Cage écrit les Sonates et Interludes pour piano préparé\, oeuvre magique dont les mélodies de timbres évoquent des sonorités des plus exotiques rappelant les Gamelans de Bali… \nA l’aide du matériel préconisé par John Cage\, Antoine Didry-Demarle expliquera aux élèves comment préparer un piano\, et quelles techniques déployer pour interpréter ce répertoire totalement original. Il mettra en regard d’autres oeuvres du répertoire classique\, en particulier les Sonates pour clavier de Domenico Scarlatti\, afin de mettre en valeur ce qui unie ou sépare des esthétiques a priori opposées. Cet atelier – master classe permettra de découvrir un monde sonore inouï\, à la recherche d’une nouvelle écoute… \nCes 3 journées d’atelier se concluront par une performance du Duo Métamorphoses (Andrea Corazziari & Antoine Didry-Demarle) : \nCAGE / SCARLATTI\, l’Harmonie des Opposés… \n  \nAntoine DIDRY-DEMARLE \nhttp://www.serenadesenbaronnies.fr/les-artistes/211-antoine-didry-delarme \nou \nhttps://www.musicalta.com/project/antoine-didry-demarle/ \n(crédit photo : Gaspard Brunet).
URL:https://2025.conservatoiregrandavignon.com/event/work-shop-cage-et-scarlatti-2/2020-02-08/
LOCATION:Auditorium Jean Moulin – Le Thor\, 971 Chem. des Estourans\, Le Thor\, 84250\, France
CATEGORIES:Saison artistique 2019-2020
ATTACH;FMTTYPE=image/jpeg:https://2025.conservatoiregrandavignon.com/wp-content/uploads/2019/11/05020035-Copie-2.jpg
END:VEVENT
BEGIN:VEVENT
DTSTART;TZID=Europe/Paris:20200208T140000
DTEND;TZID=Europe/Paris:20200208T170000
DTSTAMP:20260423T130447
CREATED:20190918T205144Z
LAST-MODIFIED:20191023T133623Z
UID:21178-1581170400-1581181200@2025.conservatoiregrandavignon.com
SUMMARY:Master class de guitare - Artiste invité : Thibault Garcia
DESCRIPTION:Samedi 8 février 2020\nEspace Leclerc\, Salle Debussy\, 14h – 17h \nCette master-class accompagne le concert de Thibaut Garcia du dimanche 9 février dans le cadre de « Musique Baroque en Avignon ». Les élèves guitaristes du Conservatoire et bénéficieront d’une rencontre durant laquelle ils auront l’occasion de noter de précieux conseils tant sur le plan technique que musical \nThibaut Garcia – Biographie\nGuitariste d’origine franco-espagnole\, Thibaut Garcia est né en 1994 à Toulouse où il débute l’apprentissage de la guitare {l’âge de sept ans. Il y obtient son prix de guitare dans la classe de Paul Ferret. À 16 ans\, il est admis au Conservatoire National Supérieur de Musique et de Danse de Paris dans la classe d’Olivier Chassain et bénéficie en parallèle des conseils de Judicaël Perroy.\nÀ 16 ans\, il remporte le Premier Prix du concours Ana Amalia à Weimar en Allemagne. Depuis\, il a remporté les premiers prix de nombreux concours internationaux\, et notamment celui de la Guitar Foundation of America à Oklahoma City aux Etats-Unis en 2015\, du José Tomas à Petrer en Espagne en 2014\, et du Concours international de Séville en Espagne de 2013. Il y est depuis invité pour donner des master-classes et faire partie de leurs jurys. En 2015\, il est nommé filleul de l’Académie Charles Cros. En 2019\, il est nommé « Révélation Instrumentale » des Victoires de la Musique Classique. \nThibaut Garcia joue désormais dans les plus grands festivals de guitare à travers le monde : Australie\, Canada\, Espagne\, Finlande\, Suisse\, Belgique\, Allemagne\, France\, Italie\, Monténégro\, Chili\, Nouvelle-Calédonie\, Etats-Unis\, Brésil\, Argentine\, Mexique\, Roumanie\, Russie… Durant la saison 2016-2017\, il a donné plus de soixante concerts aux Etats-Unis et au Canada. Il se produit depuis en récital au Festival Radio France Occitanie Montpellier\, au Festival Toulouse d’été\, {l’Auditorium de Bordeaux\, au Wigmore Hall {Londres\, au Konzerthaus de Wien\, au Concertgebouw d’Amsterdam\, au Tchaikovsky Hall de Moscou\, {la Salle Bourgie de Montréal\, au Centre de Musique de Chambre de Paris Salle Cortot\, {l’Auditorium du Musée d’Orsay\, aux Grands Interprètes {Toulouse\, au Festival Musiq’3 {Bruxelles\, { la Seine Musicale… \nEn 2016\, Thibaut Garcia a fait ses débuts en concerto avec l’Orchestre National du Capitole de Toulouse. Il a joué depuis en concerto notamment avec l’Orchestre Philharmonique de Baden-Baden\, l’Orchestre National de Montpellier\, l’Orchestre de Dijon-Bourgogne\, l’Orchestre de Cannes\, l’Orchestre de l’Opéra de Nice\, et les orchestres de la BBC. \nEn 2017\, Thibaut Garcia est nommé New GenerationArtist par la BBC\, ce qui l’amène {se produire en récital et concerto aux Royaume-Uni\, faisant notamment ses débuts au Wigmore Hall à Londres. \nEn musique de chambre\, Thibaut Garcia se produit aux côtés d’Edgar Moreau\, de Raphaël Sévère\, d’Elsa Dreisig\, de Jean-Frédéric Neuburger\, d’Antoine Mornière\, de Boris Grelier\, d’Anaïs Constans\, des frères La Marca\, de Kathryn Rudge\, du Quatuor Arod… \nEn 2016\, il rejoint en exclusivité Warner Classics Erato pour ses projets discographiques\, avec un premier disque Leyendas. Son deuxième disque\, en hommage à J.-S. Bach est sorti à l’automne 2018. \n \n© Mélissa Kavanagh
URL:https://2025.conservatoiregrandavignon.com/event/master-class-de-guitare-artiste-invite-thibault-garcia/
LOCATION:Auditorium Jean Moulin – Le Thor\, 971 Chem. des Estourans\, Le Thor\, 84250\, France
CATEGORIES:Saison 2019-2020,Saison pédagogique 2019-2020,Artistes invités 2019-2020,Masterclass
ATTACH;FMTTYPE=image/jpeg:https://2025.conservatoiregrandavignon.com/wp-content/uploads/2019/10/Thibaut5bw-©-Mélissa-Kavanagh.jpg
END:VEVENT
BEGIN:VEVENT
DTSTART;TZID=Europe/Paris:20200208T163000
DTEND;TZID=Europe/Paris:20200208T173000
DTSTAMP:20260423T130447
CREATED:20190918T165147Z
LAST-MODIFIED:20200130T075128Z
UID:21088-1581179400-1581183000@2025.conservatoiregrandavignon.com
SUMMARY:Concert de restitution du WORK SHOP
DESCRIPTION:Espace Leclerc\, Amphithéâtre Mozart\, 16h30 \nConcert de restitution des ateliers d’harmonisation et de préparation piano du 7 et 8 février 2020\, avec les classes du département piano
URL:https://2025.conservatoiregrandavignon.com/event/concert-de-restitution-des-ateliers-dharmonisation-et-de-preparation-piano/
LOCATION:Auditorium Jean Moulin – Le Thor\, 971 Chem. des Estourans\, Le Thor\, 84250\, France
CATEGORIES:Saison 2019-2020,Saison artistique 2019-2020
ATTACH;FMTTYPE=image/png:https://2025.conservatoiregrandavignon.com/wp-content/uploads/2019/09/Les-temps-reunis.png
END:VEVENT
END:VCALENDAR