BEGIN:VCALENDAR
VERSION:2.0
PRODID:-//Conservatoire à Rayonnement Régional du Grand Avignon - ECPv6.12.0.1//NONSGML v1.0//EN
CALSCALE:GREGORIAN
METHOD:PUBLISH
X-ORIGINAL-URL:https://2025.conservatoiregrandavignon.com
X-WR-CALDESC:Évènements pour Conservatoire à Rayonnement Régional du Grand Avignon
REFRESH-INTERVAL;VALUE=DURATION:PT1H
X-Robots-Tag:noindex
X-PUBLISHED-TTL:PT1H
BEGIN:VTIMEZONE
TZID:Europe/Paris
BEGIN:DAYLIGHT
TZOFFSETFROM:+0100
TZOFFSETTO:+0200
TZNAME:CEST
DTSTART:20200329T010000
END:DAYLIGHT
BEGIN:STANDARD
TZOFFSETFROM:+0200
TZOFFSETTO:+0100
TZNAME:CET
DTSTART:20201025T010000
END:STANDARD
END:VTIMEZONE
BEGIN:VEVENT
DTSTART;VALUE=DATE:20200304
DTEND;VALUE=DATE:20200307
DTSTAMP:20260423T101746
CREATED:20190918T205716Z
LAST-MODIFIED:20191024T150655Z
UID:21184-1583280000-1583539199@2025.conservatoiregrandavignon.com
SUMMARY:Master class auprès du Big Band par Frédéric Manoukian
DESCRIPTION:Du mercredi 4 au vendredi 6 mars 2020\nAuditorium Grand Avignon\, Le Pontet\, 10h-12h et 14h-17h \nPianiste\, compositeur\, arrangeur et chef d’orchestre\, il a fondé et dirige diverses formations telles que le Frédéric Manoukian Big Band\, un orchestre de 19 musiciens.\nIl est notamment l’accompagnateur de l’artiste Laurent Gerra pendant son show au Palais des Sports le 12 février 2011. \nBIO : Arrangeur et Directeur Musical des émissions présentées par Michel Drucker sur France 2 : Samedi soir avec…\, Tenue de Soirée\, Tour en Fête\, Cérémonie des Molières 2008\, c’est ainsi qu’il rencontre Laurent Gerra qu’il suivra pendant 10 ans.\nSon Frédéric Manoukian Big Band a également accompagné Paul Anka\, Robin Mc Kelle\, Sophia Nelson\, Roberto Alagna\, Johnny Halliday\, Patrick Bruel\, Nolwenn Leroy\, Patrick Fiori\, Liane Foly\, Julien Clerc\, Hélène Ségara\, Tina Arena\, Yannick Noah\, Florent Pagny\, Michel Leeb\, Enrico Macias\, Adamo\, Pascal Obispo\, Michel Delpech\, Maurane\, Laura Pausini\, Marcel Amont\, Nicole Croisille\, Michel Fugain\, Charlélie Couture\, Jeane Manson\, Michel Jonasz… \nCrédit photo Sjacinto
URL:https://2025.conservatoiregrandavignon.com/event/master-class-aupres-du-big-band-par-frederic-manoukian/
LOCATION:Église du Pontet\, 7 Avenue de l'Église\, Le Pontet\, 84130\, France
CATEGORIES:Saison 2019-2020,Saison pédagogique 2019-2020,Artistes invités 2019-2020,Musique,Masterclass
ATTACH;FMTTYPE=image/jpeg:https://2025.conservatoiregrandavignon.com/wp-content/uploads/2019/10/img-slide-invite-01MANOUKIAN.jpg
END:VEVENT
BEGIN:VEVENT
DTSTART;TZID=Europe/Paris:20200306T200000
DTEND;TZID=Europe/Paris:20200306T200000
DTSTAMP:20260423T101746
CREATED:20190918T184616Z
LAST-MODIFIED:20190930T082839Z
UID:21098-1583524800-1583524800@2025.conservatoiregrandavignon.com
SUMMARY:Concert du Big Band suite aux trois journées d’atelier avec Frédéric Manoukian\, dirigé par Olivier Piot.
DESCRIPTION:Vendredi 6 mars 2020\nAuditorium Grand Avignon\, Le Pontet\, 20h\nConcert du Big Band suite aux trois journées d’atelier avec Frédéric Manoukian\, dirigé par Olivier Piot. \nCrédit photo : Sjacinto \n\n		\n		\n			\n				\n			\n			\n				\n			\n			\n				\n			\n			\n				\n			\n		\n\n 
URL:https://2025.conservatoiregrandavignon.com/event/concert-du-big-band-suite-aux-trois-journees-datelier-avec-frederic-manoukian-dirige-par-olivier-piot/
LOCATION:Église du Pontet\, 7 Avenue de l'Église\, Le Pontet\, 84130\, France
CATEGORIES:Saison 2019-2020,Saison artistique 2019-2020,Musique
ATTACH;FMTTYPE=image/jpeg:https://2025.conservatoiregrandavignon.com/wp-content/uploads/2019/09/6-mars-2020-big-band-crédit-photo-Sjacinto-4.jpg
END:VEVENT
END:VCALENDAR