BEGIN:VCALENDAR
VERSION:2.0
PRODID:-//Conservatoire à Rayonnement Régional du Grand Avignon - ECPv6.12.0.1//NONSGML v1.0//EN
CALSCALE:GREGORIAN
METHOD:PUBLISH
X-WR-CALNAME:Conservatoire à Rayonnement Régional du Grand Avignon
X-ORIGINAL-URL:https://2025.conservatoiregrandavignon.com
X-WR-CALDESC:Évènements pour Conservatoire à Rayonnement Régional du Grand Avignon
REFRESH-INTERVAL;VALUE=DURATION:PT1H
X-Robots-Tag:noindex
X-PUBLISHED-TTL:PT1H
BEGIN:VTIMEZONE
TZID:Europe/Paris
BEGIN:DAYLIGHT
TZOFFSETFROM:+0100
TZOFFSETTO:+0200
TZNAME:CEST
DTSTART:20200329T010000
END:DAYLIGHT
BEGIN:STANDARD
TZOFFSETFROM:+0200
TZOFFSETTO:+0100
TZNAME:CET
DTSTART:20201025T010000
END:STANDARD
END:VTIMEZONE
BEGIN:VEVENT
DTSTART;TZID=Europe/Paris:20200313T183000
DTEND;TZID=Europe/Paris:20200313T183000
DTSTAMP:20260423T113217
CREATED:20190918T184910Z
LAST-MODIFIED:20190930T084442Z
UID:21100-1584124200-1584124200@2025.conservatoiregrandavignon.com
SUMMARY:« Les tableaux d’une exposition » de Georges Moussorgski
DESCRIPTION:Gymnase du Lycée Mistral\, 18h30\n« Les tableaux d’une exposition » de Georges Moussorgski\nConcert de l’orchestre d’harmonie\nDirection : Éric Sombret\nMise en scène : Alain Timár \nEn collaboration avec la classe d’orchestration de Grégoire Rolland pour l’arrangement des partitions\, Parcours artistique et culturelle\, les classes Histoire des arts\, art plastique et musique du lycée et college mistral et le musée Calvet. \nCrédit photo ACM
URL:https://2025.conservatoiregrandavignon.com/event/les-tableaux-dune-exposition-de-georges-moussorgski/
LOCATION:Lycée Mistral\, Rue d'Annanelle\, Avignon\, 84000
CATEGORIES:Saison 2019-2020,Saison artistique 2019-2020
ATTACH;FMTTYPE=image/jpeg:https://2025.conservatoiregrandavignon.com/wp-content/uploads/2019/09/13-mars-2020-OH-credit-photo-ACM-5.jpg
END:VEVENT
END:VCALENDAR