BEGIN:VCALENDAR
VERSION:2.0
PRODID:-//Conservatoire à Rayonnement Régional du Grand Avignon - ECPv6.12.0.1//NONSGML v1.0//EN
CALSCALE:GREGORIAN
METHOD:PUBLISH
X-ORIGINAL-URL:https://2025.conservatoiregrandavignon.com
X-WR-CALDESC:Évènements pour Conservatoire à Rayonnement Régional du Grand Avignon
REFRESH-INTERVAL;VALUE=DURATION:PT1H
X-Robots-Tag:noindex
X-PUBLISHED-TTL:PT1H
BEGIN:VTIMEZONE
TZID:Europe/Paris
BEGIN:DAYLIGHT
TZOFFSETFROM:+0100
TZOFFSETTO:+0200
TZNAME:CEST
DTSTART:20200329T010000
END:DAYLIGHT
BEGIN:STANDARD
TZOFFSETFROM:+0200
TZOFFSETTO:+0100
TZNAME:CET
DTSTART:20201025T010000
END:STANDARD
END:VTIMEZONE
BEGIN:VEVENT
DTSTART;VALUE=DATE:20200320
DTEND;VALUE=DATE:20200322
DTSTAMP:20260423T085130
CREATED:20190918T210141Z
LAST-MODIFIED:20190930T090034Z
UID:21188-1584662400-1584835199@2025.conservatoiregrandavignon.com
SUMMARY:Master class de violoncelle - Artiste invité : Yannick Callier
DESCRIPTION:Du vendredi 20 mars au dimanche 21 mars 2020\nAuditorium Grand Avignon\, Le Pontet\nEspace Leclerc\, Amphithéâtre Mozart \nÉlèves des classes de violoncelle du Conservatoire et de l’école de musique de Rochefort-du-Gard \nYannick Callier\, professeur de musique de chambre au Conservatoire à Rayonnement Régional de Nice\, 1er prix au concours international d’Evian\, invité en tant que violoncelle solo dans de nombreux orchestres viendra faire profiter les jeunes violoncellistes de sa pédagogie et de son grand sens musical adapté à chacun. \nPhoto ACM
URL:https://2025.conservatoiregrandavignon.com/event/master-class-de-violoncelle-artiste-invite-yannick-callier/
LOCATION:Auditorium Jean Moulin – Le Thor\, 971 Chem. des Estourans\, Le Thor\, 84250\, France
CATEGORIES:Saison 2019-2020,Saison pédagogique 2019-2020,Artistes invités 2019-2020,Musique,Masterclass
ATTACH;FMTTYPE=image/jpeg:https://2025.conservatoiregrandavignon.com/wp-content/uploads/2019/09/21-et-22-mars-2020-violoncelle-credit-photo-ACM-3.jpg
END:VEVENT
BEGIN:VEVENT
DTSTART;TZID=Europe/Paris:20200321T200000
DTEND;TZID=Europe/Paris:20200321T200000
DTSTAMP:20260423T085130
CREATED:20190918T185450Z
LAST-MODIFIED:20190930T085912Z
UID:21104-1584820800-1584820800@2025.conservatoiregrandavignon.com
SUMMARY:Concert des ensembles de violoncelle
DESCRIPTION:Samedi 21 mars 2020\nAuditorium du Grand Avignon\, Le Pontet\, 20h\nConcert des ensembles de violoncelle \nUn spectacle dédié aux plus belles musiques de film. Avec les classes de violoncelles du Conservatoire du Grand Avignon et les classes de Villeneuve-lès-Avignon et de Pont-Saint-Esprit. \nPhoto ACM
URL:https://2025.conservatoiregrandavignon.com/event/concert-des-ensembles-de-violoncelle/
LOCATION:Église du Pontet\, 7 Avenue de l'Église\, Le Pontet\, 84130\, France
CATEGORIES:Saison 2019-2020,Saison artistique 2019-2020,Musique
ATTACH;FMTTYPE=image/jpeg:https://2025.conservatoiregrandavignon.com/wp-content/uploads/2019/09/21-et-22-mars-2020-violoncelle-credit-photo-ACM-1.jpg
END:VEVENT
END:VCALENDAR