BEGIN:VCALENDAR
VERSION:2.0
PRODID:-//Conservatoire à Rayonnement Régional du Grand Avignon - ECPv6.12.0.1//NONSGML v1.0//EN
CALSCALE:GREGORIAN
METHOD:PUBLISH
X-WR-CALNAME:Conservatoire à Rayonnement Régional du Grand Avignon
X-ORIGINAL-URL:https://2025.conservatoiregrandavignon.com
X-WR-CALDESC:Évènements pour Conservatoire à Rayonnement Régional du Grand Avignon
REFRESH-INTERVAL;VALUE=DURATION:PT1H
X-Robots-Tag:noindex
X-PUBLISHED-TTL:PT1H
BEGIN:VTIMEZONE
TZID:Europe/Paris
BEGIN:DAYLIGHT
TZOFFSETFROM:+0100
TZOFFSETTO:+0200
TZNAME:CEST
DTSTART:20200329T010000
END:DAYLIGHT
BEGIN:STANDARD
TZOFFSETFROM:+0200
TZOFFSETTO:+0100
TZNAME:CET
DTSTART:20201025T010000
END:STANDARD
END:VTIMEZONE
BEGIN:VEVENT
DTSTART;VALUE=DATE:20200427
DTEND;VALUE=DATE:20200501
DTSTAMP:20260423T100411
CREATED:20190918T211245Z
LAST-MODIFIED:20190930T114812Z
UID:21196-1587945600-1588291199@2025.conservatoiregrandavignon.com
SUMMARY:Master class avec l’ensemble « Trio TRÂ »
DESCRIPTION:Du lundi 27 au jeudi 30 avril 2020\nAuditorium Grand Avignon\, Le Pontet \nCette proposition est adossée à un projet pédagogique destiné aux Conservatoires dans lequel un panel de pièces de théâtre musical\, adaptées aux élèves de tous cycles\, leur permet de se trouver dans une situation où la voix\, l’image et les gestes prennent toute leur importance. Adaptée à tous les instruments\, du soliste à l’ensemble\, cette proposition type master class\, peut aboutir à une présentation du travail des élèves juste avant le spectacle. \n« Quel temps de chien\, il fait un froid de canard! J’en ai la chair de poule et ça m’file le cafard ! »\nEn écoutant La fourmi\, la cigale\, déjà myope comme une taupe\, reste muette comme une carpe.\n« Autant avaler une couleuvre\, cette tête de linotte a une araignée au plafond ! \nAh\, si les animaux n’existaient plus\, l’Homme serait bien embêté ! Et pas que devant son assiette !\nEt si\, par un peu de théâtre musical\, nous les mettions à l’honneur ?\nDe la « Mite au logis » au « drame à Tiques »\, venez découvrir un bestiaire drôle et fabuleux\, entre Jean de La Fontaine et Raymond Devos\, où les mots révèlent un univers onirique et mystérieux.
URL:https://2025.conservatoiregrandavignon.com/event/master-class-avec-lensemble-trio-tra/
LOCATION:Église du Pontet\, 7 Avenue de l'Église\, Le Pontet\, 84130\, France
CATEGORIES:Saison 2019-2020,Saison pédagogique 2019-2020,Artistes invités 2019-2020,Musique,Masterclass
ATTACH;FMTTYPE=image/jpeg:https://2025.conservatoiregrandavignon.com/wp-content/uploads/2019/09/27-au-29-avril-2020-Trio-tra-libre-de-droit-2.jpg
END:VEVENT
END:VCALENDAR