BEGIN:VCALENDAR
VERSION:2.0
PRODID:-//Conservatoire à Rayonnement Régional du Grand Avignon - ECPv6.12.0.1//NONSGML v1.0//EN
CALSCALE:GREGORIAN
METHOD:PUBLISH
X-WR-CALNAME:Conservatoire à Rayonnement Régional du Grand Avignon
X-ORIGINAL-URL:https://2025.conservatoiregrandavignon.com
X-WR-CALDESC:Évènements pour Conservatoire à Rayonnement Régional du Grand Avignon
REFRESH-INTERVAL;VALUE=DURATION:PT1H
X-Robots-Tag:noindex
X-PUBLISHED-TTL:PT1H
BEGIN:VTIMEZONE
TZID:Europe/Paris
BEGIN:DAYLIGHT
TZOFFSETFROM:+0100
TZOFFSETTO:+0200
TZNAME:CEST
DTSTART:20200329T010000
END:DAYLIGHT
BEGIN:STANDARD
TZOFFSETFROM:+0200
TZOFFSETTO:+0100
TZNAME:CET
DTSTART:20201025T010000
END:STANDARD
END:VTIMEZONE
BEGIN:VEVENT
DTSTART;VALUE=DATE:20200505
DTEND;VALUE=DATE:20200508
DTSTAMP:20260423T025926
CREATED:20190918T194927Z
LAST-MODIFIED:20190930T152456Z
UID:21132-1588636800-1588895999@2025.conservatoiregrandavignon.com
SUMMARY:Restitution des projets dirigés des élèves du pôle théâtre
DESCRIPTION:Mardi 5 et jeudi 7 mai 2020\n« Théâtre du chien qui fume »\nRestitution des projets dirigés des élèves du pôle théâtre \nPour la quatrième année consécutive\, le Théâtre du Chien qui fume accueillera\, dans le cadre des examens de fin d’année du pôle théâtre\, les « projets dirigés » des élèves de 2ème et 3ème cycles. Une forme théâtrale dirigée par les artistes enseignants du Conservatoire sera présentée par ces élèves acteurs à l’occasion de deux soirées. \nEntrée libre sur réservation au 04 90 85 25 87 \nPhoto ACM
URL:https://2025.conservatoiregrandavignon.com/event/restitution-des-projets-diriges-des-eleves-du-pole-theatre-2/
LOCATION:Théâtre du chien qui fume\, 75\, rue des Teinturiers\, Avignon\, 84000
CATEGORIES:Saison 2019-2020,Saison artistique 2019-2020,Théâtre
ATTACH;FMTTYPE=image/jpeg:https://2025.conservatoiregrandavignon.com/wp-content/uploads/2019/09/5-et-7-mai-2020chien-qui-fume-projets-person-mai-@ACM-4.jpg
END:VEVENT
END:VCALENDAR