BEGIN:VCALENDAR
VERSION:2.0
PRODID:-//Conservatoire à Rayonnement Régional du Grand Avignon - ECPv6.12.0.1//NONSGML v1.0//EN
CALSCALE:GREGORIAN
METHOD:PUBLISH
X-WR-CALNAME:Conservatoire à Rayonnement Régional du Grand Avignon
X-ORIGINAL-URL:https://2025.conservatoiregrandavignon.com
X-WR-CALDESC:Évènements pour Conservatoire à Rayonnement Régional du Grand Avignon
REFRESH-INTERVAL;VALUE=DURATION:PT1H
X-Robots-Tag:noindex
X-PUBLISHED-TTL:PT1H
BEGIN:VTIMEZONE
TZID:Europe/Paris
BEGIN:DAYLIGHT
TZOFFSETFROM:+0100
TZOFFSETTO:+0200
TZNAME:CEST
DTSTART:20200329T010000
END:DAYLIGHT
BEGIN:STANDARD
TZOFFSETFROM:+0200
TZOFFSETTO:+0100
TZNAME:CET
DTSTART:20201025T010000
END:STANDARD
END:VTIMEZONE
BEGIN:VEVENT
DTSTART;VALUE=DATE:20200523
DTEND;VALUE=DATE:20200525
DTSTAMP:20260423T025923
CREATED:20190918T195625Z
LAST-MODIFIED:20190930T154900Z
UID:21138-1590192000-1590364799@2025.conservatoiregrandavignon.com
SUMMARY:Comédie musicale avec le chœur d’enfants et le chœur ado
DESCRIPTION:Samedi 23 et dimanche 24 mai 2020\nAuditorium du Grand Avignon\, Le Pontet\, 20h et 17h \nDirection : Isabelle Oriez \nPhoto ACM
URL:https://2025.conservatoiregrandavignon.com/event/comedie-musicale-avec-le-choeur-denfants-et-le-choeur-ado/
LOCATION:Église du Pontet\, 7 Avenue de l'Église\, Le Pontet\, 84130\, France
CATEGORIES:Saison 2019-2020,Saison artistique 2019-2020,Musique
ATTACH;FMTTYPE=image/jpeg:https://2025.conservatoiregrandavignon.com/wp-content/uploads/2019/09/23-et-24-mai-2020-Choeur-de-jeune-@-ACM-2.jpg
END:VEVENT
END:VCALENDAR