BEGIN:VCALENDAR
VERSION:2.0
PRODID:-//Conservatoire à Rayonnement Régional du Grand Avignon - ECPv6.12.0.1//NONSGML v1.0//EN
CALSCALE:GREGORIAN
METHOD:PUBLISH
X-WR-CALNAME:Conservatoire à Rayonnement Régional du Grand Avignon
X-ORIGINAL-URL:https://2025.conservatoiregrandavignon.com
X-WR-CALDESC:Évènements pour Conservatoire à Rayonnement Régional du Grand Avignon
REFRESH-INTERVAL;VALUE=DURATION:PT1H
X-Robots-Tag:noindex
X-PUBLISHED-TTL:PT1H
BEGIN:VTIMEZONE
TZID:Europe/Paris
BEGIN:DAYLIGHT
TZOFFSETFROM:+0100
TZOFFSETTO:+0200
TZNAME:CEST
DTSTART:20200329T010000
END:DAYLIGHT
BEGIN:STANDARD
TZOFFSETFROM:+0200
TZOFFSETTO:+0100
TZNAME:CET
DTSTART:20201025T010000
END:STANDARD
END:VTIMEZONE
BEGIN:VEVENT
DTSTART;VALUE=DATE:20200611
DTEND;VALUE=DATE:20200613
DTSTAMP:20260423T012907
CREATED:20190918T215850Z
LAST-MODIFIED:20191023T145312Z
UID:21214-1591833600-1592006399@2025.conservatoiregrandavignon.com
SUMMARY:Examens de musiques actuelles
DESCRIPTION:Jeudi 11 et vendredi 12 juin 2020\nAuditorium Grand Avignon\, 20h
URL:https://2025.conservatoiregrandavignon.com/event/examens-de-musiques-actuelles/
LOCATION:Église du Pontet\, 7 Avenue de l'Église\, Le Pontet\, 84130\, France
CATEGORIES:Saison 2019-2020,Saison pédagogique 2019-2020,Examens publics,Musique
ATTACH;FMTTYPE=image/jpeg:https://2025.conservatoiregrandavignon.com/wp-content/uploads/2019/10/DSC_3609.jpg
END:VEVENT
BEGIN:VEVENT
DTSTART;TZID=Europe/Paris:20200612T190000
DTEND;TZID=Europe/Paris:20200613T190000
DTSTAMP:20260423T012907
CREATED:20190918T200011Z
LAST-MODIFIED:20191023T144647Z
UID:21142-1591988400-1592074800@2025.conservatoiregrandavignon.com
SUMMARY:Pièces théâtrales par les élèves du 3ème cycle du pôle théâtre du conservatoire
DESCRIPTION:Vendredi 12 et samedi 13 juin 2020\, 19h00\nThéâtre des Carmes\, Avignon \nEntrée libre sur réservation au 04 90 82 20 47
URL:https://2025.conservatoiregrandavignon.com/event/pieces-theatrales-par-les-eleves-du-3eme-cycle-du-pole-theatre-du-conservatoire/2020-06-12/
LOCATION:Théâtre des Carmes\, Place des Carmes\, Avignon
CATEGORIES:Saison 2019-2020,Saison artistique 2019-2020,Théâtre
ATTACH;FMTTYPE=image/jpeg:https://2025.conservatoiregrandavignon.com/wp-content/uploads/2019/06/Petites-formes-TDC@ACM-juin-2019-6.jpg
END:VEVENT
END:VCALENDAR