BEGIN:VCALENDAR
VERSION:2.0
PRODID:-//Conservatoire à Rayonnement Régional du Grand Avignon - ECPv6.12.0.1//NONSGML v1.0//EN
CALSCALE:GREGORIAN
METHOD:PUBLISH
X-WR-CALNAME:Conservatoire à Rayonnement Régional du Grand Avignon
X-ORIGINAL-URL:https://2025.conservatoiregrandavignon.com
X-WR-CALDESC:Évènements pour Conservatoire à Rayonnement Régional du Grand Avignon
REFRESH-INTERVAL;VALUE=DURATION:PT1H
X-Robots-Tag:noindex
X-PUBLISHED-TTL:PT1H
BEGIN:VTIMEZONE
TZID:Europe/Paris
BEGIN:DAYLIGHT
TZOFFSETFROM:+0100
TZOFFSETTO:+0200
TZNAME:CEST
DTSTART:20200329T010000
END:DAYLIGHT
BEGIN:STANDARD
TZOFFSETFROM:+0200
TZOFFSETTO:+0100
TZNAME:CET
DTSTART:20201025T010000
END:STANDARD
END:VTIMEZONE
BEGIN:VEVENT
DTSTART;VALUE=DATE:20200622
DTEND;VALUE=DATE:20200627
DTSTAMP:20260423T000326
CREATED:20190918T201911Z
LAST-MODIFIED:20190930T162732Z
UID:21159-1592784000-1593215999@2025.conservatoiregrandavignon.com
SUMMARY:Scènes de châteaux
DESCRIPTION:Du lundi 22 au vendredi 26 juin 2020\nAuditorium du Grand Avignon\, Salle du Tinel et Cour du Château de Fargues \nCette manifestation est organisée en collaboration avec le service culturel du Pontet qui met à disposition du Conservatoire la prestigieuse salle du Tinel et la lumineuse cour du Château\, cadre très favorable aux présentations des élèves et des professeurs de musique et de théâtre. La transversalité des pratiques artistiques est au cœur de cet événement où nous vous attendons nombreux pour découvrir le travail des enfants et des professeurs. \nPhoto Sjacinto
URL:https://2025.conservatoiregrandavignon.com/event/scenes-de-chateaux-2/
LOCATION:Vaucluse
CATEGORIES:Saison 2019-2020,Saison artistique 2019-2020,Musique
ATTACH;FMTTYPE=image/jpeg:https://2025.conservatoiregrandavignon.com/wp-content/uploads/2019/09/22-au-26-scène-de-chateau-@Sjacinot-1.jpg
END:VEVENT
END:VCALENDAR