BEGIN:VCALENDAR
VERSION:2.0
PRODID:-//Conservatoire à Rayonnement Régional du Grand Avignon - ECPv6.12.0.1//NONSGML v1.0//EN
CALSCALE:GREGORIAN
METHOD:PUBLISH
X-WR-CALNAME:Conservatoire à Rayonnement Régional du Grand Avignon
X-ORIGINAL-URL:https://2025.conservatoiregrandavignon.com
X-WR-CALDESC:Évènements pour Conservatoire à Rayonnement Régional du Grand Avignon
REFRESH-INTERVAL;VALUE=DURATION:PT1H
X-Robots-Tag:noindex
X-PUBLISHED-TTL:PT1H
BEGIN:VTIMEZONE
TZID:Europe/Paris
BEGIN:DAYLIGHT
TZOFFSETFROM:+0100
TZOFFSETTO:+0200
TZNAME:CEST
DTSTART:20210328T010000
END:DAYLIGHT
BEGIN:STANDARD
TZOFFSETFROM:+0200
TZOFFSETTO:+0100
TZNAME:CET
DTSTART:20211031T010000
END:STANDARD
END:VTIMEZONE
BEGIN:VEVENT
DTSTART;TZID=Europe/Paris:20210109T170000
DTEND;TZID=Europe/Paris:20210109T183000
DTSTAMP:20260420T001316
CREATED:20200925T141042Z
LAST-MODIFIED:20210108T123354Z
UID:22053-1610211600-1610217000@2025.conservatoiregrandavignon.com
SUMMARY:CONCERT LIVE FACEBOOK - 17h00 - Festival du Cor
DESCRIPTION:Samedi 9 janvier 2021\nEspace Leclerc\, Amphithéâtre Mozart\, 17h\nConcert de musique de chambre \nProgramme de Musique Française :\navec Yaeram Park (flûte)\, Alexandre Collard (cor)\, Nicolas Ramez (cor)\, Eric Sombret (cor)\, Fabienne Garceau (hautbois)\, Hervé Issartel (basson)\, Patirck Ségard (clarinette) et Thuy Anh Vuong (piano)
URL:https://2025.conservatoiregrandavignon.com/event/festival-du-cor-2/
LOCATION:Auditorium Jean Moulin – Le Thor\, 971 Chem. des Estourans\, Le Thor\, 84250\, France
CATEGORIES:Saison 2020-2021,Saison artistique 2020-2021,Musique
ATTACH;FMTTYPE=image/jpeg:https://2025.conservatoiregrandavignon.com/wp-content/uploads/2020/09/jazz@ACM2020-12.jpg
END:VEVENT
END:VCALENDAR