BEGIN:VCALENDAR
VERSION:2.0
PRODID:-//Conservatoire à Rayonnement Régional du Grand Avignon - ECPv6.12.0.1//NONSGML v1.0//EN
CALSCALE:GREGORIAN
METHOD:PUBLISH
X-ORIGINAL-URL:https://2025.conservatoiregrandavignon.com
X-WR-CALDESC:Évènements pour Conservatoire à Rayonnement Régional du Grand Avignon
REFRESH-INTERVAL;VALUE=DURATION:PT1H
X-Robots-Tag:noindex
X-PUBLISHED-TTL:PT1H
BEGIN:VTIMEZONE
TZID:Europe/Paris
BEGIN:DAYLIGHT
TZOFFSETFROM:+0100
TZOFFSETTO:+0200
TZNAME:CEST
DTSTART:20210328T010000
END:DAYLIGHT
BEGIN:STANDARD
TZOFFSETFROM:+0200
TZOFFSETTO:+0100
TZNAME:CET
DTSTART:20211031T010000
END:STANDARD
END:VTIMEZONE
BEGIN:VEVENT
DTSTART;TZID=Europe/Paris:20210207T160000
DTEND;TZID=Europe/Paris:20210207T170000
DTSTAMP:20260420T081448
CREATED:20200928T130051Z
LAST-MODIFIED:20210120T115103Z
UID:22082-1612713600-1612717200@2025.conservatoiregrandavignon.com
SUMMARY:FACEBOOK LIVE - Concert de restitution des masters class de Yannick Callier
DESCRIPTION:Dimanche 7 février 2021\nAuditorium du Grand Avignon\, Le Pontet\, 16h \nConcert de restitution des masters class de Yannick Callier avec les ensembles de violoncelles \nAu programme : une adaptation de Kol Nidrei de Max Bruch\nYannick Callier est professeur de musique de chambre au Conservatoire à Rayonnement Régional de Nice\, 1er prix au concours international d’Evian et invité en tant que violoncelle solo\ndans de nombreux orchestres.\ncliquer sur ce lien pour accéder au LIVE FACEBOOK https://www.facebook.com/ConservatoireGrandAvignon
URL:https://2025.conservatoiregrandavignon.com/event/concert-de-restitution-des-masters-class-de-yannick-callier/
LOCATION:Auditorium du Grand Avignon\, 2 Esp des Droits de l'Homme et des Citoyens\, Site du Château de Fargues\, Le Pontet\, 84130\, France
CATEGORIES:Saison 2020-2021,Saison artistique 2020-2021,Musique
ATTACH;FMTTYPE=image/jpeg:https://2025.conservatoiregrandavignon.com/wp-content/uploads/2020/09/OS-2020-@ACM-22-1.jpg
END:VEVENT
END:VCALENDAR