BEGIN:VCALENDAR
VERSION:2.0
PRODID:-//Conservatoire à Rayonnement Régional du Grand Avignon - ECPv6.12.0.1//NONSGML v1.0//EN
CALSCALE:GREGORIAN
METHOD:PUBLISH
X-WR-CALNAME:Conservatoire à Rayonnement Régional du Grand Avignon
X-ORIGINAL-URL:https://2025.conservatoiregrandavignon.com
X-WR-CALDESC:Évènements pour Conservatoire à Rayonnement Régional du Grand Avignon
REFRESH-INTERVAL;VALUE=DURATION:PT1H
X-Robots-Tag:noindex
X-PUBLISHED-TTL:PT1H
BEGIN:VTIMEZONE
TZID:Europe/Paris
BEGIN:DAYLIGHT
TZOFFSETFROM:+0100
TZOFFSETTO:+0200
TZNAME:CEST
DTSTART:20210328T010000
END:DAYLIGHT
BEGIN:STANDARD
TZOFFSETFROM:+0200
TZOFFSETTO:+0100
TZNAME:CET
DTSTART:20211031T010000
END:STANDARD
END:VTIMEZONE
BEGIN:VEVENT
DTSTART;TZID=Europe/Paris:20210218T200000
DTEND;TZID=Europe/Paris:20210224T200000
DTSTAMP:20260419T224110
CREATED:20200928T141209Z
LAST-MODIFIED:20210108T130342Z
UID:22105-1613678400-1614196800@2025.conservatoiregrandavignon.com
SUMMARY:Annulé : 4ème édition des Journées Européennes du bandonéon
DESCRIPTION:Du jeudi 18 au mercredi 24 février 2021\nAuditorium du Grand Avignon \n4ème édition des Journées Européennes du bandonéon\nCet évènement bi-annuel propose des rencontres à haut niveau entre la classe de bandonéon du Conservatoire du Grand Avignon et les classes de bandonéon d’autres conservatoires et académies de musique en Europe. Elles sont enrichies par les master-class de grands maîtres bandonéonistes\, des concerts auxquels participent les élèves et des conférences. \nCette année nous poursuivrons le partenariat avec les classes du conservatoire de Cagliari (Italie) et Codarts de Rotterdam (Pays bas) auquel viendra s’ajouter l’université de Oldenburg (Allemagne) qui ouvre une classe de bandonéon à la rentrée. \nProgramme à venir
URL:https://2025.conservatoiregrandavignon.com/event/4eme-edition-des-journees-europeennes-du-bandoneon/
LOCATION:Auditorium du Grand Avignon\, 2 Esp des Droits de l'Homme et des Citoyens\, Site du Château de Fargues\, Le Pontet\, 84130\, France
CATEGORIES:Saison 2020-2021,Saison artistique 2020-2021,Musique
ATTACH;FMTTYPE=image/jpeg:https://2025.conservatoiregrandavignon.com/wp-content/uploads/2020/09/18S007-2924.jpg
END:VEVENT
END:VCALENDAR