BEGIN:VCALENDAR
VERSION:2.0
PRODID:-//Conservatoire à Rayonnement Régional du Grand Avignon - ECPv6.12.0.1//NONSGML v1.0//EN
CALSCALE:GREGORIAN
METHOD:PUBLISH
X-WR-CALNAME:Conservatoire à Rayonnement Régional du Grand Avignon
X-ORIGINAL-URL:https://2025.conservatoiregrandavignon.com
X-WR-CALDESC:Évènements pour Conservatoire à Rayonnement Régional du Grand Avignon
REFRESH-INTERVAL;VALUE=DURATION:PT1H
X-Robots-Tag:noindex
X-PUBLISHED-TTL:PT1H
BEGIN:VTIMEZONE
TZID:Europe/Paris
BEGIN:DAYLIGHT
TZOFFSETFROM:+0100
TZOFFSETTO:+0200
TZNAME:CEST
DTSTART:20210328T010000
END:DAYLIGHT
BEGIN:STANDARD
TZOFFSETFROM:+0200
TZOFFSETTO:+0100
TZNAME:CET
DTSTART:20211031T010000
END:STANDARD
END:VTIMEZONE
BEGIN:VEVENT
DTSTART;TZID=Europe/Paris:20210313T200000
DTEND;TZID=Europe/Paris:20210313T210000
DTSTAMP:20260419T223947
CREATED:20200930T095824Z
LAST-MODIFIED:20210215T103832Z
UID:22160-1615665600-1615669200@2025.conservatoiregrandavignon.com
SUMMARY:Annulé - Concert de l’Orchestre Symphonique
DESCRIPTION:Samedi 13 et dimanche 14 mars 2021\nAuditorium du Grand Avignon\, 20h et 17h \nConcert de l’Orchestre Symphonique\, direction Michel Barruol
URL:https://2025.conservatoiregrandavignon.com/event/concert-de-lorchestre-symphonique-2/
LOCATION:Auditorium du Grand Avignon\, 2 Esp des Droits de l'Homme et des Citoyens\, Site du Château de Fargues\, Le Pontet\, 84130\, France
CATEGORIES:Saison artistique 2020-2021,Saison 2020-2021,Musique
ATTACH;FMTTYPE=image/jpeg:https://2025.conservatoiregrandavignon.com/wp-content/uploads/2020/09/13-et-14-mars-21-OS-crédit-photo-ACM1.jpg
END:VEVENT
END:VCALENDAR