BEGIN:VCALENDAR
VERSION:2.0
PRODID:-//Conservatoire à Rayonnement Régional du Grand Avignon - ECPv6.12.0.1//NONSGML v1.0//EN
CALSCALE:GREGORIAN
METHOD:PUBLISH
X-WR-CALNAME:Conservatoire à Rayonnement Régional du Grand Avignon
X-ORIGINAL-URL:https://2025.conservatoiregrandavignon.com
X-WR-CALDESC:Évènements pour Conservatoire à Rayonnement Régional du Grand Avignon
REFRESH-INTERVAL;VALUE=DURATION:PT1H
X-Robots-Tag:noindex
X-PUBLISHED-TTL:PT1H
BEGIN:VTIMEZONE
TZID:Europe/Paris
BEGIN:DAYLIGHT
TZOFFSETFROM:+0100
TZOFFSETTO:+0200
TZNAME:CEST
DTSTART:20210328T010000
END:DAYLIGHT
BEGIN:STANDARD
TZOFFSETFROM:+0200
TZOFFSETTO:+0100
TZNAME:CET
DTSTART:20211031T010000
END:STANDARD
END:VTIMEZONE
BEGIN:VEVENT
DTSTART;TZID=Europe/Paris:20210317T140000
DTEND;TZID=Europe/Paris:20210317T180000
DTSTAMP:20260419T224039
CREATED:20200929T075858Z
LAST-MODIFIED:20210311T105515Z
UID:22134-1615989600-1616004000@2025.conservatoiregrandavignon.com
SUMMARY:LIVE FB - 3ème Fête du Printemps et de l’Écologie
DESCRIPTION:Mercredi 17 Mars 2021\nEspace Leclerc\, Amphithéâtre Mozart\, Cours\, Parvis et Hall du CRR de 14h à 18h \n3ème Fête du Printemps et de l’Écologie : le Conservatoire se met au vert.\nAprès la coupure imposée par les mesures de confinement\, la Fête du Printemps et de l’Écologie est de retour au conservatoire et propose une journée portes ouvertes avec des spectacles (musique\, danse\, théâtre) et des ateliers de sensibilisation sur le thème de l’environnement. \nParlons écologie !\nÉvénement en direct de l’amphithéâtre Mozart du conservatoire\, retransmis sur la page FACEBOOK du Conservatoire à Rayonnement Régional du Grand Avignon. \n 14h00 Discours d’ouverture par Jérôme Chrétien \n14h30 Les élèves de l’Orchestre à cordes 1er cycle dirigé par Pierre Denizet  jouent K. et H. COLLEDGE et nous parlent d’écologie. \n15h00 Classe de basson d’Hervé Issartel : Clara\, Raphaël et Hervé jouent HARTLEY et WEISENBORN et nous parlent d’écologie. \n15h30 Les élèves de la classe de clarinette de Frédéric Cellier jouent FOSTER\, KUFFNER\, MOZART\, ROSSINI et nous parlent d’écologie. \n16h00 Classe de trompette de François Bérody \nGaëtan\, Joseph\, Marius\, Mathis et Pierre jouent BIZET\, BONFA\, GERSHWIN\, MOURET\, MILHAUD et nous parlent d’écologie. \n16h30 Classe de cor d’Eric Sombret \nEmma\, Pauline\, Grégoire\, Manon et Grégoire jouent TURNER\, WILLIAMS et nous parlent d’écologie. \n17h00 Theo Pastor & Bandùra\, un ensemble musical qui met en avant le galoubet tambourin au travers des musiques du monde tout en conservant ses racines provençales. \nTheo Pastor\, Victor Mesnier\, Thibault Jaume\, Martin Bourdelier\, Eliot Maillet\, Maxence Hartvick jouent et nous parlent d’écologie. \n 
URL:https://2025.conservatoiregrandavignon.com/event/3eme-fete-du-printemps-et-de-lecologie/
LOCATION:Espace Leclerc
CATEGORIES:Saison 2020-2021,Saison pédagogique 2020-2021,Saison artistique 2020-2021,Musique
ATTACH;FMTTYPE=image/png:https://2025.conservatoiregrandavignon.com/wp-content/uploads/2020/09/17-mars-2021-fete-du-prientmeps-Tournesol-@Tik-Cellier.png
END:VEVENT
END:VCALENDAR