BEGIN:VCALENDAR
VERSION:2.0
PRODID:-//Conservatoire à Rayonnement Régional du Grand Avignon - ECPv6.12.0.1//NONSGML v1.0//EN
CALSCALE:GREGORIAN
METHOD:PUBLISH
X-WR-CALNAME:Conservatoire à Rayonnement Régional du Grand Avignon
X-ORIGINAL-URL:https://2025.conservatoiregrandavignon.com
X-WR-CALDESC:Évènements pour Conservatoire à Rayonnement Régional du Grand Avignon
REFRESH-INTERVAL;VALUE=DURATION:PT1H
X-Robots-Tag:noindex
X-PUBLISHED-TTL:PT1H
BEGIN:VTIMEZONE
TZID:Europe/Paris
BEGIN:DAYLIGHT
TZOFFSETFROM:+0100
TZOFFSETTO:+0200
TZNAME:CEST
DTSTART:20210328T010000
END:DAYLIGHT
BEGIN:STANDARD
TZOFFSETFROM:+0200
TZOFFSETTO:+0100
TZNAME:CET
DTSTART:20211031T010000
END:STANDARD
END:VTIMEZONE
BEGIN:VEVENT
DTSTART;TZID=Europe/Paris:20210318T100000
DTEND;TZID=Europe/Paris:20210318T120000
DTSTAMP:20260419T210452
CREATED:20200929T074657Z
LAST-MODIFIED:20201203T101806Z
UID:22129-1616061600-1616068800@2025.conservatoiregrandavignon.com
SUMMARY:Drums‘ Lab #2\, Laboratoire des Écoles Associées du Grand Avignon
DESCRIPTION:BILLETTERIE EN LIGNE : Pôle Culturel Jean Ferrat \nJeudi 18 Mars 2021\nEspace Leclerc\, Amphithéâtre Mozart\, à partir de 10h00\nConférence de Mr. Lebouteiller du Centre Ressource Handicap de Caen \nEspace Leclerc\, Amphithéâtre Mozart\, à partir de 14h00\nAnimations et Master classes (programme à préciser*) gildas et sylvain \n“Inclusion et Hybridation\, un grand pas sensible…” par les élèves des Écoles associées et du Département 84\, le Jazz Ado Groove\, et le Club Percu & co du CRR du Grand Avignon.\nAuditorium du Grand Avignon le Pontet\n18h Table Ronde\n19h30 Concert\n20h Concert “Lutherie Sauvage et Orchestre d’Objets Recyclés” et les travaux du trio tra des élèves
URL:https://2025.conservatoiregrandavignon.com/event/drums-lab-2-laboratoire-des-ecoles-associees-du-grand-avignon/2021-03-18/
LOCATION:Auditorium Jean Moulin – Le Thor\, 971 Chem. des Estourans\, Le Thor\, 84250\, France
CATEGORIES:Saison artistique 2020-2021,Saison 2020-2021,Musique
ATTACH;FMTTYPE=image/jpeg:https://2025.conservatoiregrandavignon.com/wp-content/uploads/2020/09/27-au-29-avril-trio-tra-2020-2-scaled.jpg
END:VEVENT
END:VCALENDAR