BEGIN:VCALENDAR
VERSION:2.0
PRODID:-//Conservatoire à Rayonnement Régional du Grand Avignon - ECPv6.12.0.1//NONSGML v1.0//EN
CALSCALE:GREGORIAN
METHOD:PUBLISH
X-ORIGINAL-URL:https://2025.conservatoiregrandavignon.com
X-WR-CALDESC:Évènements pour Conservatoire à Rayonnement Régional du Grand Avignon
REFRESH-INTERVAL;VALUE=DURATION:PT1H
X-Robots-Tag:noindex
X-PUBLISHED-TTL:PT1H
BEGIN:VTIMEZONE
TZID:Europe/Paris
BEGIN:DAYLIGHT
TZOFFSETFROM:+0100
TZOFFSETTO:+0200
TZNAME:CEST
DTSTART:20210328T010000
END:DAYLIGHT
BEGIN:STANDARD
TZOFFSETFROM:+0200
TZOFFSETTO:+0100
TZNAME:CET
DTSTART:20211031T010000
END:STANDARD
END:VTIMEZONE
BEGIN:VEVENT
DTSTART;TZID=Europe/Paris:20210326T200000
DTEND;TZID=Europe/Paris:20210326T213000
DTSTAMP:20260419T193238
CREATED:20201001T083046Z
LAST-MODIFIED:20201203T103242Z
UID:22168-1616788800-1616794200@2025.conservatoiregrandavignon.com
SUMMARY:Concert des classes de musiques actuelles
DESCRIPTION:Vendredi 26 Mars 2021\nAuditorium du Grand Avignon le Pontet\, 20h \nConcert des classes de musiques actuelles\nConcert de restitution des ateliers avec Natura’live d’Alexandre Cervera \nhttp://www.naturalive.fr/
URL:https://2025.conservatoiregrandavignon.com/event/concert-des-classes-de-musiques-actuelles-3/
LOCATION:Auditorium du Grand Avignon\, 2 Esp des Droits de l'Homme et des Citoyens\, Site du Château de Fargues\, Le Pontet\, 84130\, France
CATEGORIES:Saison 2020-2021,Saison pédagogique 2020-2021,Musique
ATTACH;FMTTYPE=image/jpeg:https://2025.conservatoiregrandavignon.com/wp-content/uploads/2020/10/26-mars-21-zizak-credit-photo-laurence-hourtané-56.jpg
END:VEVENT
END:VCALENDAR