BEGIN:VCALENDAR
VERSION:2.0
PRODID:-//Conservatoire à Rayonnement Régional du Grand Avignon - ECPv6.12.0.1//NONSGML v1.0//EN
CALSCALE:GREGORIAN
METHOD:PUBLISH
X-WR-CALNAME:Conservatoire à Rayonnement Régional du Grand Avignon
X-ORIGINAL-URL:https://2025.conservatoiregrandavignon.com
X-WR-CALDESC:Évènements pour Conservatoire à Rayonnement Régional du Grand Avignon
REFRESH-INTERVAL;VALUE=DURATION:PT1H
X-Robots-Tag:noindex
X-PUBLISHED-TTL:PT1H
BEGIN:VTIMEZONE
TZID:Europe/Paris
BEGIN:DAYLIGHT
TZOFFSETFROM:+0100
TZOFFSETTO:+0200
TZNAME:CEST
DTSTART:20190331T010000
END:DAYLIGHT
BEGIN:STANDARD
TZOFFSETFROM:+0200
TZOFFSETTO:+0100
TZNAME:CET
DTSTART:20191027T010000
END:STANDARD
END:VTIMEZONE
BEGIN:VEVENT
DTSTART;VALUE=DATE:20190204
DTEND;VALUE=DATE:20190206
DTSTAMP:20260422T035051
CREATED:20181009T071808Z
LAST-MODIFIED:20181127T063729Z
UID:18589-1549238400-1549411199@2025.conservatoiregrandavignon.com
SUMMARY:Master class « jouer ensemble » / Pascal Le Corre
DESCRIPTION:10h-18h \nArtiste invité : Pascal Le Corre \nJouer ensemble\, c’est partager\, communiquer\, exprimer\, écouter\, accompagner\, fédérer\, susciter et développer toutes les qualités qui font un bon musicien. \nAu-delà du savoir-faire technique et des connaissances musicales\, Pascal Le Corre nous propose\, à l’occasion de cours d’accompagnement et de musique de chambre\, d’explorer les processus cognitifs et émotionnels qui sous-tendent nos pratiques artistiques pour acquérir une plus grande maîtrise de nos savoirs-être de musicien. \nPascal Le Corre est pianiste\, professeur de piano\, d’accompagnement et de musique de chambre\, coach artistique et auteur de nombreux ouvrages et articles sur la psychologie du musicien. \nParallèlement à sa carrière d’instrumentiste qu’il partage entre récital\, musique de chambre et accompagnement de chanteur\, il enseigne au CRR de Paris et au pôle supérieur d’enseignement artistique et est conseiller aux études du nouveau cycle préparatoire à l’enseignement supérieur. \nSon activité pédagogique\, en plus des aspects purement musicaux et instrumentaux\, s’oriente vers l’étude des processus cognitifs et émotionnels du musicien dont témoignent de nombreux articles et ouvrages à La Lettre du musicien et aux éditions Lemoine/Van de Velde sur des sujets tels que le déchiffrage\, la mémorisation\, le trac\, le charisme scénique et la créativité.
URL:https://2025.conservatoiregrandavignon.com/event/master-class-jouer-ensemble-pascal-le-corre/
LOCATION:Auditorium Jean Moulin – Le Thor\, 971 Chem. des Estourans\, Le Thor\, 84250\, France
CATEGORIES:Saison 2018-2019,Saison pédagogique 2018-2019,Artistes invités 2018-2019,Musique,Masterclass
ATTACH;FMTTYPE=image/jpeg:https://2025.conservatoiregrandavignon.com/wp-content/uploads/2018/10/pascal-lecorre-retouche.jpg
END:VEVENT
END:VCALENDAR