BEGIN:VCALENDAR
VERSION:2.0
PRODID:-//Conservatoire à Rayonnement Régional du Grand Avignon - ECPv6.12.0.1//NONSGML v1.0//EN
CALSCALE:GREGORIAN
METHOD:PUBLISH
X-ORIGINAL-URL:https://2025.conservatoiregrandavignon.com
X-WR-CALDESC:Évènements pour Conservatoire à Rayonnement Régional du Grand Avignon
REFRESH-INTERVAL;VALUE=DURATION:PT1H
X-Robots-Tag:noindex
X-PUBLISHED-TTL:PT1H
BEGIN:VTIMEZONE
TZID:Europe/Paris
BEGIN:DAYLIGHT
TZOFFSETFROM:+0100
TZOFFSETTO:+0200
TZNAME:CEST
DTSTART:20210328T010000
END:DAYLIGHT
BEGIN:STANDARD
TZOFFSETFROM:+0200
TZOFFSETTO:+0100
TZNAME:CET
DTSTART:20211031T010000
END:STANDARD
END:VTIMEZONE
BEGIN:VEVENT
DTSTART;TZID=Europe/Paris:20210205T160000
DTEND;TZID=Europe/Paris:20210205T170000
DTSTAMP:20260423T015447
CREATED:20200928T124809Z
LAST-MODIFIED:20210120T125043Z
UID:22076-1612540800-1612544400@2025.conservatoiregrandavignon.com
SUMMARY:LIVE FACEBOOK à 16h le 5/02 et 15h00 le 6/02 : A la découverte de la danse
DESCRIPTION:Vendredi 5 février et samedi 6 février 2021\nL’autre Scène\, Vedène\, 16h et 15h LIVE FACEBOOK : cliquer sur ce lien pour accéder au LIVE  https://www.facebook.com/ConservatoireGrandAvignon \n« A la découverte de la danse »\nRendez-vous annuel et désormais incontournable\, le pôle danse du Conservatoire lève le rideau sur le travail de l’ensemble de ses classes de danse\, des plus petits aux plus grands. Un spectacle millimétré pour des sensations décuplées !  \n\nPour les familles des élèves danseurs\, retrait des places le vendredi 10 et le vendredi 17 janvier 2020 à la billetterie de l’Opéra.\nPour le public extérieur\, retrait des places à partir du mardi 21 janvier à l’Espace Leclerc du Conservatoire.\nLes réservations se font uniquement sur place.\nSpectacle chorégraphié co-organisé avec l’APECDA.
URL:https://2025.conservatoiregrandavignon.com/event/a-la-decouverte-de-la-danse-3/2021-02-05/
LOCATION:L’Autre Scène\, Avenue Pierre de Coubertin\, Vedène\, 84270
CATEGORIES:Saison 2020-2021,Saison artistique 2020-2021,Danse
ATTACH;FMTTYPE=image/jpeg:https://2025.conservatoiregrandavignon.com/wp-content/uploads/2020/09/2020-ala-décourvert-de-la-danse@SJ-54-1.jpg
END:VEVENT
BEGIN:VEVENT
DTSTART;TZID=Europe/Paris:20210211T203000
DTEND;TZID=Europe/Paris:20210211T223000
DTSTAMP:20260423T015447
CREATED:20200928T130640Z
LAST-MODIFIED:20210108T125814Z
UID:22088-1613075400-1613082600@2025.conservatoiregrandavignon.com
SUMMARY:Reporté   « Le Bourgeois Gentilhomme » revisité...
DESCRIPTION:Jeudi 11 février 2021\nOpéra Grand Avignon\, 14h séance scolaire et 20h30 séance tout public \n« Le Bourgeois Gentilhomme »\nA l’occasion des 350 ans de l’anniversaire de la création de Le Bourgeois Gentilhomme de Lully-Molière (1670)\, le Conservatoire de musique du Grand-Avignon élabore une création transversale qui réunit les domaines de musique\, danse et théâtre. \nLes élèves du Conservatoire du Grand-Avignon\, accompagnés dans leur préparation par l’équipe enseignante\, restitueront ce chef-d’œuvre dans une création originale\, de l’esthétique baroque à la M.A.O\, de la danse classique à celle contemporaine pour un spectacle à 720 dégrées. \nEntrée payante\, réservation auprès de la billetterie de l’Opéra au 04.90.14.26.00 ou Billetterie Opéra Grand Avignon\nTarif réduit 9€\nPlein tarif 12€ \nLes recettes seront versées à l’Hôpital d’Avignon \n \n 
URL:https://2025.conservatoiregrandavignon.com/event/le-bourgeois-gentilhomme-revisite/
LOCATION:Opéra Grand Avignon\, Place de l'Horloge\, Avignon\, 84000
CATEGORIES:Saison 2020-2021,Saison artistique 2020-2021,Musique,Danse,Théâtre
ATTACH;FMTTYPE=image/jpeg:https://2025.conservatoiregrandavignon.com/wp-content/uploads/2020/09/2020-ala-décourvert-de-la-danse@SJ-32.jpg
END:VEVENT
END:VCALENDAR