BEGIN:VCALENDAR
VERSION:2.0
PRODID:-//Conservatoire à Rayonnement Régional du Grand Avignon - ECPv6.12.0.1//NONSGML v1.0//EN
CALSCALE:GREGORIAN
METHOD:PUBLISH
X-ORIGINAL-URL:https://2025.conservatoiregrandavignon.com
X-WR-CALDESC:Évènements pour Conservatoire à Rayonnement Régional du Grand Avignon
REFRESH-INTERVAL;VALUE=DURATION:PT1H
X-Robots-Tag:noindex
X-PUBLISHED-TTL:PT1H
BEGIN:VTIMEZONE
TZID:Europe/Paris
BEGIN:DAYLIGHT
TZOFFSETFROM:+0100
TZOFFSETTO:+0200
TZNAME:CEST
DTSTART:20210328T010000
END:DAYLIGHT
BEGIN:STANDARD
TZOFFSETFROM:+0200
TZOFFSETTO:+0100
TZNAME:CET
DTSTART:20211031T010000
END:STANDARD
END:VTIMEZONE
BEGIN:VEVENT
DTSTART;TZID=Europe/Paris:20210410T170000
DTEND;TZID=Europe/Paris:20210410T183000
DTSTAMP:20260419T224451
CREATED:20201001T090418Z
LAST-MODIFIED:20210120T143914Z
UID:22185-1618074000-1618079400@2025.conservatoiregrandavignon.com
SUMMARY:Annulé « Quand la musique est bonne… »
DESCRIPTION:Samedi 10 Avril 2021\nEspace Leclerc\, Amphithéâtre Mozart\, 17h \n« Quand la musique est bonne… »\nUn plaisir partagé à travers les textes et musiques de J. J. Goldman avec les classes de formation musicale danseurs et les ateliers vocaux danseurs et musique d’Isabelle Laugier Martin
URL:https://2025.conservatoiregrandavignon.com/event/quand-la-musique-est-bonne-2/
LOCATION:Auditorium Jean Moulin – Le Thor\, 971 Chem. des Estourans\, Le Thor\, 84250\, France
CATEGORIES:Saison 2020-2021,Saison artistique 2020-2021,Musique,Danse
ATTACH;FMTTYPE=image/jpeg:https://2025.conservatoiregrandavignon.com/wp-content/uploads/2019/05/DSC_2842.jpg
END:VEVENT
END:VCALENDAR