BEGIN:VCALENDAR
VERSION:2.0
PRODID:-//Conservatoire à Rayonnement Régional du Grand Avignon - ECPv6.12.0.1//NONSGML v1.0//EN
CALSCALE:GREGORIAN
METHOD:PUBLISH
X-WR-CALNAME:Conservatoire à Rayonnement Régional du Grand Avignon
X-ORIGINAL-URL:https://2025.conservatoiregrandavignon.com
X-WR-CALDESC:Évènements pour Conservatoire à Rayonnement Régional du Grand Avignon
REFRESH-INTERVAL;VALUE=DURATION:PT1H
X-Robots-Tag:noindex
X-PUBLISHED-TTL:PT1H
BEGIN:VTIMEZONE
TZID:Europe/Paris
BEGIN:DAYLIGHT
TZOFFSETFROM:+0100
TZOFFSETTO:+0200
TZNAME:CEST
DTSTART:20210328T010000
END:DAYLIGHT
BEGIN:STANDARD
TZOFFSETFROM:+0200
TZOFFSETTO:+0100
TZNAME:CET
DTSTART:20211031T010000
END:STANDARD
BEGIN:DAYLIGHT
TZOFFSETFROM:+0100
TZOFFSETTO:+0200
TZNAME:CEST
DTSTART:20220327T010000
END:DAYLIGHT
BEGIN:STANDARD
TZOFFSETFROM:+0200
TZOFFSETTO:+0100
TZNAME:CET
DTSTART:20221030T010000
END:STANDARD
BEGIN:DAYLIGHT
TZOFFSETFROM:+0100
TZOFFSETTO:+0200
TZNAME:CEST
DTSTART:20230326T010000
END:DAYLIGHT
BEGIN:STANDARD
TZOFFSETFROM:+0200
TZOFFSETTO:+0100
TZNAME:CET
DTSTART:20231029T010000
END:STANDARD
BEGIN:DAYLIGHT
TZOFFSETFROM:+0100
TZOFFSETTO:+0200
TZNAME:CEST
DTSTART:20240331T010000
END:DAYLIGHT
BEGIN:STANDARD
TZOFFSETFROM:+0200
TZOFFSETTO:+0100
TZNAME:CET
DTSTART:20241027T010000
END:STANDARD
END:VTIMEZONE
BEGIN:VEVENT
DTSTART;TZID=Europe/Paris:20210410T170000
DTEND;TZID=Europe/Paris:20210410T183000
DTSTAMP:20260420T044753
CREATED:20201001T090418Z
LAST-MODIFIED:20210120T143914Z
UID:22185-1618074000-1618079400@2025.conservatoiregrandavignon.com
SUMMARY:Annulé « Quand la musique est bonne… »
DESCRIPTION:Samedi 10 Avril 2021\nEspace Leclerc\, Amphithéâtre Mozart\, 17h \n« Quand la musique est bonne… »\nUn plaisir partagé à travers les textes et musiques de J. J. Goldman avec les classes de formation musicale danseurs et les ateliers vocaux danseurs et musique d’Isabelle Laugier Martin
URL:https://2025.conservatoiregrandavignon.com/event/quand-la-musique-est-bonne-2/
LOCATION:Auditorium Jean Moulin – Le Thor\, 971 Chem. des Estourans\, Le Thor\, 84250\, France
CATEGORIES:Saison 2020-2021,Saison artistique 2020-2021,Musique,Danse
ATTACH;FMTTYPE=image/jpeg:https://2025.conservatoiregrandavignon.com/wp-content/uploads/2019/05/DSC_2842.jpg
END:VEVENT
BEGIN:VEVENT
DTSTART;TZID=Europe/Paris:20210517T080000
DTEND;TZID=Europe/Paris:20210522T233000
DTSTAMP:20260420T044753
CREATED:20201014T072239Z
LAST-MODIFIED:20201014T094843Z
UID:22230-1621238400-1621726200@2025.conservatoiregrandavignon.com
SUMMARY:SEMAINE DE LA CRÉATION
DESCRIPTION:Du lundi 17 au samedi 22 Mai 2021\nEspace Leclerc\, Amphithéâtre Mozart\, Auditorium Grand Avignon\, Le Pontet\, Places d’Avignon \nSEMAINE DE LA CRÉATION\nLe Conservatoire à Rayonnement Régional du Grand Avignon vous propose une semaine extraordinaire autour de la création sous toutes ses formes. Les arts de la création\, de l’invention\, de l’improvisation seront à l’honneur dans les propositions artistiques des pôles de musique\, de danse et de théâtre.\nLa thématique principale de cette première édition est celle de la transversalité. Une ouverture vers l’extérieur tout d’abord puisque l’essentiel de la programmation sera donné dans la ville\, dans les centres sociaux\, et en plein air dans des lieux emblématiques d’Avignon. Puis\, une ouverture vers les styles et les époques\, avec des arts explorant le concept de création dans de nombreuses esthétiques. Enfin\, une ouverture vers l’autre car ces manifestations seront jouées par tous et pour tous. \nCette semaine se déroule en rendez-vous quotidiens :\n– une projection en partenariat avec le cinéma Utopia\n– des ateliers de Sound Painting\, animés par Sylvain Mazens\n– deux concerts par jours\, dans tout Avignon \nCette première édition s’achèvera lors d’une Nuit électrique\, grande manifestation artistique qui se déroulera de 20h à minuit. (Outre la manifestation en elle-même\, que l’on peut voir comme aboutissement de collaborations transversales\, il me semble indispensable de penser au travail pédagogique que ce festival va générer\, puisque cela est notre cœur de métier.
URL:https://2025.conservatoiregrandavignon.com/event/semaine-de-la-creation-2/
LOCATION:Espace Leclerc
CATEGORIES:Saison 2020-2021,Saison pédagogique 2020-2021,Saison artistique 2020-2021,Musique,Danse,Théâtre
ATTACH;FMTTYPE=image/jpeg:https://2025.conservatoiregrandavignon.com/wp-content/uploads/2020/09/20S007-247.jpg
ORGANIZER;CN="Organisateur":MAILTO:conservatoire@grandavignon.fr
END:VEVENT
BEGIN:VEVENT
DTSTART;TZID=Europe/Paris:20220128T203000
DTEND;TZID=Europe/Paris:20220128T220000
DTSTAMP:20260420T044753
CREATED:20220106T125254Z
LAST-MODIFIED:20220106T125254Z
UID:22932-1643401800-1643407200@2025.conservatoiregrandavignon.com
SUMMARY:A la découverte de la danse
DESCRIPTION:Vendredi 28 janvier 2022\, 20h30\nL’Autre Scène\, Vedène \nA la découverte de la danse\nEntrée libre sur réservation auprès de la billetterie de l’Opéra au 04 90 14 26 00\nPour les familles des élèves danseurs\, retrait des places le vendredi 14 et le vendredi 21 janvier 2022 à la billetterie de l’Opéra. \nPour le public extérieur\, retrait des places à partir du mardi 25 janvier à l’Espace Leclerc du Conservatoire.
URL:https://2025.conservatoiregrandavignon.com/event/a-la-decouverte-de-la-danse-4/
LOCATION:L’Autre Scène\, Av. Pierre de Coubertin\, Vedène\, Vaucluse\, 84270
CATEGORIES:Saison 2021-2022,Danse
ATTACH;FMTTYPE=image/jpeg:https://2025.conservatoiregrandavignon.com/wp-content/uploads/2021/09/danse-opera-juin-21@ACM-22.jpg
ORGANIZER;CN="Organisateur":MAILTO:conservatoire@grandavignon.fr
END:VEVENT
BEGIN:VEVENT
DTSTART;TZID=Europe/Paris:20220624T203000
DTEND;TZID=Europe/Paris:20220624T220000
DTSTAMP:20260420T044753
CREATED:20220525T131907Z
LAST-MODIFIED:20220525T131907Z
UID:23507-1656102600-1656108000@2025.conservatoiregrandavignon.com
SUMMARY:Biennale de la danse
DESCRIPTION:Vendredi 24 et Samedi 25 juin 2022\nOpéra Grand Avignon\, 20h30\nBiennale de la danse \nEntrée libre sur réservation auprès de la billetterie de l’Opéra au 04 90 14 26 00\nPour les familles des élèves danseurs\, retrait des places le vendredi 10 et le vendredi 17 juin 2022 à la billetterie de l’Opéra.\nPour le public extérieur\, retrait des places à partir du mardi 21 juin à l’Espace Leclerc du Conservatoire. Les réservations se font uniquement sur place.
URL:https://2025.conservatoiregrandavignon.com/event/biennale-de-la-danse/2022-06-24/
LOCATION:Opéra Grand Avignon\, Place de l'Horloge\, Avignon\, 84000
CATEGORIES:Saison 2021-2022,Danse
ATTACH;FMTTYPE=image/jpeg:https://2025.conservatoiregrandavignon.com/wp-content/uploads/2021/09/danse-opera-juin-21@ACM-39.jpg
ORGANIZER;CN="Organisateur":MAILTO:conservatoire@grandavignon.fr
END:VEVENT
BEGIN:VEVENT
DTSTART;TZID=Europe/Paris:20230204T203000
DTEND;TZID=Europe/Paris:20230204T223000
DTSTAMP:20260420T044753
CREATED:20230113T133744Z
LAST-MODIFIED:20230113T133826Z
UID:23681-1675542600-1675549800@2025.conservatoiregrandavignon.com
SUMMARY:A la découverte de la danse
DESCRIPTION:Samedi 4 et dimanche 5 février 2023\nL’Autre Scène à Vedène\, 20h30 et 14h30\nA la découverte de la danse\nSpectacle présenté par les élèves du Pôle Danse \nEntrée libre sur réservation auprès de la billetterie de l’Opéra au 04 90 14 26 00\nPour les familles des élèves danseurs\, retrait des places le vendredi 20 et le vendredi 27 janvier 2023 à la billetterie de l’Opéra.\nPour le public extérieur\, retrait des places à partir du mardi 31 janvier à l’Espace Leclerc du Conservatoire.\nLes réservations se font uniquement sur place.
URL:https://2025.conservatoiregrandavignon.com/event/a-la-decouverte-de-la-danse-5/2023-02-04/
LOCATION:L’Autre Scène\, Av. Pierre de Coubertin\, Vedène\, Vaucluse\, 84270
CATEGORIES:Saison artistique 2022-2023,Danse
ATTACH;FMTTYPE=image/jpeg:https://2025.conservatoiregrandavignon.com/wp-content/uploads/2023/01/22S007-2-15214.jpg
ORGANIZER;CN="Organisateur":MAILTO:conservatoire@grandavignon.fr
END:VEVENT
BEGIN:VEVENT
DTSTART;TZID=Europe/Paris:20230412T170000
DTEND;TZID=Europe/Paris:20230412T180000
DTSTAMP:20260420T044753
CREATED:20230224T154202Z
LAST-MODIFIED:20230301T133924Z
UID:23893-1681318800-1681322400@2025.conservatoiregrandavignon.com
SUMMARY:L'arbre et son ombre
DESCRIPTION:Mercredi 12 avril 2023\nLe Grenier à Sel\, 17h et 18h\nPerformance dansée\n Avec les élèves de 4éme en danse contemporaine de Marie-Pierre Rémy et la classe de 5ème de formation musicale danseurs de Nathalie Fons \nLe temps qui passe tel le Tic-Tac d’une horloge qui égraine les perles du temps. Le temps où les corps s’expriment\, le fruit d’une alliance entre la musique et la danse.Une création en lien avec l’œuvre de l’artiste Samuel Rousseau « L’arbre et son ombre ». Un travail épuré et poétique autour du temps de l’espace et de la forme. \nEntrée libre sur réservation au Tél. accueil : +33 (0)4 32 74 05 31 – Tél. administration : +33 (0)4 28 70 00 97 – E-mail : accueil@legrenierasel-avignon.fr \nhttps://legrenierasel-avignon.fr/# \n \n 
URL:https://2025.conservatoiregrandavignon.com/event/larbre-et-son-ombre/2023-04-12/
LOCATION:Le Grenier à Sel\, 2 rue du Rempart Saint-Lazare\, Avignon\, Vaucluse\, 84000\, France
CATEGORIES:Saison artistique 2022-2023,Musique,Danse
ATTACH;FMTTYPE=image/jpeg:https://2025.conservatoiregrandavignon.com/wp-content/uploads/2023/02/22S007-3-16470.jpg
ORGANIZER;CN="Organisateur":MAILTO:conservatoire@grandavignon.fr
END:VEVENT
BEGIN:VEVENT
DTSTART;TZID=Europe/Paris:20240210T200000
DTEND;TZID=Europe/Paris:20240210T220000
DTSTAMP:20260420T044753
CREATED:20240123T083719Z
LAST-MODIFIED:20240201T104725Z
UID:24456-1707595200-1707602400@2025.conservatoiregrandavignon.com
SUMMARY:Spectacle de danse #1
DESCRIPTION:Samedi 10 et Dimanche 11 février 2024\nL’Autre Scène – Vedène\, 20h et 15h\nSpectacle de danse #1\, avec les élèves  des classes à horaires aménagés danse (collège) \nEntrée libre sur réservation au 04.90.14.26.40  auprès de la billetterie de l’Opéra Grand Avignon à partir du 30 janvier au mercredi 7 février 2024
URL:https://2025.conservatoiregrandavignon.com/event/spectacle-de-danse-1/2024-02-10/
LOCATION:L’Autre Scène\, Av. Pierre de Coubertin\, Vedène\, Vaucluse\, 84270
CATEGORIES:Artiste invité 2023-2024,Danse
ATTACH;FMTTYPE=image/jpeg:https://2025.conservatoiregrandavignon.com/wp-content/uploads/2024/01/Danse-opera-2023-13.jpg
ORGANIZER;CN="Organisateur":MAILTO:conservatoire@grandavignon.fr
END:VEVENT
BEGIN:VEVENT
DTSTART;TZID=Europe/Paris:20240405T183000
DTEND;TZID=Europe/Paris:20240405T200000
DTSTAMP:20260420T044753
CREATED:20240319T111714Z
LAST-MODIFIED:20240319T141923Z
UID:24730-1712341800-1712347200@2025.conservatoiregrandavignon.com
SUMMARY:Histoires de Danse - Acte 3
DESCRIPTION:Vendredi 5 Avril 2024\nL’Autre Scène – Vedène\, 18h30 et 20h30\nHistoires de Danse – Acte 3\nAvec les élèves de 1er Cycle d’Avignon et les élèves du site le Pontet – Morières \nA partir du mercredi 3 avril 2024\, Réservation des places auprès du Conservatoire site le Pontet/Morières au 04.32.40.46.50
URL:https://2025.conservatoiregrandavignon.com/event/histoires-de-danse-acte-3/2024-04-05/
LOCATION:L’Autre Scène\, Av. Pierre de Coubertin\, Vedène\, Vaucluse\, 84270
CATEGORIES:Danse
ATTACH;FMTTYPE=image/jpeg:https://2025.conservatoiregrandavignon.com/wp-content/uploads/2024/03/2022.06-danse-le-pontet-morieres-16.jpg
ORGANIZER;CN="Organisateur":MAILTO:conservatoire@grandavignon.fr
END:VEVENT
BEGIN:VEVENT
DTSTART;TZID=Europe/Paris:20241016T180000
DTEND;TZID=Europe/Paris:20241016T180000
DTSTAMP:20260420T044753
CREATED:20241103T155959Z
LAST-MODIFIED:20241103T163755Z
UID:25223-1729101600-1729101600@2025.conservatoiregrandavignon.com
SUMMARY:« Happy hours artistiques »  Concert d’ouverture du Parcours de l’art\,
DESCRIPTION:Dialogue avec les œuvres exposées à l’occasion du Parcours de l’art proposé par les classes de piano\, de danse et de théâtre.
URL:https://2025.conservatoiregrandavignon.com/event/happy-hours-artistiques-concert-douverture-du-parcours-de-lart/
LOCATION:Eglise Les Célestins\, Place des Corps-Saints\, Avignon\, 84000
CATEGORIES:Saison 2024-2025,Musique,Danse,Théâtre
ATTACH;FMTTYPE=image/jpeg:https://2025.conservatoiregrandavignon.com/wp-content/uploads/2024/11/2023.06opera-danse@ACM-14.jpg
ORGANIZER;CN="Organisateur":MAILTO:conservatoire@grandavignon.fr
END:VEVENT
BEGIN:VEVENT
DTSTART;TZID=Europe/Paris:20241129T190000
DTEND;TZID=Europe/Paris:20241129T190000
DTSTAMP:20260420T044753
CREATED:20241103T164926Z
LAST-MODIFIED:20241119T100559Z
UID:25235-1732906800-1732906800@2025.conservatoiregrandavignon.com
SUMMARY:Bal tango
DESCRIPTION:Direction : Yvonne Hahn
URL:https://2025.conservatoiregrandavignon.com/event/bal-tango-2/
LOCATION:Auditorium du Grand Avignon\, 2 Esp des Droits de l'Homme et des Citoyens\, Site du Château de Fargues\, Le Pontet\, 84130\, France
CATEGORIES:Saison 2024-2025,Danse
ATTACH;FMTTYPE=image/jpeg:https://2025.conservatoiregrandavignon.com/wp-content/uploads/2024/11/24S007-19-19042-Avec-accentuation-Bruit.jpg
ORGANIZER;CN="Organisateur":MAILTO:conservatoire@grandavignon.fr
END:VEVENT
BEGIN:VEVENT
DTSTART;TZID=Europe/Paris:20241218T140000
DTEND;TZID=Europe/Paris:20241218T200000
DTSTAMP:20260420T044753
CREATED:20241103T180207Z
LAST-MODIFIED:20241103T180207Z
UID:25263-1734530400-1734552000@2025.conservatoiregrandavignon.com
SUMMARY:Le conservatoire fête noël au profit de la campagne des pères Noël verts  du secours populaire
DESCRIPTION:
URL:https://2025.conservatoiregrandavignon.com/event/le-conservatoire-fete-noel-au-profit-de-la-campagne-des-peres-noel-verts-du-secours-populaire/
LOCATION:Espace Leclerc
CATEGORIES:Saison 2024-2025,Musique,Danse,Pluridisciplinaire,Théâtre
ATTACH;FMTTYPE=image/jpeg:https://2025.conservatoiregrandavignon.com/wp-content/uploads/2024/11/DSC_0630-scaled.jpg
ORGANIZER;CN="Organisateur":MAILTO:conservatoire@grandavignon.fr
END:VEVENT
END:VCALENDAR