BEGIN:VCALENDAR
VERSION:2.0
PRODID:-//Conservatoire à Rayonnement Régional du Grand Avignon - ECPv6.12.0.1//NONSGML v1.0//EN
CALSCALE:GREGORIAN
METHOD:PUBLISH
X-WR-CALNAME:Conservatoire à Rayonnement Régional du Grand Avignon
X-ORIGINAL-URL:https://2025.conservatoiregrandavignon.com
X-WR-CALDESC:Évènements pour Conservatoire à Rayonnement Régional du Grand Avignon
REFRESH-INTERVAL;VALUE=DURATION:PT1H
X-Robots-Tag:noindex
X-PUBLISHED-TTL:PT1H
BEGIN:VTIMEZONE
TZID:Europe/Paris
BEGIN:DAYLIGHT
TZOFFSETFROM:+0100
TZOFFSETTO:+0200
TZNAME:CEST
DTSTART:20220327T010000
END:DAYLIGHT
BEGIN:STANDARD
TZOFFSETFROM:+0200
TZOFFSETTO:+0100
TZNAME:CET
DTSTART:20221030T010000
END:STANDARD
END:VTIMEZONE
BEGIN:VEVENT
DTSTART;TZID=Europe/Paris:20220506T190000
DTEND;TZID=Europe/Paris:20220506T200000
DTSTAMP:20260424T003529
CREATED:20220428T092903Z
LAST-MODIFIED:20220504T095722Z
UID:23370-1651863600-1651867200@2025.conservatoiregrandavignon.com
SUMMARY:Concert Schubert
DESCRIPTION:Vendredi 6 mai 2022\nEspace Leclerc\, Amphithéâtre Mozart\, 19h00 \nConcert Schubert  :\nLes professeurs du département cordes et piano vous proposent un concert autour des pièces magistrales de Schubert.\nAvec la participation de Florence Marie\, Anne-Cécile Brielles \, Sophie Mouson\, Marlène Pianet\, Pierre Denizet\, Frédéric Bethune\, Hélène Andréozzi\, Moya Yu et Pierre Guiral.
URL:https://2025.conservatoiregrandavignon.com/event/concert-schubert/
LOCATION:Espace Leclerc – Amphithéâtre Mozart\, 1-3 rue du Général Leclerc\, Avignon\, 84000
CATEGORIES:Saison 2021-2022,Musique
ATTACH;FMTTYPE=image/jpeg:https://2025.conservatoiregrandavignon.com/wp-content/uploads/2022/04/Violoncelles-Valerie-Aimard@ACM2022-17.jpg
ORGANIZER;CN="Organisateur":MAILTO:conservatoire@grandavignon.fr
END:VEVENT
BEGIN:VEVENT
DTSTART;TZID=Europe/Paris:20220513T193000
DTEND;TZID=Europe/Paris:20220513T230000
DTSTAMP:20260424T003529
CREATED:20220428T124046Z
LAST-MODIFIED:20220428T131550Z
UID:23385-1652470200-1652482800@2025.conservatoiregrandavignon.com
SUMMARY:Festival de musique actuelle avec The Yellbows et Julie Blasco
DESCRIPTION:Vendredi 13 et samedi 14 mai 2022\nPlace du marché de Pujaut\, 19h30\nFestival de musique actuelle \n2 concerts inédits avec en première partie les élèves du département de musiques actuelle et deux tête d’affiche \nVendredi 13 mai 2022\, 20h30\nLe groupe THE YELLBOWS    \nSi vous êtes curieux\, n’hésitez pas à cliquer sur le lien ci dessous:https://theyellbows.ffm.to/ep-1.oem \n \nSamedi 14 mai 2022\, 20h30\nJulie Blasco : https://www.blasco-official.com/
URL:https://2025.conservatoiregrandavignon.com/event/festival-de-musique-actuelle-avec-the-yellbows-et-julie-blasco/2022-05-13/
LOCATION:Place du marché\, Pujaut
CATEGORIES:Saison 2021-2022,Musique
ATTACH;FMTTYPE=image/png:https://2025.conservatoiregrandavignon.com/wp-content/uploads/2022/04/Concert-saxophone-et-accordeon.png
ORGANIZER;CN="Organisateur":MAILTO:conservatoire@grandavignon.fr
END:VEVENT
END:VCALENDAR