BEGIN:VCALENDAR
VERSION:2.0
PRODID:-//Conservatoire à Rayonnement Régional du Grand Avignon - ECPv6.12.0.1//NONSGML v1.0//EN
CALSCALE:GREGORIAN
METHOD:PUBLISH
X-WR-CALNAME:Conservatoire à Rayonnement Régional du Grand Avignon
X-ORIGINAL-URL:https://2025.conservatoiregrandavignon.com
X-WR-CALDESC:Évènements pour Conservatoire à Rayonnement Régional du Grand Avignon
REFRESH-INTERVAL;VALUE=DURATION:PT1H
X-Robots-Tag:noindex
X-PUBLISHED-TTL:PT1H
BEGIN:VTIMEZONE
TZID:Europe/Paris
BEGIN:DAYLIGHT
TZOFFSETFROM:+0100
TZOFFSETTO:+0200
TZNAME:CEST
DTSTART:20230326T010000
END:DAYLIGHT
BEGIN:STANDARD
TZOFFSETFROM:+0200
TZOFFSETTO:+0100
TZNAME:CET
DTSTART:20231029T010000
END:STANDARD
END:VTIMEZONE
BEGIN:VEVENT
DTSTART;TZID=Europe/Paris:20230106T190000
DTEND;TZID=Europe/Paris:20230106T200000
DTSTAMP:20260420T092007
CREATED:20230109T100814Z
LAST-MODIFIED:20230109T100814Z
UID:23607-1673031600-1673035200@2025.conservatoiregrandavignon.com
SUMMARY:Concert du Quatuor Léonis
DESCRIPTION:Vendredi 6 janvier 2023\nAmphithéâtre Mozart\, 19h\nConcert du quatuor Léonis \n \n\n\n\n\n\nEngagés dans une démarche artistique innovante\, les musiciens du Quatuor Leonis transportent le riche héritage du quatuor à cordes dans le monde du théâtre\, de la danse\, de la littérature\, de la musique électronique\, de la création contemporaine avec des projets audacieux visant à toucher et sensibiliser de nouveaux publics.\n\n\nAprès des études dans les plus grandes écoles (CNSM de Paris et de Lyon\, Haute Ecole de musique de Genève\, Yale Summer academy) marquées par des rencontres avec les maîtres de la discipline (Quatuors Ysaye\, Berg\, Hagen\, Tokyo\, Fine Arts)\, le Quatuor Leonis (anciennement Esteves) lauréat de nombreux concours internationaux\, remporte en 2006 le 3ème Prix du Concours International de Genève.\n\n\nDe 2008 à 2013\, le Quatuor Leonis est en résidence au théâtre National de l’Odéon où il collabore avec le dramaturge et metteur en scène Olivier Py pour la création des spectacles « Orestie d’Eschyle »\, « Adagio (Mitterrand le secret et la mort) ». L’envie de créer des spectacles\, des concerts-lectures\, des formules nouvelles où se mêlent différentes formes d’arts\, naît à cette période.\n\n\nLe Quatuor Leonis\, Artiste Associé de la MCNA de Nevers lors de la saison 2012-2013\, profite de sa rencontre avec le metteur en scène Manu Kroupit pour créer « Eclisse Totale ». Ce spectacle\, mélangeant les univers du Quatuor et de Philippe Genty\, est le premier où le quatuor est seul en scène\, jouant à la fois les rôles de musiciens\, de danseurs et de comédiens. Il a été donné en France et à l’étranger (Théâtre du Châtelet\, festival d’Avignon\, tournées en Chine\, Théâtre de Salerne Italie\, Théâtre National de Nice…)\n\n\nPendant 6 an\, le Quatuor Leonis a été en résidence au Théâtre de l’Aquarium/ Cartoucherie de Vincennes dirigé par François Rancillac. Au cours de cette résidence le quatuor a créé une saison de concerts de musique de chambre. La programmation de ces « Brunch-Concerts » fait écho à celle du Théâtre de l’Aquarium et attire chaque années un public fidèle de plus en plus nombreux.\n\n\nAu gré de ses rencontres particulièrement enrichissantes avec des artistes de tous horizons\, le quatuor a réussi à mêler la musique classique à la lecture (auprès d’Ariane Ascaride\, Olivier Py\, Mathilda May\, Jean Bojko\, Olivier Broda)\, à la danse (avec Arkadi Zaides\, la Cie Mehdia Hip-Hop)\, à la vidéo (avec Yann Dupont)\, au sport (dans le cadre de résidences « hors-les-murs » et pour un projet autour du football et du langage du corps) et bien sûr au théâtre (auprès d’Olivier Py et Rodrigo Gracia).
URL:https://2025.conservatoiregrandavignon.com/event/concert-du-quatuor-leonis-2/
LOCATION:Espace Leclerc – Amphithéâtre Mozart\, 1-3 rue du Général Leclerc\, Avignon\, 84000
CATEGORIES:Saison artistique 2022-2023,Artistes invités 2022-2023,Musique
ATTACH;FMTTYPE=image/jpeg:https://2025.conservatoiregrandavignon.com/wp-content/uploads/2023/01/2021-12-07-Quatuor-Leonis-ALauriol-16-scaled.jpg
ORGANIZER;CN="Organisateur":MAILTO:conservatoire@grandavignon.fr
END:VEVENT
BEGIN:VEVENT
DTSTART;TZID=Europe/Paris:20230107T163000
DTEND;TZID=Europe/Paris:20230107T180000
DTSTAMP:20260420T092007
CREATED:20230109T101410Z
LAST-MODIFIED:20230109T101558Z
UID:23611-1673109000-1673114400@2025.conservatoiregrandavignon.com
SUMMARY:Concert de restitution suite à la master class avec le Quatuor Léonis
DESCRIPTION:Samedi 7 janvier 2023\nAmphithéâtre Mozart\, 16h30\nConcert de restitution suite aux master class du Quatuor Léonis auprès des élèves du départent cordes \n  \n  \n 
URL:https://2025.conservatoiregrandavignon.com/event/concert-de-restitution-suite-a-la-master-class-avec-le-quatuor-leonis/
LOCATION:Espace Leclerc – Amphithéâtre Mozart\, 1-3 rue du Général Leclerc\, Avignon\, 84000
CATEGORIES:Saison artistique 2022-2023,Musique
ATTACH;FMTTYPE=image/jpeg:https://2025.conservatoiregrandavignon.com/wp-content/uploads/2022/04/Violoncelles-Valerie-Aimard@ACM2022-17.jpg
ORGANIZER;CN="Organisateur":MAILTO:conservatoire@grandavignon.fr
END:VEVENT
BEGIN:VEVENT
DTSTART;TZID=Europe/Paris:20230111T180000
DTEND;TZID=Europe/Paris:20230111T190000
DTSTAMP:20260420T092007
CREATED:20230109T102543Z
LAST-MODIFIED:20230109T102543Z
UID:23613-1673460000-1673463600@2025.conservatoiregrandavignon.com
SUMMARY:Concert Trio Calligramme
DESCRIPTION:Mercredi 11 janvier 2023\nAmphithéâtre Mozart 18h à 19h\nConcert Trio Calligramme \nConcert de musique de chambre par le Trio Calligramme\nIsis Larrère\, Piano\nMireille Kovac\, Violon\nBenedicte Legrand\, Violoncelle
URL:https://2025.conservatoiregrandavignon.com/event/concert-trio-calligramme/
LOCATION:Espace Leclerc – Amphithéâtre Mozart\, 1-3 rue du Général Leclerc\, Avignon\, 84000
CATEGORIES:Saison artistique 2022-2023,Artistes invités 2022-2023,Musique
ATTACH;FMTTYPE=image/jpeg:https://2025.conservatoiregrandavignon.com/wp-content/uploads/2023/01/photo-trio-calligramme-scaled.jpg
ORGANIZER;CN="Organisateur":MAILTO:conservatoire@grandavignon.fr
END:VEVENT
BEGIN:VEVENT
DTSTART;TZID=Europe/Paris:20230116T170000
DTEND;TZID=Europe/Paris:20230116T180000
DTSTAMP:20260420T092007
CREATED:20230112T135051Z
LAST-MODIFIED:20230112T135051Z
UID:23656-1673888400-1673892000@2025.conservatoiregrandavignon.com
SUMMARY:Conférence\, la technique d’embouchure\, le souffle\, le son\, par Philippe Bernold
DESCRIPTION:Lundi 16 janvier 2023\nEspace Leclerc\, Amphithéâtre Mozart\, 17h\nConférence La technique d’embouchure\, le souffle\, le son\, Philippe BERNOLD
URL:https://2025.conservatoiregrandavignon.com/event/conference-la-technique-dembouchure-le-souffle-le-son-par-philippe-bernold/
LOCATION:Espace Leclerc – Amphithéâtre Mozart\, 1-3 rue du Général Leclerc\, Avignon\, 84000
CATEGORIES:Saison artistique 2022-2023,Artistes invités 2022-2023,Musique
ATTACH;FMTTYPE=image/jpeg:https://2025.conservatoiregrandavignon.com/wp-content/uploads/2023/01/photo-philippe-Bernold-@Jean-Baptiste-Millot-scaled.jpg
ORGANIZER;CN="Organisateur":MAILTO:conservatoire@grandavignon.fr
END:VEVENT
BEGIN:VEVENT
DTSTART;TZID=Europe/Paris:20230117T183000
DTEND;TZID=Europe/Paris:20230117T193000
DTSTAMP:20260420T092007
CREATED:20230109T125844Z
LAST-MODIFIED:20230109T125844Z
UID:23624-1673980200-1673983800@2025.conservatoiregrandavignon.com
SUMMARY:Récital : Philippe Bernold\, flûte et Sophie labandibar\, piano
DESCRIPTION:Mardi 17 janvier 2023\nAmphithéâtre Mozart\, 18h30\nRécital : Philippe Bernold\, flûte et Sophie labandibar\, piano \nProgramme :\nJ.S. Bach  Sonate en mi majeur BWV 1035 pour flute & clavier (Adagio ma non tante-Allegro-Siciliano-Allegro assai) \n\nSchubert Introduction\, thème & variations sur « La belle Meunière » D.802 pour flûte et piano\nPoulenc Sonate (Allegro malinconico-Cantilena-Presto giocoso)
URL:https://2025.conservatoiregrandavignon.com/event/recital-philippe-bernold-flute-et-sophie-labandibar-piano/
LOCATION:Espace Leclerc – Amphithéâtre Mozart\, 1-3 rue du Général Leclerc\, Avignon\, 84000
CATEGORIES:Saison artistique 2022-2023,Artistes invités 2022-2023,Musique
ATTACH;FMTTYPE=image/jpeg:https://2025.conservatoiregrandavignon.com/wp-content/uploads/2023/01/photo-philippe-Bernold-@Jean-Baptiste-Millot-scaled.jpg
ORGANIZER;CN="Organisateur":MAILTO:conservatoire@grandavignon.fr
END:VEVENT
BEGIN:VEVENT
DTSTART;TZID=Europe/Paris:20230118T183000
DTEND;TZID=Europe/Paris:20230118T193000
DTSTAMP:20260420T092007
CREATED:20230109T131440Z
LAST-MODIFIED:20230109T131440Z
UID:23626-1674066600-1674070200@2025.conservatoiregrandavignon.com
SUMMARY:Concert Philippe Bernold\, accompagné par l'orchestre de flûte
DESCRIPTION:Mercredi 18 janvier 2023\nAmphithéâtre Mozart\, 18h30\nConcert Philippe Bernold\, accompagné par l’orchestre de flûtes\, dirigé par Michel Barruol \nAvec la participation des élèves des classes de flûtes de Corinne Sagnol\, Claire Hérique et Olivia Maurin
URL:https://2025.conservatoiregrandavignon.com/event/concert-philippe-bernold-accompagne-par-lorchestre-de-flute/
LOCATION:Espace Leclerc – Amphithéâtre Mozart\, 1-3 rue du Général Leclerc\, Avignon\, 84000
CATEGORIES:Saison artistique 2022-2023,Artistes invités 2022-2023,Musique
ATTACH;FMTTYPE=image/jpeg:https://2025.conservatoiregrandavignon.com/wp-content/uploads/2023/01/21S007-8900.jpg
ORGANIZER;CN="Organisateur":MAILTO:conservatoire@grandavignon.fr
END:VEVENT
BEGIN:VEVENT
DTSTART;TZID=Europe/Paris:20230120T200000
DTEND;TZID=Europe/Paris:20230120T213000
DTSTAMP:20260420T092007
CREATED:20230109T152611Z
LAST-MODIFIED:20230109T152842Z
UID:23630-1674244800-1674250200@2025.conservatoiregrandavignon.com
SUMMARY:Amérique/S - Concert découverte des artistes enseignant du conservatoire
DESCRIPTION:Vendredi 20 janvier 2023\nSalle polyvalente de Pujaut\, 20h\nAmérique/S\, Concert découverte des artistes enseignants du conservatoire\n(Entrée libre sans réservation)
URL:https://2025.conservatoiregrandavignon.com/event/amerique-s-concert-decouverte-des-artistes-enseignant-du-conservatoire/
LOCATION:Salle polyvalente de Pujat\, 1 Place du Marché\, Pujaut\, 30131
CATEGORIES:Saison artistique 2022-2023,Musique
ATTACH;FMTTYPE=image/png:https://2025.conservatoiregrandavignon.com/wp-content/uploads/2023/01/Banniere-de-Noel-Personnel-Classe-et-Elegant-Dore-et-Vert-Couverture-Facebook1.png
ORGANIZER;CN="Organisateur":MAILTO:conservatoire@grandavignon.fr
END:VEVENT
BEGIN:VEVENT
DTSTART;TZID=Europe/Paris:20230127T190000
DTEND;TZID=Europe/Paris:20230127T200000
DTSTAMP:20260420T092007
CREATED:20230112T131204Z
LAST-MODIFIED:20230112T131204Z
UID:23645-1674846000-1674849600@2025.conservatoiregrandavignon.com
SUMMARY:Concert du Consort Brouillamini
DESCRIPTION:Vendredi 27 janvier 2023\nEspace Leclerc\, Amphithéâtre Mozart\, 19h\nConcert du Consort Brouillamini \nProgramme\nIl était une fois …\n500 ans de musique pour ensemble de flûtes à bec\nSi les flûtes à bec ont été largement utilisées durant la Renaissance puis la période baroque\, leur facture a pourtant connu des évolutions considérables : aux ensembles de flûtes de la Renaissance\, ou consorts\, regroupant des flûtes de tailles diverses aux timbres très homogènes\, se sont progressivement substituées des flûtes à la tessiture plus ample permettant une palette plus large de nuances\, ainsi qu’une plus grande virtuosité. \n\n Le Consort Brouillamini se propose de retracer à travers ce programme les évolutions de ces langages musicaux et c’est munis de leur double consort de flûtes à bec que les cinq musiciens vous feront découvrir divers aspects de la pratique d’ensemble : musique de danse de la Renaissance\, transcriptions d’œuvres baroques concertantes mais aussi musiques répétitive et expérimentale de nos jours. \n\n\nhttps://www.consortbrouillamini.com/blank-3\n\n\n\n\n\n\n 
URL:https://2025.conservatoiregrandavignon.com/event/concert-du-consort-brouillamini/
LOCATION:Espace Leclerc – Amphithéâtre Mozart\, 1-3 rue du Général Leclerc\, Avignon\, 84000
CATEGORIES:Saison artistique 2022-2023,Artistes invités 2022-2023,Musique
ATTACH;FMTTYPE=image/png:https://2025.conservatoiregrandavignon.com/wp-content/uploads/2023/01/Scene-3.png
ORGANIZER;CN="Organisateur":MAILTO:conservatoire@grandavignon.fr
END:VEVENT
BEGIN:VEVENT
DTSTART;TZID=Europe/Paris:20230128T140000
DTEND;TZID=Europe/Paris:20230128T170000
DTSTAMP:20260420T092007
CREATED:20230126T105322Z
LAST-MODIFIED:20230126T105322Z
UID:23737-1674914400-1674925200@2025.conservatoiregrandavignon.com
SUMMARY:1ère Journée du piano collectif
DESCRIPTION:Samedi 28 Janvier 2023\n\n\n1ère Journée du Piano Collectif\n\n\nSalle d’orchestre et salle Debussy du Conservatoire\, de 14h à 17h\n\n\n \n\n\nSalle d’orchestre \n\n\n14h : Voyage au-dessusde l’océan\n\n\n14h55 : Interlude I\n\n\n15h05 : Contempocollectif\n\n\n16h : Interlude II\n\n\n16h15 : Contempocollectif\n\n\n17h05 : Voyage au-dessus de l’océan\n\n\n \n\n\nSalle Debussy \n\n\n14h : 4 mains\n\n\n15h05 : Création et Ellis\n\n\n15h30 : Des mains/des jambes\n\n\n16h : 4 mains\n\n\n16h40 : Créations et ellis\n\n\n17h05 : Des mains/des jambes
URL:https://2025.conservatoiregrandavignon.com/event/1ere-journee-du-piano-collectif/
LOCATION:Salle Debussy\, 3\, rue du Général Leclerc
CATEGORIES:Saison artistique 2022-2023,Musique
ATTACH;FMTTYPE=image/jpeg:https://2025.conservatoiregrandavignon.com/wp-content/uploads/2023/01/22S007-05-05255.jpg
ORGANIZER;CN="Organisateur":MAILTO:conservatoire@grandavignon.fr
END:VEVENT
BEGIN:VEVENT
DTSTART;TZID=Europe/Paris:20230128T163000
DTEND;TZID=Europe/Paris:20230128T173000
DTSTAMP:20260420T092007
CREATED:20230112T133942Z
LAST-MODIFIED:20230113T141349Z
UID:23648-1674923400-1674927000@2025.conservatoiregrandavignon.com
SUMMARY:Concert de la classe de flûte à bec
DESCRIPTION:Samedi 28 janvier 2023\nEspace Leclerc\, Amphithéâtre Mozart\, 16h30\nConcert de la classe de flûte à bec\, de Célia Vakanas suite aux master class avec le Consort Brouillamini \n 
URL:https://2025.conservatoiregrandavignon.com/event/concert-de-la-classe-de-flute-a-bec/
LOCATION:Espace Leclerc – Amphithéâtre Mozart\, 1-3 rue du Général Leclerc\, Avignon\, 84000
CATEGORIES:Saison artistique 2022-2023,Artistes invités 2022-2023,Musique
ATTACH;FMTTYPE=image/jpeg:https://2025.conservatoiregrandavignon.com/wp-content/uploads/2023/01/noel2019@seliajacinto-3-scaled.jpg
ORGANIZER;CN="Organisateur":MAILTO:conservatoire@grandavignon.fr
END:VEVENT
END:VCALENDAR