BEGIN:VCALENDAR
VERSION:2.0
PRODID:-//Conservatoire à Rayonnement Régional du Grand Avignon - ECPv6.12.0.1//NONSGML v1.0//EN
CALSCALE:GREGORIAN
METHOD:PUBLISH
X-ORIGINAL-URL:https://2025.conservatoiregrandavignon.com
X-WR-CALDESC:Évènements pour Conservatoire à Rayonnement Régional du Grand Avignon
REFRESH-INTERVAL;VALUE=DURATION:PT1H
X-Robots-Tag:noindex
X-PUBLISHED-TTL:PT1H
BEGIN:VTIMEZONE
TZID:UTC
BEGIN:STANDARD
TZOFFSETFROM:+0000
TZOFFSETTO:+0000
TZNAME:UTC
DTSTART:20220101T000000
END:STANDARD
END:VTIMEZONE
BEGIN:VEVENT
DTSTART;TZID=UTC:20220321T190000
DTEND;TZID=UTC:20220321T200000
DTSTAMP:20260422T004057
CREATED:20220302T100235Z
LAST-MODIFIED:20220302T110255Z
UID:23118-1647889200-1647892800@2025.conservatoiregrandavignon.com
SUMMARY:Concert d'ouverture du Festival du Cor
DESCRIPTION:  \nLundi 21 mars 2022\nAmphithéâtre Mozart\, 19h\nConcert d’ouverture du Festival du Cor \nPROGRAMME\nQuatuor de cors de N. Tcherepnine\nQuatuor de cor : Pauline Lestrelin\, Emma Ait Hamouda\, Manon Lecureuil et Grégoire Chalut \nTombeau de Couperin de M. Ravel\nQuintette à vent :\nOdile Vergeze : clarinette\nHervé Issartel : basson\nCorinne  Sagnol : flûte\nFabienne  Garceau : hautbois\nEric  Sombret : cor \nAlphorn de R. Strauss\nAngélique Boudjemil : soprano\nNicolas Marguet : cor\nThuy Anh Vuong : piano \nSextuor de F. Poulenc\nQuintette à vent et piano\nOdile Vergeze : clarinette\nHervé Issartel : basson\nCorinne Sagnol : flûte\nFabienne Garceau : hautbois\nThuy Anh Vuong : piano\nEric Sombret : cor \n 
URL:https://2025.conservatoiregrandavignon.com/event/festival-du-cor-4/
LOCATION:Espace Leclerc – Amphithéâtre Mozart\, 1-3 rue du Général Leclerc\, Avignon\, 84000
CATEGORIES:Saison 2021-2022,Artistes invités 2021-2022,Musique
ATTACH;FMTTYPE=image/jpeg:https://2025.conservatoiregrandavignon.com/wp-content/uploads/2022/03/Image1.jpg
ORGANIZER;CN="Organisateur":MAILTO:conservatoire@grandavignon.fr
END:VEVENT
END:VCALENDAR