BEGIN:VCALENDAR
VERSION:2.0
PRODID:-//Conservatoire à Rayonnement Régional du Grand Avignon - ECPv6.12.0.1//NONSGML v1.0//EN
CALSCALE:GREGORIAN
METHOD:PUBLISH
X-ORIGINAL-URL:https://2025.conservatoiregrandavignon.com
X-WR-CALDESC:Évènements pour Conservatoire à Rayonnement Régional du Grand Avignon
REFRESH-INTERVAL;VALUE=DURATION:PT1H
X-Robots-Tag:noindex
X-PUBLISHED-TTL:PT1H
BEGIN:VTIMEZONE
TZID:Europe/Paris
BEGIN:DAYLIGHT
TZOFFSETFROM:+0100
TZOFFSETTO:+0200
TZNAME:CEST
DTSTART:20220327T010000
END:DAYLIGHT
BEGIN:STANDARD
TZOFFSETFROM:+0200
TZOFFSETTO:+0100
TZNAME:CET
DTSTART:20221030T010000
END:STANDARD
END:VTIMEZONE
BEGIN:VEVENT
DTSTART;TZID=Europe/Paris:20220514T190000
DTEND;TZID=Europe/Paris:20220514T200000
DTSTAMP:20260421T122405
CREATED:20220428T095324Z
LAST-MODIFIED:20220502T150159Z
UID:23381-1652554800-1652558400@2025.conservatoiregrandavignon.com
SUMMARY:Spectacle de la classe d'art lyrique
DESCRIPTION:Samedi 14 mai 2022\, 19h\nDimanche 15 mai 2022\, 15h\nAuditorium du Grand Avignon – Le Pontet \nLe testament de Crac et Les cocottes lyriques \nAvec les élèves de la classe d’art lyrique de Valérie Marestin
URL:https://2025.conservatoiregrandavignon.com/event/spectacle-de-la-classe-dart-lyrique/2022-05-14/
LOCATION:Auditorium du Grand Avignon\, 2 Esp des Droits de l'Homme et des Citoyens\, Site du Château de Fargues\, Le Pontet\, 84130\, France
CATEGORIES:Saison 2021-2022
ATTACH;FMTTYPE=image/jpeg:https://2025.conservatoiregrandavignon.com/wp-content/uploads/2022/04/22S007-12-12620.jpg
ORGANIZER;CN="Organisateur":MAILTO:conservatoire@grandavignon.fr
END:VEVENT
END:VCALENDAR