BEGIN:VCALENDAR
VERSION:2.0
PRODID:-//Conservatoire à Rayonnement Régional du Grand Avignon - ECPv6.12.0.1//NONSGML v1.0//EN
CALSCALE:GREGORIAN
METHOD:PUBLISH
X-WR-CALNAME:Conservatoire à Rayonnement Régional du Grand Avignon
X-ORIGINAL-URL:https://2025.conservatoiregrandavignon.com
X-WR-CALDESC:Évènements pour Conservatoire à Rayonnement Régional du Grand Avignon
REFRESH-INTERVAL;VALUE=DURATION:PT1H
X-Robots-Tag:noindex
X-PUBLISHED-TTL:PT1H
BEGIN:VTIMEZONE
TZID:Europe/Paris
BEGIN:DAYLIGHT
TZOFFSETFROM:+0100
TZOFFSETTO:+0200
TZNAME:CEST
DTSTART:20200329T010000
END:DAYLIGHT
BEGIN:STANDARD
TZOFFSETFROM:+0200
TZOFFSETTO:+0100
TZNAME:CET
DTSTART:20201025T010000
END:STANDARD
BEGIN:DAYLIGHT
TZOFFSETFROM:+0100
TZOFFSETTO:+0200
TZNAME:CEST
DTSTART:20210328T010000
END:DAYLIGHT
BEGIN:STANDARD
TZOFFSETFROM:+0200
TZOFFSETTO:+0100
TZNAME:CET
DTSTART:20211031T010000
END:STANDARD
END:VTIMEZONE
BEGIN:VEVENT
DTSTART;VALUE=DATE:20200606
DTEND;VALUE=DATE:20200607
DTSTAMP:20260423T111159
CREATED:20190918T200435Z
LAST-MODIFIED:20190930T160648Z
UID:21147-1591401600-1591487999@2025.conservatoiregrandavignon.com
SUMMARY:« La Corse invitée »
DESCRIPTION:Samedi 6 juin 2020\nÉglise…………… \nConcert du chœur mixte et du chœur polyphonique de Sartène\nDirection : Isabelle Guignard et Jean-Paul Poletti \nPhoto Poletti
URL:https://2025.conservatoiregrandavignon.com/event/la-corse-invitee/
CATEGORIES:Saison 2019-2020,Saison artistique 2019-2020,Musique
ATTACH;FMTTYPE=image/jpeg:https://2025.conservatoiregrandavignon.com/wp-content/uploads/2019/09/17-mai-2020-jean-paul-poletti-@poletti.jpg
END:VEVENT
BEGIN:VEVENT
DTSTART;TZID=Europe/Paris:20200606T203000
DTEND;TZID=Europe/Paris:20200606T203000
DTSTAMP:20260423T111159
CREATED:20190918T201021Z
LAST-MODIFIED:20190930T161129Z
UID:21149-1591475400-1591475400@2025.conservatoiregrandavignon.com
SUMMARY:Concert de l’orchestre d’harmonie
DESCRIPTION:Samedi 6 juin 2020\nCave de Saint-Laurent-des-Arbres\, 20h30\nConcert de l’orchestre d’harmonie\nDirection : Éric Sombret \nPhoto ACM
URL:https://2025.conservatoiregrandavignon.com/event/concert-de-lorchestre-dharmonie-5/
LOCATION:Cave de Saint-Laurent-des-Arbres\, Saint-Laurent-des-Arbres
CATEGORIES:Saison 2019-2020,Saison artistique 2019-2020,Musique
ATTACH;FMTTYPE=image/jpeg:https://2025.conservatoiregrandavignon.com/wp-content/uploads/2019/09/6-juin-2020-OH-credit-photo-ACM-5.jpg
END:VEVENT
BEGIN:VEVENT
DTSTART;TZID=Europe/Paris:20200609T190000
DTEND;TZID=Europe/Paris:20200609T190000
DTSTAMP:20260423T111159
CREATED:20190918T201207Z
LAST-MODIFIED:20190930T161425Z
UID:21153-1591729200-1591729200@2025.conservatoiregrandavignon.com
SUMMARY:Présentation des travaux des classes à horaires aménagés théâtre
DESCRIPTION:Mardi 9 juin 2020\nAuditorium du Grand Avignon\, Le Pontet\, 19h \nLes élèves des classes de théâtre du collège Viala présenteront les travaux et petites formes théâtrales réalisés dans le cadre du cursus \nPhoto ACM
URL:https://2025.conservatoiregrandavignon.com/event/presentation-des-travaux-des-classes-a-horaires-amenages-theatre-2/
LOCATION:Église du Pontet\, 7 Avenue de l'Église\, Le Pontet\, 84130\, France
CATEGORIES:Saison 2019-2020,Saison artistique 2019-2020,Théâtre
ATTACH;FMTTYPE=image/jpeg:https://2025.conservatoiregrandavignon.com/wp-content/uploads/2019/09/9-juin-2020-CHAT-@-ACM-2.jpg
END:VEVENT
BEGIN:VEVENT
DTSTART;TZID=Europe/Paris:20200612T190000
DTEND;TZID=Europe/Paris:20200613T190000
DTSTAMP:20260423T111159
CREATED:20190918T200011Z
LAST-MODIFIED:20191023T144647Z
UID:21142-1591988400-1592074800@2025.conservatoiregrandavignon.com
SUMMARY:Pièces théâtrales par les élèves du 3ème cycle du pôle théâtre du conservatoire
DESCRIPTION:Vendredi 12 et samedi 13 juin 2020\, 19h00\nThéâtre des Carmes\, Avignon \nEntrée libre sur réservation au 04 90 82 20 47
URL:https://2025.conservatoiregrandavignon.com/event/pieces-theatrales-par-les-eleves-du-3eme-cycle-du-pole-theatre-du-conservatoire/2020-06-12/
LOCATION:Théâtre des Carmes\, Place des Carmes\, Avignon
CATEGORIES:Saison 2019-2020,Saison artistique 2019-2020,Théâtre
ATTACH;FMTTYPE=image/jpeg:https://2025.conservatoiregrandavignon.com/wp-content/uploads/2019/06/Petites-formes-TDC@ACM-juin-2019-6.jpg
END:VEVENT
BEGIN:VEVENT
DTSTART;TZID=Europe/Paris:20200618T203000
DTEND;TZID=Europe/Paris:20200618T203000
DTSTAMP:20260423T111159
CREATED:20190918T201428Z
LAST-MODIFIED:20190930T162100Z
UID:21155-1592512200-1592512200@2025.conservatoiregrandavignon.com
SUMMARY:Biennale de danse
DESCRIPTION:Jeudi 18 juin 2020\nOpéra Confluence\, 20h30 \nLes élèves danseurs des classes danse études et du cycle de perfection¬nement mettent leur talent au service des chorégraphies réalisées par les enseignants et des chorégraphes invités pour offrir un spectacle mettant en avant les différentes disciplines enseignées au sein du pôle danse (danse classique\, jazz\, contemporaine\, hip-hop et comédie musicale). \nEntrée libre sur réservation au 04 90 14 26 00 \nPour les familles des élèves danseurs\, retrait des places le vendredi 5 juin et le vendredi 12 juin 2020 à la billetterie de l’Opéra.\nPour le public extérieur\, retrait des places à partir du mardi 16 juin 2020 à l’Espace Leclerc du Conservatoire\nLes réservations se font uniquement sur place.\nSpectacle chorégraphié co-organisé avec l’APECDA. \nPhotos ACM
URL:https://2025.conservatoiregrandavignon.com/event/biennale-de-danse/
LOCATION:Opéra Confluence\, Place de l'Europe
CATEGORIES:Saison 2019-2020,Saison artistique 2019-2020,Danse
ATTACH;FMTTYPE=image/jpeg:https://2025.conservatoiregrandavignon.com/wp-content/uploads/2019/09/31-janv-et-1-er-fev-danse-2019-credit-photo-ACM2-2.jpg
END:VEVENT
BEGIN:VEVENT
DTSTART;TZID=Europe/Paris:20200620T180000
DTEND;TZID=Europe/Paris:20200620T180000
DTSTAMP:20260423T111159
CREATED:20190918T201759Z
LAST-MODIFIED:20190930T162441Z
UID:21157-1592676000-1592676000@2025.conservatoiregrandavignon.com
SUMMARY:Concert et bal tango
DESCRIPTION:Samedi 20 juin 2020\nParvis du conservatoire à 18h \nPhoto ACM
URL:https://2025.conservatoiregrandavignon.com/event/concert-et-bal-tango/
LOCATION:Parvis du conservatoire\, Avignon
CATEGORIES:Saison 2019-2020,Saison artistique 2019-2020,Musique
ATTACH;FMTTYPE=image/jpeg:https://2025.conservatoiregrandavignon.com/wp-content/uploads/2019/09/20-juin-2020-bal-tango-@Cédric-DelestradeACM-StudioAvignon-10.jpg
END:VEVENT
BEGIN:VEVENT
DTSTART;VALUE=DATE:20200622
DTEND;VALUE=DATE:20200627
DTSTAMP:20260423T111159
CREATED:20190918T201911Z
LAST-MODIFIED:20190930T162732Z
UID:21159-1592784000-1593215999@2025.conservatoiregrandavignon.com
SUMMARY:Scènes de châteaux
DESCRIPTION:Du lundi 22 au vendredi 26 juin 2020\nAuditorium du Grand Avignon\, Salle du Tinel et Cour du Château de Fargues \nCette manifestation est organisée en collaboration avec le service culturel du Pontet qui met à disposition du Conservatoire la prestigieuse salle du Tinel et la lumineuse cour du Château\, cadre très favorable aux présentations des élèves et des professeurs de musique et de théâtre. La transversalité des pratiques artistiques est au cœur de cet événement où nous vous attendons nombreux pour découvrir le travail des enfants et des professeurs. \nPhoto Sjacinto
URL:https://2025.conservatoiregrandavignon.com/event/scenes-de-chateaux-2/
CATEGORIES:Saison 2019-2020,Saison artistique 2019-2020,Musique
ATTACH;FMTTYPE=image/jpeg:https://2025.conservatoiregrandavignon.com/wp-content/uploads/2019/09/22-au-26-scène-de-chateau-@Sjacinot-1.jpg
END:VEVENT
BEGIN:VEVENT
DTSTART;TZID=Europe/Paris:20201121T170000
DTEND;TZID=Europe/Paris:20201121T183000
DTSTAMP:20260423T111159
CREATED:20200925T133900Z
LAST-MODIFIED:20201104T093910Z
UID:22042-1605978000-1605983400@2025.conservatoiregrandavignon.com
SUMMARY:Aper'musique : ANNULÉ
DESCRIPTION:Aper’musique\, hommage à Michel Legrand\nEn partenariat avec l’Opéra Grand Avignon
URL:https://2025.conservatoiregrandavignon.com/event/apermusique/
LOCATION:Auditorium Jean Moulin – Le Thor\, 971 Chem. des Estourans\, Le Thor\, 84250\, France
CATEGORIES:Saison 2020-2021,Saison artistique 2019-2020,Apér'Musique
ATTACH;FMTTYPE=image/jpeg:https://2025.conservatoiregrandavignon.com/wp-content/uploads/2020/09/21.11.20-michellegrand@libre-de-droit.jpg
END:VEVENT
BEGIN:VEVENT
DTSTART;TZID=Europe/Paris:20210512T180000
DTEND;TZID=Europe/Paris:20210512T230000
DTSTAMP:20260423T111159
CREATED:20201002T122417Z
LAST-MODIFIED:20201002T122417Z
UID:22205-1620842400-1620860400@2025.conservatoiregrandavignon.com
SUMMARY:Concert dans le cadre du festival de musiques actuelles
DESCRIPTION:Mercredi 12 mai 2021\nPlace du marché de Pujaut\, 18h et 20h30 \n1ère partie\, 18h : élèves des classes de musiques actuelles\n2ème partie\, 20h30 : concert \n \n 
URL:https://2025.conservatoiregrandavignon.com/event/concert-dans-le-cadre-du-festival-de-musiques-actuelles-2/
LOCATION:Place du marché\, Pujaut
CATEGORIES:Saison 2020-2021,Saison artistique 2019-2020,Musique
ATTACH;FMTTYPE=image/jpeg:https://2025.conservatoiregrandavignon.com/wp-content/uploads/2020/10/12-mai-21-zizak-credit-photo-laurence-hourtané-55.jpg
END:VEVENT
BEGIN:VEVENT
DTSTART;TZID=Europe/Paris:20210521T200000
DTEND;TZID=Europe/Paris:20210521T210000
DTSTAMP:20260423T111159
CREATED:20201014T073947Z
LAST-MODIFIED:20201203T111310Z
UID:22232-1621627200-1621630800@2025.conservatoiregrandavignon.com
SUMMARY:Semaine de la création - concert "Lutherie Sauvage et Orchestre d’Objets Recyclés"
DESCRIPTION:Vendredi 21  mai 2021\nCentre Social et Culturel La Croix des Oiseaux\, 20h \nVernissage de l’exposition “L’Inouï y es-tu ?” instruments Hybrides\n20h Concert “Lutherie Sauvage et Orchestre d’Objets Recyclés” et les travaux du Trio Tra des élèves  \n 
URL:https://2025.conservatoiregrandavignon.com/event/semaine-de-la-creation-concert-lutherie-sauvage-et-orchestre-dobjets-recycles/
LOCATION:Espace Social Culturel Croix-des-Oiseaux\, Rue du Tambour d'Arcole\, Avignon\, 84000\, France
CATEGORIES:Saison 2020-2021,Saison pédagogique 2019-2020,Saison artistique 2019-2020,Musique
ATTACH;FMTTYPE=image/jpeg:https://2025.conservatoiregrandavignon.com/wp-content/uploads/2020/10/12-au-18-mars-drumslab@-Trio-tra-libre-de-droit-2-scaled.jpg
ORGANIZER;CN="Organisateur":MAILTO:conservatoire@grandavignon.fr
END:VEVENT
BEGIN:VEVENT
DTSTART;TZID=Europe/Paris:20211217T200000
DTEND;TZID=Europe/Paris:20211217T213000
DTSTAMP:20260423T111159
CREATED:20211122T142810Z
LAST-MODIFIED:20211122T142810Z
UID:22842-1639771200-1639776600@2025.conservatoiregrandavignon.com
SUMMARY:CONCERT DE L’ORCHESTRE SYMPHONIQUE
DESCRIPTION:Vendredi 17 décembre 2021\n Auditorium du Grand Avignon / Le Pontet – 20h00 \nCONCERT DE L’ORCHESTRE SYMPHONIQUE\, direction Michel BARRUOL\navec la participation du pôle danse
URL:https://2025.conservatoiregrandavignon.com/event/concert-de-lorchestre-symphonique-5/
LOCATION:Auditorium du Grand Avignon\, 2 Esp des Droits de l'Homme et des Citoyens\, Site du Château de Fargues\, Le Pontet\, 84130\, France
CATEGORIES:Saison 2021-2022,Saison artistique 2019-2020,Pluridisciplinaire
ATTACH;FMTTYPE=image/jpeg:https://2025.conservatoiregrandavignon.com/wp-content/uploads/2021/11/OS-2020-@ACM-2.jpg
ORGANIZER;CN="Organisateur":MAILTO:conservatoire@grandavignon.fr
END:VEVENT
END:VCALENDAR