BEGIN:VCALENDAR
VERSION:2.0
PRODID:-//Conservatoire à Rayonnement Régional du Grand Avignon - ECPv6.12.0.1//NONSGML v1.0//EN
CALSCALE:GREGORIAN
METHOD:PUBLISH
X-ORIGINAL-URL:https://2025.conservatoiregrandavignon.com
X-WR-CALDESC:Évènements pour Conservatoire à Rayonnement Régional du Grand Avignon
REFRESH-INTERVAL;VALUE=DURATION:PT1H
X-Robots-Tag:noindex
X-PUBLISHED-TTL:PT1H
BEGIN:VTIMEZONE
TZID:Europe/Paris
BEGIN:DAYLIGHT
TZOFFSETFROM:+0100
TZOFFSETTO:+0200
TZNAME:CEST
DTSTART:20200329T010000
END:DAYLIGHT
BEGIN:STANDARD
TZOFFSETFROM:+0200
TZOFFSETTO:+0100
TZNAME:CET
DTSTART:20201025T010000
END:STANDARD
END:VTIMEZONE
BEGIN:VEVENT
DTSTART;TZID=Europe/Paris:20200404T170000
DTEND;TZID=Europe/Paris:20200404T170000
DTSTAMP:20260423T172054
CREATED:20190918T191018Z
LAST-MODIFIED:20190923T001110Z
UID:21113-1586019600-1586019600@2025.conservatoiregrandavignon.com
SUMMARY:Concert de l’orchestre d’harmonie junior et apprenti
DESCRIPTION:Samedi 4 avril 2020\nAuditorium du Grand Avignon\, Le Pontet\, 17h \nConcert caritatif au profit de l’association CECIDEU\, association qui éduque les chiens pour les déficients visuels. \nCrédit photo Lhourtané
URL:https://2025.conservatoiregrandavignon.com/event/concert-de-lorchestre-dharmonie-junior-et-apprenti/
LOCATION:Église du Pontet\, 7 Avenue de l'Église\, Le Pontet\, 84130\, France
CATEGORIES:Saison 2019-2020,Saison artistique 2019-2020,Musique
ATTACH;FMTTYPE=image/jpeg:https://2025.conservatoiregrandavignon.com/wp-content/uploads/2019/09/4-avril-2020-harmonie-credit-photo-Lhourtané.jpg
END:VEVENT
BEGIN:VEVENT
DTSTART;TZID=Europe/Paris:20200404T170000
DTEND;TZID=Europe/Paris:20200404T170000
DTSTAMP:20260423T172054
CREATED:20190918T192638Z
LAST-MODIFIED:20190930T110251Z
UID:21115-1586019600-1586019600@2025.conservatoiregrandavignon.com
SUMMARY:« Quand la musique est bonne »
DESCRIPTION:Samedi 4 avril 2020\nEspace Leclerc\, Amphithéâtre Mozart\, 17h \nUn plaisir partagé à travers des textes de musiques de Jean Jacques Goldman avec les classes de formation musicale danseurs\, les ateliers vocaux musique et danse\, la classe de percussion et les élèves du département de musiques actuelles. \nPhoto Sjacinto
URL:https://2025.conservatoiregrandavignon.com/event/quand-la-musique-est-bonne/
LOCATION:Auditorium Jean Moulin – Le Thor\, 971 Chem. des Estourans\, Le Thor\, 84250\, France
CATEGORIES:Saison 2019-2020,Saison artistique 2019-2020,Musique
ATTACH;FMTTYPE=image/jpeg:https://2025.conservatoiregrandavignon.com/wp-content/uploads/2019/09/4-avril-2020-quand-la-musique-est-bonne-crédit-photo-Sjacinto.jpg
END:VEVENT
END:VCALENDAR