BEGIN:VCALENDAR
VERSION:2.0
PRODID:-//Conservatoire à Rayonnement Régional du Grand Avignon - ECPv6.12.0.1//NONSGML v1.0//EN
CALSCALE:GREGORIAN
METHOD:PUBLISH
X-ORIGINAL-URL:https://2025.conservatoiregrandavignon.com
X-WR-CALDESC:Évènements pour Conservatoire à Rayonnement Régional du Grand Avignon
REFRESH-INTERVAL;VALUE=DURATION:PT1H
X-Robots-Tag:noindex
X-PUBLISHED-TTL:PT1H
BEGIN:VTIMEZONE
TZID:Europe/Paris
BEGIN:DAYLIGHT
TZOFFSETFROM:+0100
TZOFFSETTO:+0200
TZNAME:CEST
DTSTART:20190331T010000
END:DAYLIGHT
BEGIN:STANDARD
TZOFFSETFROM:+0200
TZOFFSETTO:+0100
TZNAME:CET
DTSTART:20191027T010000
END:STANDARD
END:VTIMEZONE
BEGIN:VEVENT
DTSTART;TZID=Europe/Paris:20190116T200000
DTEND;TZID=Europe/Paris:20190116T200000
DTSTAMP:20260422T040941
CREATED:20181008T221704Z
LAST-MODIFIED:20181015T214826Z
UID:18458-1547668800-1547668800@2025.conservatoiregrandavignon.com
SUMMARY:« D’ici on voit la mer où Dieu chantait »
DESCRIPTION:Spectacle de la classe de chant de Béatrix Tarquini\nMise en scène collective \nSous le regard extérieur de Serge Barbuscia\, directeur du Théâtre du Balcon à Avignon.\nL’œuvre picturale de scène « Outre bleue » a été prêtée par Bernard Zendrini\, artiste peintre et la création graphique de présentation « ECCE HOMO » est de Suji Kwon. \nLa pièce\, « d’ici on voit la mer où Dieu chantait » a été conçue pour être accompagnée de quelques-unes des pages les plus belles du baroque vocal. Écrite par Beatrix Tarquini en 2010\, elle souligne combien le répertoire lyrique est avant tout du théâtre chanté. \nCette œuvre dramatique est particulièrement sombre et déconseillée au jeune public. L’amour et l’amitié y côtoient les rivalités\, l’envie\, l’obscurantisme\, les perversions humaines. Elle se veut aussi\, une réflexion sur l’art\, l’âme et le talent…\nAu début du XVIIIème siècle\, nous suivons l’installation d’un jeune compositeur italien. Il est très vite confronté à la condition de sa charge\, au service d’un prélat et découvre la triste réalité de l’utilisation de la voix du Castrat.\nAutres temps\, autres mœurs. Cette mode passée nous est\, forte heureusement\, étrangère. Et si les femmes ne peuvent toujours pas accéder à la prêtrise\, elles ont depuis longtemps\, le droit de chanter dans les églises ! Mais l’âme humaine\, dans ses plus terribles noirceurs a-t-elle vraiment changée depuis la nuit des temps ?
URL:https://2025.conservatoiregrandavignon.com/event/dici-on-voit-la-mer-ou-dieu-chantait/
LOCATION:Église du Pontet\, 7 Avenue de l'Église\, Le Pontet\, 84130\, France
CATEGORIES:Saison 2018-2019,Saison artistique 2018-2019,Musique
ATTACH;FMTTYPE=image/jpeg:https://2025.conservatoiregrandavignon.com/wp-content/uploads/2018/10/spectacle-chant-16-janv-2019.jpg
END:VEVENT
BEGIN:VEVENT
DTSTART;VALUE=DATE:20190119
DTEND;VALUE=DATE:20190120
DTSTAMP:20260422T040941
CREATED:20181009T064319Z
LAST-MODIFIED:20181122T073729Z
UID:18569-1547856000-1547942399@2025.conservatoiregrandavignon.com
SUMMARY:Examens de musique de chambre (tous cycles)
DESCRIPTION:
URL:https://2025.conservatoiregrandavignon.com/event/examens-de-musique-de-chambre-tous-cycles/
LOCATION:Auditorium Jean Moulin – Le Thor\, 971 Chem. des Estourans\, Le Thor\, 84250\, France
CATEGORIES:Saison 2018-2019,Examens publics,Musique
ATTACH;FMTTYPE=image/jpeg:https://2025.conservatoiregrandavignon.com/wp-content/uploads/2018/10/17-02-Examens-de-musique-de-chambre-credit-photo-selia-jacinto.jpg
END:VEVENT
BEGIN:VEVENT
DTSTART;TZID=Europe/Paris:20190119T200000
DTEND;TZID=Europe/Paris:20190119T200000
DTSTAMP:20260422T040941
CREATED:20181008T221808Z
LAST-MODIFIED:20181127T041007Z
UID:18460-1547928000-1547928000@2025.conservatoiregrandavignon.com
SUMMARY:Concert du Nouvel An avec l’orchestre d’harmonie
DESCRIPTION:
URL:https://2025.conservatoiregrandavignon.com/event/concert-du-nouvel-an-avec-lorchestre-dharmonie/
LOCATION:Église du Pontet\, 7 Avenue de l'Église\, Le Pontet\, 84130\, France
CATEGORIES:Saison 2018-2019,Saison artistique 2018-2019,Musique
ATTACH;FMTTYPE=image/jpeg:https://2025.conservatoiregrandavignon.com/wp-content/uploads/2018/10/orchestre-harmonie.jpg
END:VEVENT
BEGIN:VEVENT
DTSTART;VALUE=DATE:20190125
DTEND;VALUE=DATE:20190127
DTSTAMP:20260422T040941
CREATED:20181009T071501Z
LAST-MODIFIED:20181127T063007Z
UID:18587-1548374400-1548547199@2025.conservatoiregrandavignon.com
SUMMARY:Master class de violoncelle / Frédéric Audibert
DESCRIPTION:Vendredi 25 janvier\, 14h – 20h\nSamedi 26 janvier\, 9h30 – 20h \nArtiste invité : Frédéric Audibert \nIl fait ses débuts à 17 ans dans la grande salle de l’U.N.E.S.C.O à Paris. Premier prix de violoncelle du Conservatoire national supérieur de musique de Paris\, il se perfectionne avec Mark Drobinsky et Gary Hoffman. Il se distingue en finale et demi-finale des concours internationaux Palma d’Oro\, Florence\, Trapani\, San Sebastian\, Douai et remporte Turin et Rovere d’Oro. En 1992\, Lord Yehudi Menuhin le nomme lauréat de son association  » Live Music Now France  » et l’encourage à poursuivre une carrière de soliste. Il se produit depuis dans les grands concertos avec orchestre du répertoire : Haydn\, Boccherini\, K.P.E Bach\, Saint-Saëns\, Bruch\, Brahms\, Tchaïkovski\, Chostakovitch\, Lalo\, Dvorak\, Honegger… \nSoliste en résidence de la fondation Sophia Antipolis\, il a donné concerts et master-classes au Canada\, en Polynésie\, en Israël\, en Turquie et dans les grandes salles françaises : Gaveau à Paris\, Palais des festivals à Cannes\, Abbaye de Fontfroide\, Opéra de Nice\, Flâneries musicales à Reims […] \nPersonnellement félicité par Mstislav Rostropovitch pour ses qualités de Konzertmeister lors d’un concert avec l’orchestre de Bretagne\, il se rendra avec lui à Moscou et Bakou lors d’échanges culturels. \nVioloncelle solo dès l’âge de 20 ans dans différents orchestres français\, il occupe aujourd’hui régulièrement ce poste au sein de La Chambre Philharmonique\, créée et dirigée par Emmanuel Krivine\, dans les grandes salles européennes : Pleyel\, Alt Hopper de Frankfurt\, Concertgebouw de Bruges\, Istanbul Hall…
URL:https://2025.conservatoiregrandavignon.com/event/master-class-de-violoncelle-frederic-audibert/
LOCATION:Église du Pontet\, 7 Avenue de l'Église\, Le Pontet\, 84130\, France
CATEGORIES:Saison 2018-2019,Saison pédagogique 2018-2019,Artistes invités 2018-2019,Musique,Masterclass
ATTACH;FMTTYPE=image/jpeg:https://2025.conservatoiregrandavignon.com/wp-content/uploads/2018/10/frederic-audibert-retouche.jpg
END:VEVENT
BEGIN:VEVENT
DTSTART;TZID=Europe/Paris:20190130T190000
DTEND;TZID=Europe/Paris:20190130T190000
DTSTAMP:20260422T040941
CREATED:20181008T221947Z
LAST-MODIFIED:20181015T215152Z
UID:18462-1548874800-1548874800@2025.conservatoiregrandavignon.com
SUMMARY:Concert des classes de trompette d’Hervé Cunty et William Sayd
DESCRIPTION:
URL:https://2025.conservatoiregrandavignon.com/event/concert-des-classes-de-trompette-dherve-cunty-et-william-sayd/
LOCATION:Auditorium Jean Moulin – Le Thor\, 971 Chem. des Estourans\, Le Thor\, 84250\, France
CATEGORIES:Saison 2018-2019,Saison artistique 2018-2019,Musique
ATTACH;FMTTYPE=image/jpeg:https://2025.conservatoiregrandavignon.com/wp-content/uploads/2018/10/concert-de-trompettes-30-janv-2019.jpg
END:VEVENT
END:VCALENDAR