BEGIN:VCALENDAR
VERSION:2.0
PRODID:-//Conservatoire à Rayonnement Régional du Grand Avignon - ECPv6.12.0.1//NONSGML v1.0//EN
CALSCALE:GREGORIAN
METHOD:PUBLISH
X-WR-CALNAME:Conservatoire à Rayonnement Régional du Grand Avignon
X-ORIGINAL-URL:https://2025.conservatoiregrandavignon.com
X-WR-CALDESC:Évènements pour Conservatoire à Rayonnement Régional du Grand Avignon
REFRESH-INTERVAL;VALUE=DURATION:PT1H
X-Robots-Tag:noindex
X-PUBLISHED-TTL:PT1H
BEGIN:VTIMEZONE
TZID:Europe/Paris
BEGIN:DAYLIGHT
TZOFFSETFROM:+0100
TZOFFSETTO:+0200
TZNAME:CEST
DTSTART:20190331T010000
END:DAYLIGHT
BEGIN:STANDARD
TZOFFSETFROM:+0200
TZOFFSETTO:+0100
TZNAME:CET
DTSTART:20191027T010000
END:STANDARD
END:VTIMEZONE
BEGIN:VEVENT
DTSTART;VALUE=DATE:20190403
DTEND;VALUE=DATE:20190406
DTSTAMP:20260423T000129
CREATED:20181009T051317Z
LAST-MODIFIED:20190402T143041Z
UID:18498-1554249600-1554508799@2025.conservatoiregrandavignon.com
SUMMARY:Concerts de Thierry Escaich et de sa masterclass
DESCRIPTION:Mercredi 3 avril\nEspace Leclerc\, Amphithéâtre Mozart\, 19h\nConcert de musique contemporaine\nŒUVRES DES ÉLEVÉS DE LA CLASSE DE COMPOSITION DU CONSERVATOIRE\nTremplin Jeunes talents\nPROGRAMME\n \nChantal HAON Miroirs\, pour piano seul\nMiroirs est une pièce pour piano dans le style minimaliste d’Arvo Pärt dont j’aime la musique épurée. J’ai imaginé tout un jeu de symétries\, de reflets\, de contrastes à partir d’une phrase musicale très simple que vous pourrez suivre pendant toute la pièce. Interprète : Chantal HAON \n Olivier LALAUZE « Défense de rien toucher »\nRêveries sur un palais imaginaire\, pour alto seul \nCette pièce a été composée dans le cadre du Concours de composition d’œuvres pédagogiques de la ville de Boulogne-Billancourt 2019\, en hommage au « Palais idéal » de Joseph Ferdinand Cheval\, mieux connu sous le nom de Facteur Cheval. Ce chef-d’œuvre de l’architecture naïve est situé dans la Drôme\, à Hauterives. Le titre « Défense de rien toucher » fait référence à l’une des nombreuses inscriptions que M. Cheval a lui-même laissé sur son édifice\, à proximité d’autres phrases telles que « c’est de l’art\, c’est du rêve »\, ou encore « les fées de l’Orient viennent fraterniser avec l’Occident ». La visite de ce lieu inédit\, inqualifiable et les impressions que celui-ci a provoqué chez moi m’a inspiré cette pièce\, à vocation pédagogique et musicale. Quoi de mieux pour rêver\, imaginer\, que de se retrouver seul en compagnie de son instrument… \nInterprète : Léa PACI \n  \nElodie SABLIER\nRayon de lune\, pour piano seul\nCe rayon que l’on ne voit pas mais que l’on devine par ses effets\, apparait au travers d’une mélodie dans les graves. \nPlanète oubliée\, pour piano seul\nDe quelle planète parle-t-on ici ?\nDe celle qui nous concerne le plus ou de celle dont nous serions le plus éloignée.\nLa partie lente où la résonance des accords est mise en avant nous ramène au thème principale de l’interrogation face à l’infini. \nLe Saule Pleureur\, pour soprano et piano\nSur un poème de Rosemonde Gérard (1866-1953) \nCette pièce est une mélodie écrite sur un poème de Rosemonde Gérard\, qui s’inscrira dans un cycle de pièces écrites sur des poèmes de femmes.\nLe saule pleureur est l’un des arbres qui a le plus inspiré les romantiques (Claude Monet ou Alfred De Musset par exemple).\nAujourd’hui\, ce saule qui pleure dépeint toutefois un espoir avec « ce cœur plein d’oiseaux » (par les arpèges\, les motifs dans les aigus et dans l’accompagnement au piano en deuxième partie).\nL’inquiétude de l’orage se traduit par la faible mobilité musicale. La mélodie claire en octave annonce le reflet du miroir. \nInterprètes : Piano\, Elodie Sablier – Soprano\, Lydia Mayo \nYardani-Vitorio TORRES-MAIANI\nAsteria\, pour ensemble instrumental \nInterprètes : Violon\, Yardani-Vitorio Torres-Maiani – Violon\, Armande Galloway – Violoncelle\, Natalie Forthomme – Contrebasse\, Anton Florenza – Clavecin\, Elisabeth Geiger – Guitare jazz\, Railo Hellmstetter \n  \nJeudi 4 avril\nEspace Leclerc\, Amphithéâtre Mozart\, 19h\nConcert de restitution de la master class\, 19h\nAUTOUR DES ŒUVRES DE THIERRY ESCAICH PROGRAMME / C.Debussy\, T. Escaich : Œuvres pour piano \nThierry ESCAICH (1965-)\nIntermezzo\, Hommage à C. Debussy\,\nExtrait des Trois Études Impressionnistes pour piano\nRachel Gauci\, Piano  \nClaude DEBUSSY (1862-1918)\nPour les degrés chromatiques\,\nExtrait des Etudes pour piano\, livre II\nMélissa Monneron\, Piano \nThierry ESCAICH (1965-)\nJeu de doubles\nMélissa Monneron\, Piano \nClaude DEBUSSY (1862-1918)\nReflets dans l’eau\,\nExtrait des Images pour piano\nCaroline Roussel\, Piano \nThierry ESCAICH (1965-)\nIntermezzo\, Hommage à C. Debussy\,\nExtrait des Trois Études Impressionnistes pour piano\nCaroline Roussel\, Piano \nVendredi 5 avril\nAuditorium du Grand Avignon – Le Pontet\, 20h\nConcert de restitution des différents travaux des élèves avec la participation de l’Orchestre symphonique \nCompositeur\, organiste et improvisateur\, Thierry Escaich est une figure unique de la scène musicale contemporaine et l’un des représentants majeurs de la nouvelle génération de compositeurs français. Les trois aspects de son art sont indissociables\, ce qui lui permet de mêler dans ses concerts création\, improvisation et interprétation dans les combinaisons les plus diverses.\nLes pièces de Thierry Escaich sont inscrites au répertoire des plus grands orchestres aussi bien en Europe qu’aux États-Unis\, et à celui de musiciens tels que Lisa Batiashvili et François Leleux\, Valery Gergiev\, Paavo Järvi\, Alan Gilbert\, Alain Altinoglu\, Louis Langrée\, Renaud et Gautier Capuçon\, Emmanuelle Bertrand et Paul Meyer. Il a été compositeur en résidence à l’Orchestre national de Lyon\, à l’Orchestre national de Lille et à l’Orchestre de chambre de Paris et a reçu quatre Victoires de la musique (2003\, 2006\, 2011 et 2017). \nIl enseigne depuis 1992 l’improvisation et l’écriture au Conservatoire national supérieur de musique et de danse de Paris (CNSMDP)\, où il a remporté lui-même huit premiers prix. En 2013\, il a été élu à l’Académie des beaux-arts de l’Institut de France. En 2018\, il a été le compositeur à l’honneur du festival Présences de Radio France\, à Paris.\nThierry Escaich a également beaucoup composé pour son propre instrument\, l’orgue : pièces solistes\, musique de chambre\, trois concertos\, et La Barque solaire\, poème symphonique pour orgue et orchestre. Son Premier Concerto pour orgue a été joué notamment par le Philadelphia Orchestra et l’Orchestre national de Lyon\, et a été sélectionné comme un incontournable du répertoire d’orgue par le magazine Gramophone : « Son concerto exploite toute la palette sonore et l’orchestre et de l’orgue en trois mouvements électrisants\, le second mouvement enflant jusqu’à un sommet impressionnant\, qui n’est surpassé que par la fracassante coda du finale. » \nLa carrière de compositeur de Thierry Escaich est étroitement liée à celle d’organiste\, à l’instar de Maurice Duruflé – auquel il a succédé comme organiste titulaire de Saint-Étienne-du-Mont à Paris ; il est aujourd’hui l’un des principaux ambassadeurs de la grande école française d’improvisation. Il se produit en récital dans le monde entier\, mêlant les œuvres du répertoire à ses propres compositions et à des improvisations. Sa passion pour le cinéma l’amène à improviser régulièrement au piano comme à l’orgue sur des films muets tels que Le Fantôme de l’Opéra et Metropolis.
URL:https://2025.conservatoiregrandavignon.com/event/concerts-de-thierry-escaich-et-de-sa-masterclass/
LOCATION:Vaucluse
CATEGORIES:Saison 2018-2019,Saison artistique 2018-2019,Artistes invités 2018-2019,Musique
ATTACH;FMTTYPE=image/jpeg:https://2025.conservatoiregrandavignon.com/wp-content/uploads/2018/10/MC-thierry-Escaich-3-au-5-avril-2019.jpg
END:VEVENT
BEGIN:VEVENT
DTSTART;VALUE=DATE:20190403
DTEND;VALUE=DATE:20190406
DTSTAMP:20260423T000129
CREATED:20181009T074127Z
LAST-MODIFIED:20181123T105545Z
UID:18597-1554249600-1554508799@2025.conservatoiregrandavignon.com
SUMMARY:Masterclass "Regard sur la musique d’aujourd’hui" / Thierry Escaich
DESCRIPTION:Artiste invité : Thierry Escaich \nCe projet propose d’inviter Thierry Escaich\, compositeur et organiste de renommée internationale afin de permettre aux élèves d’avoir un échange autour de ses œuvres\, de la musique contemporaine\, de son parcours et de son travail. Ce projet se déroule sur trois jours avec plusieurs activités : master class de composition\, conférence publique du compositeur autour de son travail\, master class pour les élèves et des avant-scènes permettant aux jeunes compositeurs du conservatoire d’être joués par leurs camarades. Ce projet permet de faire bénéficier les élèves du conservatoire du rayonnement du compositeur\, de les inscrire dans une démarche innovante autour de la musique d’aujourd’hui et de créer des passerelles entre créateurs et interprètes. \nMercredi 3 avril\nEspace Leclerc\, Amphithéâtre Mozart\, à partir de 13h\nMaster class destinée aux formations de musique de chambre \nConcert de musique contemporaine\, 19h\nTremplin Jeunes talents \nJeudi 4 avril\nEspace Leclerc\, Amphithéâtre Mozart\, 14h\nConférence de Thierry Escaich \nConcert de restitution de la master class\, 19h \nVendredi 5 avril\nAuditorium du Grand Avignon\, Le Pontet\, 20h\nConcert de restitution des différents travaux des élèves avec la participation de l’Orchestre symphonique
URL:https://2025.conservatoiregrandavignon.com/event/masterclass-regard-sur-la-musique-daujourdhui-thierry-escaich/
LOCATION:Église du Pontet\, 7 Avenue de l'Église\, Le Pontet\, 84130\, France
CATEGORIES:Saison 2018-2019,Saison pédagogique 2018-2019,Artistes invités 2018-2019,Musique,Masterclass
ATTACH;FMTTYPE=image/jpeg:https://2025.conservatoiregrandavignon.com/wp-content/uploads/2018/10/MC-thierry-Escaich-3-au-5-avril-2019.jpg
END:VEVENT
BEGIN:VEVENT
DTSTART;TZID=Europe/Paris:20190406T170000
DTEND;TZID=Europe/Paris:20190406T170000
DTSTAMP:20260423T000129
CREATED:20181009T051625Z
LAST-MODIFIED:20181015T202650Z
UID:18500-1554570000-1554570000@2025.conservatoiregrandavignon.com
SUMMARY:Aper’musique : Les sept dernières paroles du Christ de Joseph Haydn
DESCRIPTION:
URL:https://2025.conservatoiregrandavignon.com/event/apermusique-les-sept-dernieres-paroles-du-christ-de-joseph-haydn/
LOCATION:Auditorium Jean Moulin – Le Thor\, 971 Chem. des Estourans\, Le Thor\, 84250\, France
CATEGORIES:Saison 2018-2019,Saison artistique 2018-2019,Musique,Apér'Musique
END:VEVENT
BEGIN:VEVENT
DTSTART;TZID=Europe/Paris:20190426T190000
DTEND;TZID=Europe/Paris:20190426T190000
DTSTAMP:20260423T000129
CREATED:20181009T051806Z
LAST-MODIFIED:20190408T082355Z
UID:18502-1556305200-1556305200@2025.conservatoiregrandavignon.com
SUMMARY:« Miroirs de la nature »
DESCRIPTION:Concert du département musique ancienne en partenariat avec le conservatoire du Pays d’Apt Luberon. \nTout au long des siècles\, la vision de la nature a constitué le prisme à travers lequel la musique a été élaborée. Elle constitue à la fois le vivier imaginatif et sonore le plus riche et florissant auquel les compositeurs de toute époque se sont inspirés mais également le reflet du regard du compositeur vers l’ordre cosmique. Des chants des oiseaux aux cris des animaux\, des ambiances bucoliques aux paysages les plus mystérieux\, notre projet souhaite explorer la complexité du concept de « Nature » en musique en proposant une réflexion autour de ces deux axes : l’esthétique comme reflet du regard du compositeur vers l’agencement du monde et la nature comme objet figuratif. \nPROGRAMME \n\nConservatoire d’Avignon :\n\n\n\nKindersymphonie de F.J. HAYDN ou L. MOZART\nEcco Maggio de F.TURINI\nIl fait bon aimer l’oisillon de PENET\nSuite Alpine de B. BRITTEN ( Arrival at Zermatt \, Swiss Clock \, Nursery Slopes \, Alpine Scene\n\nMoto perpetuo: down the piste\, Farewell to Zermatt) \n\nConservatoire du Pays d’Apt :\n\n\nLa Grotte de Versailles de J.B. LULLY :\n\nOuverture – Dans ces charmantes retraites – Ritournelle des bergères. \n\nChaconne de M.R. DE LALANDE\n\n\nConservatoire d’Avignon et du Pays d’Apt :\n\n\nWater Music\, Suite en sol de G.F. HAENDEL :\n\nSarabande – Rigaudon – Menuet I – Menuet II \n\nBallet des coqs de M. PRAETORIUS\nCapricciata et Contrappunto de A. BANCHIERI\nRevoici venir du printemps de C. LE JEUNE
URL:https://2025.conservatoiregrandavignon.com/event/miroirs-de-la-nature/
LOCATION:Auditorium Jean Moulin – Le Thor\, 971 Chem. des Estourans\, Le Thor\, 84250\, France
CATEGORIES:Saison 2018-2019,Saison artistique 2018-2019,Musique
ATTACH;FMTTYPE=image/jpeg:https://2025.conservatoiregrandavignon.com/wp-content/uploads/2018/10/Concert-département-musique-ancienne-26-avril-2019-1.jpg
END:VEVENT
BEGIN:VEVENT
DTSTART;VALUE=DATE:20190427
DTEND;VALUE=DATE:20190429
DTSTAMP:20260423T000129
CREATED:20181009T063628Z
LAST-MODIFIED:20190408T081920Z
UID:18565-1556323200-1556495999@2025.conservatoiregrandavignon.com
SUMMARY:WEEKEND PASSION
DESCRIPTION:Pour la deuxième année consécutive\, le Conservatoire offre aux musiciens amateurs jouant de la musique ancienne un suivi pédagogique et artistique de leur engagement musical ainsi qu’un accompagnement dans la réalisation de leurs projets à l’occasion de trois weekends. \nConcert de clôture 14H30 et 16H30\nCONCERT DE CLÔTURE DES « Week-ends Passion » \nAfin de clôturer nos rencontres « Week-ends Passion »\, nous vous proposons une après-midi tout en festivité\, le dimanche 28 avril 2019. \nAinsi vous pourrez venir danser et vous amuser avec nous. N’ayez crainte notre maitre à danser sera là pour tout vous expliquer ! \n14h30 Concert des ensembles\, Amphithéâtre Mozart \n16h30 Bal de la Renaissance\, Salle Lifar. Ouvert à tous ! \nLe nombre de place étant limité\, l’inscription au bal est nécessaire\, \nMerci de contacter le 04 32 73 04 89. \n 
URL:https://2025.conservatoiregrandavignon.com/event/weekend-passion-2-2/2019-04-27/
LOCATION:Auditorium Jean Moulin – Le Thor\, 971 Chem. des Estourans\, Le Thor\, 84250\, France
CATEGORIES:Saison 2018-2019,Musique,Week-ends passion
ATTACH;FMTTYPE=image/jpeg:https://2025.conservatoiregrandavignon.com/wp-content/uploads/2018/11/bandeau-amateurs.jpg
END:VEVENT
BEGIN:VEVENT
DTSTART;TZID=Europe/Paris:20190427T200000
DTEND;TZID=Europe/Paris:20190427T200000
DTSTAMP:20260423T000129
CREATED:20181009T052953Z
LAST-MODIFIED:20190405T093308Z
UID:18505-1556395200-1556395200@2025.conservatoiregrandavignon.com
SUMMARY:Métamorphose ou la transversalité dans l'expression artistique d'une idée\, d'une pensée\, d'un texte poétique.
DESCRIPTION:Avec les classes de formation musicale danse\, les ateliers vocaux d’Isabelle Laugier Martin et les élèves violoncellistes de la classe de Pierre Denizet. \nPROGRAMME \nChœur 1 :  \n\nLes comédiens (Charles Aznavour) \n\n* « Viens voir les comédiens\, voir les musiciens\, voir les magiciens qui arrivent… » \n Chœur réduit 2 : \n\nLa violoncelliste (C. et J. Le Normand) :\n\n* « Elle avait pour prénom Sidonie\, ses amies l’appelaient la « Si Do » \n* Adorant avant tout l’harmonie\, elle portait un lorgnon\, 2 bandeaux… \n* La berceuse avait pour effet d’endormir SiDo tout à fait : Dodo SiDo ! la violoncelliste \n* Le printemps ça la rendait folle\, se r’trouvant dans son entresol ; si sol si sol ! la violoncelliste » \n Danse 1 / Solistes 1 : \n\nPavane (Thoinot Arbeau) \n\n* « Belle qui tient ma vie\, captive dans tes yeux. Qui m’a l’âme ravie d’un sourire gracieux \n* Viens tôt me secourir\, ou me faudra mourir » \n Texte 1 / Solistes 2 : \n\nC’est beau la vie ( J. Ferrat) \n\n* « Le vent dans tes cheveux blonds\, le soleil à l’horizon\, quelques mots d’une chanson : \n* Que c’est beau\, c’est beau la vie…. \n* Pouvoir encore te parler\, pouvoir encore t’embrasser\, te le dire et le chanter \n* Que c’est beau\, c’est beau\, la vie » \n Chœur 3 : \n\nJe chante (Charles Trenet) \n\n* « Je chante\, je chante soir et matin\, je chante sur le chemin\, je chante\, je vais de ferme en château \n* Je chante pour du pain\, je chante pour de l’eau… » \nChœur réduit 4 : \n\nSmile (Charlie Chaplin : Les temps modernes)\n\n* « Smile\, though your heart is aching\, smile even though it’s breaking. When there are clouds in the sky\, you’ll get by \n* If you smile with your fear and sorrow smile and maybe to morrow \, you’ll see the sun come shining thru for you… » \n* « Souris\, même si ton chœur souffre\, souris\, même si ton chœur est détruit. Quand il y a des nuages dans le ciel\, tu \navanceras si tu souris\, avec tes peines et tes regrets\, et peut être que demain le soleil brillera rien que pour toi » \n Danse 2 / Solistes 3 : \n\nEternally (Charlie Chaplin : Limelight)\n\n* Paroles françaises : Deux petits chaussons de satin blanc ou les rêves d’un clown amoureux fou d’une danseuse \n Texte 2 / chœur 5 : \n\nLa langue de chez nous (Yves Duteil) \n\n* « C’est une langue belle avec des mots superbes\, qui porte son histoire à travers ses accents\, \n* Où l’on sent la musique et le parfum des herbes\, le fromage de chèvre et le pain de froment …. \n* Et de l’île d’Orléans jusqu’à la contrescarpe\, en écoutant chanter les gens de ce pays\, \n* On dirait que le vent s’est pris dans une harpe et qu’il a composé toute une symphonie » \nTexte 3 / Danse 3 / Chant lyrique 1 : \n\nAir de Didon – Didon et Enée (Purcell)\n\n* « Thy Hand Belinda\, Darkness shades me\, on thy bosom let me rest \n* Here I would but Death invades me. Death is now a welcome guest » … \n* « Ta main\, Belinda\, l’obscurité m’envahit\, sur ton sein laisse – moi reposer. \n* J’aimerais y rester davantage mais la mort m’envahit. La mort est maintenant un hôte bienvenu » … \n Texte 4: \n\nLes voyages en train (Grand Corps Malade)\n\n* Je crois que les voyages en train\, c’est comme les histoires d’amour\, et quand je vois tous ces voyageurs\, \n* J’aimerais que ce soit mon tour…. Et le train ralentit et c’est déjà la fin de ton voyage » \n Texte 5 / Danse 4 / Chœur 6: \n\nBerceuse (Brahms)\n\n« Guten Abend\, gut’ nacht\, mit Rosen bedacht… »  Bonne nuit \n Chant lyrique 2 : \n\nL’aube naît ( E. Lalo / V. Hugo)\n\n* « L’aube naît et ta porte est close\, ma belle pourquoi sommeiller ? \n* A l’heure où s’éveille la rose\, ne vas-tu pas te réveiller ?… \n* Oh ma charmante. Ecoute ici l’amant qui chante et pleure aussi » \n  Danse 5 / solistes 4 : \n\nHey Jude (Beatles) \n\n* « Hey Jude don’t make it bad\, take a sad song and make it better \n*Remember to let her into your heart\, then you can start to make it better » … \n* « Hey Jude\, ne gâche pas tout\, prend une chanson triste et rend la meilleure. \n* Souviens toi qu’il faut la mettre dans ton cœur\, après seulement les choses iront mieux » …  \nFINAL : \n\nGaudeamus Hodie (canon)\n\n* « Réjouissons-nous aujourd’hui »
URL:https://2025.conservatoiregrandavignon.com/event/metamorphose-ou-la-transversalite-dans-lexpression-artistique-dune-idee-dune-pensee-dun-texte-poetique/
LOCATION:Église du Pontet\, 7 Avenue de l'Église\, Le Pontet\, 84130\, France
CATEGORIES:Saison 2018-2019,Saison artistique 2018-2019,Musique
ATTACH;FMTTYPE=image/jpeg:https://2025.conservatoiregrandavignon.com/wp-content/uploads/2018/10/Metamorphose-musicale-27-avril-2019-1.jpg
END:VEVENT
BEGIN:VEVENT
DTSTART;TZID=Europe/Paris:20190428T143000
DTEND;TZID=Europe/Paris:20190428T163000
DTSTAMP:20260423T000129
CREATED:20181009T053110Z
LAST-MODIFIED:20190408T095626Z
UID:18507-1556461800-1556469000@2025.conservatoiregrandavignon.com
SUMMARY:Concert des ensembles de musique ancienne participant aux weekends passion.
DESCRIPTION:
URL:https://2025.conservatoiregrandavignon.com/event/concert-des-ensembles-de-musique-ancienne-participant-aux-weekends-passion/
LOCATION:Auditorium Jean Moulin – Le Thor\, 971 Chem. des Estourans\, Le Thor\, 84250\, France
CATEGORIES:Saison 2018-2019,Saison artistique 2018-2019,Musique
END:VEVENT
BEGIN:VEVENT
DTSTART;TZID=Europe/Paris:20190428T143000
DTEND;TZID=Europe/Paris:20190428T163000
DTSTAMP:20260423T000129
CREATED:20181009T064115Z
LAST-MODIFIED:20190408T100521Z
UID:18567-1556461800-1556469000@2025.conservatoiregrandavignon.com
SUMMARY:WEEKEND PASSION
DESCRIPTION:Pour la deuxième année consécutive\, le Conservatoire offre aux musiciens amateurs jouant de la musique ancienne un suivi pédagogique et artistique de leur engagement musical ainsi qu’un accompagnement dans la réalisation de leurs projets à l’occasion de trois weekends. \nConcert des ensembles de musique ancienne participant aux weekends passion.\n \nCONCERT DE CLÔTURE DES « Week-ends Passion » \nAfin de clôturer nos rencontres « Week-ends Passion »\, nous vous proposons une après-midi tout en festivité\, le dimanche 28 avril 2019. \nAinsi vous pourrez venir danser et vous amuser avec nous. N’ayez crainte notre maitre à danser sera là pour tout vous expliquer ! \n14h30 Concert des ensembles\, Amphithéâtre Mozart \n16h30 Bal de la Renaissance\, Salle Lifar. Ouvert à tous ! \nLe nombre de place étant limité\, l’inscription au bal est nécessaire\, \nMerci de contacter le 04 32 73 04 83. \n  \n 
URL:https://2025.conservatoiregrandavignon.com/event/weekend-passion-3/
LOCATION:Auditorium Jean Moulin – Le Thor\, 971 Chem. des Estourans\, Le Thor\, 84250\, France
CATEGORIES:Saison 2018-2019,Musique,Week-ends passion
ATTACH;FMTTYPE=image/jpeg:https://2025.conservatoiregrandavignon.com/wp-content/uploads/2018/11/bandeau-amateurs.jpg
END:VEVENT
BEGIN:VEVENT
DTSTART;TZID=Europe/Paris:20190430T200000
DTEND;TZID=Europe/Paris:20190430T200000
DTSTAMP:20260423T000130
CREATED:20181009T053344Z
LAST-MODIFIED:20190426T073239Z
UID:18509-1556654400-1556654400@2025.conservatoiregrandavignon.com
SUMMARY:Concert chœurs et ensemble d’instruments anciens - REPORTE AU MARDI 28 MAI 2019 - AMPHITHÉÂTRE MOZART\, 19h00
DESCRIPTION:\,Avec la participation des élèves du département de musique ancienne
URL:https://2025.conservatoiregrandavignon.com/event/concert-choeurs-et-ensemble-dinstruments-anciens/
LOCATION:Eglise Saint-Didier\, Place St-Didier\, Avignon
CATEGORIES:Saison 2018-2019,Saison artistique 2018-2019,Musique
END:VEVENT
END:VCALENDAR