BEGIN:VCALENDAR
VERSION:2.0
PRODID:-//Conservatoire à Rayonnement Régional du Grand Avignon - ECPv6.12.0.1//NONSGML v1.0//EN
CALSCALE:GREGORIAN
METHOD:PUBLISH
X-ORIGINAL-URL:https://2025.conservatoiregrandavignon.com
X-WR-CALDESC:Évènements pour Conservatoire à Rayonnement Régional du Grand Avignon
REFRESH-INTERVAL;VALUE=DURATION:PT1H
X-Robots-Tag:noindex
X-PUBLISHED-TTL:PT1H
BEGIN:VTIMEZONE
TZID:Europe/Paris
BEGIN:DAYLIGHT
TZOFFSETFROM:+0100
TZOFFSETTO:+0200
TZNAME:CEST
DTSTART:20190331T010000
END:DAYLIGHT
BEGIN:STANDARD
TZOFFSETFROM:+0200
TZOFFSETTO:+0100
TZNAME:CET
DTSTART:20191027T010000
END:STANDARD
END:VTIMEZONE
BEGIN:VEVENT
DTSTART;VALUE=DATE:20190914
DTEND;VALUE=DATE:20190916
DTSTAMP:20260423T085058
CREATED:20190918T135404Z
LAST-MODIFIED:20190918T135404Z
UID:21035-1568419200-1568591999@2025.conservatoiregrandavignon.com
SUMMARY:« Les rencontres musicales et scientifiques »
DESCRIPTION:Samedi 14 et dimanche 15 septembre 2019\nEglise des Italiens\, Avignon\nAvec la participation de la classe de percussion de Philipe Cornus\nPlus d’infos : les-rencontres-musicales-et-scientifiques.com
URL:https://2025.conservatoiregrandavignon.com/event/les-rencontres-musicales-et-scientifiques/
LOCATION:Eglise des italiens\, Avignon
CATEGORIES:Saison 2019-2020,Saison artistique 2019-2020
END:VEVENT
BEGIN:VEVENT
DTSTART;TZID=Europe/Paris:20190915T170000
DTEND;TZID=Europe/Paris:20190915T170000
DTSTAMP:20260423T085058
CREATED:20190918T184025Z
LAST-MODIFIED:20190918T184025Z
UID:21094-1568566800-1568566800@2025.conservatoiregrandavignon.com
SUMMARY:Aper’musique « Cage et Scarlatti » en partenariat avec l’Opéra Grand Avignon
DESCRIPTION:Samedi 15 février 2020\nEspace Leclerc\, Amphithéâtre Mozart\, 17h\nAper’musique « Cage et Scarlatti » en partenariat avec l’Opéra Grand Avignon
URL:https://2025.conservatoiregrandavignon.com/event/apermusique-cage-et-scarlatti-en-partenariat-avec-lopera-grand-avignon/
LOCATION:Auditorium Jean Moulin – Le Thor\, 971 Chem. des Estourans\, Le Thor\, 84250\, France
CATEGORIES:Saison 2019-2020,Saison artistique 2019-2020
END:VEVENT
BEGIN:VEVENT
DTSTART;TZID=Europe/Paris:20190918T100000
DTEND;TZID=Europe/Paris:20190918T170000
DTSTAMP:20260423T085058
CREATED:20190918T203715Z
LAST-MODIFIED:20190923T013527Z
UID:21165-1568800800-1568826000@2025.conservatoiregrandavignon.com
SUMMARY:Master class avec le Quatuor Hornormes
DESCRIPTION:Lundi 4 novembre 2019\nEspace Leclerc\, Amphithéâtre Mozart\, 10h-17h
URL:https://2025.conservatoiregrandavignon.com/event/master-class-avec-le-quatuor-hornormes/
LOCATION:Auditorium Jean Moulin – Le Thor\, 971 Chem. des Estourans\, Le Thor\, 84250\, France
CATEGORIES:Saison 2019-2020,Saison pédagogique 2019-2020,Artistes invités 2019-2020,Masterclass
ATTACH;FMTTYPE=image/jpeg:https://2025.conservatoiregrandavignon.com/wp-content/uploads/2019/09/4-nov-2019-QUATUOR-HORNORMES-libre-de-droit.jpg
END:VEVENT
BEGIN:VEVENT
DTSTART;VALUE=DATE:20190921
DTEND;VALUE=DATE:20190923
DTSTAMP:20260423T085058
CREATED:20190918T133628Z
LAST-MODIFIED:20190918T133628Z
UID:21024-1569024000-1569196799@2025.conservatoiregrandavignon.com
SUMMARY:Journées Européennes du Patrimoine
DESCRIPTION:
URL:https://2025.conservatoiregrandavignon.com/event/journees-europeennes-du-patrimoine/
LOCATION:Auditorium Jean Moulin – Le Thor\, 971 Chem. des Estourans\, Le Thor\, 84250\, France
CATEGORIES:Saison 2019-2020,Saison artistique 2019-2020
END:VEVENT
END:VCALENDAR