BEGIN:VCALENDAR
VERSION:2.0
PRODID:-//Conservatoire à Rayonnement Régional du Grand Avignon - ECPv6.12.0.1//NONSGML v1.0//EN
CALSCALE:GREGORIAN
METHOD:PUBLISH
X-WR-CALNAME:Conservatoire à Rayonnement Régional du Grand Avignon
X-ORIGINAL-URL:https://2025.conservatoiregrandavignon.com
X-WR-CALDESC:Évènements pour Conservatoire à Rayonnement Régional du Grand Avignon
REFRESH-INTERVAL;VALUE=DURATION:PT1H
X-Robots-Tag:noindex
X-PUBLISHED-TTL:PT1H
BEGIN:VTIMEZONE
TZID:Europe/Paris
BEGIN:DAYLIGHT
TZOFFSETFROM:+0100
TZOFFSETTO:+0200
TZNAME:CEST
DTSTART:20190331T010000
END:DAYLIGHT
BEGIN:STANDARD
TZOFFSETFROM:+0200
TZOFFSETTO:+0100
TZNAME:CET
DTSTART:20191027T010000
END:STANDARD
END:VTIMEZONE
BEGIN:VEVENT
DTSTART;TZID=Europe/Paris:20190223T170000
DTEND;TZID=Europe/Paris:20190223T203000
DTSTAMP:20260422T043030
CREATED:20181008T224136Z
LAST-MODIFIED:20190221T150821Z
UID:18475-1550941200-1550953800@2025.conservatoiregrandavignon.com
SUMMARY:"Drums‘ Lab &@ss" #1 - Laboratoire des écoles associées
DESCRIPTION:Une pratique des percussions pour un territoire de création \nSamedi 23 février de 17h à 19h : \nConcert d’ouverture : Atelier l’Arbre\nOrchestre à Vocation pédagogique\, direction Julien Tamisier et Pascal Charrier – Naï No Production \nTable Ronde n°1 :\nTroubles de l’apprentissage et public en situation de handicap.\nLes troubles de l’apprentissage : une question de connaissances…et de bienveillance !\n* Jean Schmutz\, (créateur du BAO-PAO)\nAssociation « La puce à l’oreille »\, Bollène\n* Association Musikarime de Caderousse\nIllustration musicale par Jeanne Marie et Olivier qui joueront du BAO PAO encadrés par Valérie Testud et Magali Brun\, éducatrice spécialisée à l’IME le grand colombier à Orange.\n* Sabine Aubanel\, professeur de percussion à Villeneuve-les-Avignon\, (école associée au CRR du Grand Avignon)\, accompagnée de son chien guide Happy.\n* Laurent Part : professeur de percussion au conservatoire à rayonnement départemental d’Arles\n* Mahir Bostandzija : musicien\, association « Les amis de Théodore »\n* Bernard Escoffier Président et chorégraphe de « Scènes en partage » association proposant la création et participation  de spectacles ou se rencontrent personnes valides et en situation de handicap\, quel qu’il soit. \nTable ronde n°2 :\nLa pratique artistique est-elle par définition une pratique pluridisciplinaire ?\nQuel dispositif possible aujourd’hui dans nos écoles ?\n« Partition graphique »\, une proposition de pratique transversale en arts plastiques et musique. »\n* Loïc Guénin\, musicien\, compositeur\, artiste sonore – Association « phare a lucioles »\n* Philippe Cornus\, musicien\, professeur de musique\, porteur du projet\n* Nicolas Chatenoud\, chargé de mission musique – Arts Vivants en Vaucluse\n* Guigou Chenevier : batteur\, compositeur\, producteur – Association « Inouï Production » \nTable Ronde n°3 : \nCréativité et musique\, que peut-on envisager ? Quels outils pédagogiques ?\nUn temps commun et un espace partagé…\nMusique sur ordinateur et liens avec les apprentissages. \n* Pablo Cueco\, musicien\, compositeur\, producteur\, percussionniste joueur de Zarb\n* David Coubes\, enseignant MAO et composition du CRR du Grand Avignon\n* Julien Tamisier\, pianiste de Jazz\, Cie Naï Nô\, responsable du département jazz du CRR du Grand Avignon\n* Christian Chiron : clarinettiste\, improvisateur et professeur au CRD de Carpentras \nSamedi 23 février – 20h30 :\nConcert de clôture « drums’Lab»\nAuditorium du Grand Avignon – Le Pontet \n\nGrand Ensemble de percussion \n(Rochefort du Gard\, Sauveterre\, Villeneuve les Avignon (écoles associées au CRR du Grand Avignon)\, Carpentras\, Arles et CRR)\nExtrait de « Émanation d’énergie » pour percussions danse et vidéo\nAndreis Pierre\, percussions et Guillaume Zanier\, conception et co-réalisation vidéo.\n* « Osmose poétique » – Rebond b de Iannis Xenakis \n* « Hasta Mudras » – Méditation n°2 de Casey Cangelosi\nLIBER’TANGO « Tribute to Gary Burton »\nQuatuor Caliente et Vincent Maillard\, vibraphone \nPièces de tango argentin : hommage à Gary Burton et A.Piazzolla\n\nSHOW ROOM les 23 février proposés par : \nDrums Word – https://drums-world.business.site\nSd Drums – https://www.sddrum.com\nThomas Lestrelin\,  :  professeur de batterie/percussion à l’école de Rochefort-du-Gard et l’école intercommunale de Vaison-La-Romaine – Atelier de détournement et recyclage d’objets en instruments de musique. \n 
URL:https://2025.conservatoiregrandavignon.com/event/concours-perku-en-herbe/
LOCATION:Église du Pontet\, 7 Avenue de l'Église\, Le Pontet\, 84130\, France
CATEGORIES:Saison 2018-2019,Saison artistique 2018-2019,Musique
ATTACH;FMTTYPE=image/jpeg:https://2025.conservatoiregrandavignon.com/wp-content/uploads/2018/10/Perku-en-herbe-24-fev-2019-1.jpg
END:VEVENT
END:VCALENDAR