BEGIN:VCALENDAR
VERSION:2.0
PRODID:-//Conservatoire à Rayonnement Régional du Grand Avignon - ECPv6.12.0.1//NONSGML v1.0//EN
CALSCALE:GREGORIAN
METHOD:PUBLISH
X-ORIGINAL-URL:https://2025.conservatoiregrandavignon.com
X-WR-CALDESC:Évènements pour Conservatoire à Rayonnement Régional du Grand Avignon
REFRESH-INTERVAL;VALUE=DURATION:PT1H
X-Robots-Tag:noindex
X-PUBLISHED-TTL:PT1H
BEGIN:VTIMEZONE
TZID:Europe/Paris
BEGIN:DAYLIGHT
TZOFFSETFROM:+0100
TZOFFSETTO:+0200
TZNAME:CEST
DTSTART:20190331T010000
END:DAYLIGHT
BEGIN:STANDARD
TZOFFSETFROM:+0200
TZOFFSETTO:+0100
TZNAME:CET
DTSTART:20191027T010000
END:STANDARD
END:VTIMEZONE
BEGIN:VEVENT
DTSTART;VALUE=DATE:20190318
DTEND;VALUE=DATE:20190320
DTSTAMP:20260423T001507
CREATED:20181009T073805Z
LAST-MODIFIED:20181123T105348Z
UID:18595-1552867200-1553039999@2025.conservatoiregrandavignon.com
SUMMARY:Master class et concert de basson
DESCRIPTION:Lundi 18 mars : 12h – 16h\nMardi 19 mars : 9h – 16h\nLundi 18 mars\, 19h : Concert \nArtiste invité : Axel Benoit \nDiplômé de piano et de basson du Conservatoire du Grand Avignon\, Axel Benoit intègre en 2010 le Conservatoire National Supérieur de Musique et de Danse de Lyon\, dans la classe de Carlo Colombo et Jean Pignoly. Il est alors invité à jouer au sein d’orchestres tels que l’Opéra de Lyon\, l’Orchestre National de Lyon ou l’Orchestre des Pays de Savoie\, où il se produira en tant que basson solo. \nÀ 18 ans\, il remporte aux États-Unis le 1er prix à l’IDRS 2011 (International Double Reed Society)\, son premier concours international de basson. Suivront d’autres concours qu’il remporte les uns après les autres: Gustav Malher Jugendorchester\, Schleswig-Holstein Music Festival\, Verbier Festival Orchestra & Chamber Orchestra\, Gustav Mahler Academy. En 2012\, il obtient la place d’académiste dans l’Orchestre de l’Opéra de Zürich et se perfectionne alors en parallèle avec Giorgio Mandolesi à la Haute École des Arts de Zürich\, où il obtiendra par la suite un Master de Soliste. Il prend également part au Festival de Zermatt\, où il joue en orchestre et en musique de chambre avec les musiciens de l’Orchestre Philharmonique de Berlin. \nEn 2013\, il intègre\, à l’âge de 21 ans\, l’Orchestre Symphonique de Berne en tant que basson solo. Depuis 2016\, Axel Benoit occupe la place de premier basson solo au sein de l’Orchestre de Chambre de Lausanne. Il a joué sous la direction d’une trentaine de chefs d’orchestre de renommée internationale tels que Valery Gergiev\, Bernhard Haitink\, Charles Dutoit\, Fabio Luisi\, Jaap van Zweden\, Gianandrea Noseda… Il est régulièrement invité en tant que basson solo par le City of Birmingham Symphony Orchestra\, l’Orchestre de la Tonhalle de Zürich\, l’Opéra de Zürich\, Basel Kammerorchester\, Philharmoniker Hamburg\, Festival Strings Lucerne\, Musikkollegium Winterthur\, Orchestra of Europe\, European Philharmonic of Switzerland. \nEn juillet 2018\, il donne ses premières masterclasses internationales et se produit en tant que soliste aux festivals « Jornadas do Fagote » à Viana do Castelo au Portugal\, ainsi qu’au très renommé « International Bassoon Festival » à Qingdao en Chine.
URL:https://2025.conservatoiregrandavignon.com/event/master-class-et-concert-de-basson/
LOCATION:Auditorium Jean Moulin – Le Thor\, 971 Chem. des Estourans\, Le Thor\, 84250\, France
CATEGORIES:Saison 2018-2019,Saison pédagogique 2018-2019,Artistes invités 2018-2019,Musique,Masterclass
ATTACH;FMTTYPE=image/jpeg:https://2025.conservatoiregrandavignon.com/wp-content/uploads/2018/10/Axel_Benoit-18-et-19-mars-2019.jpg
END:VEVENT
BEGIN:VEVENT
DTSTART;TZID=Europe/Paris:20190318T190000
DTEND;TZID=Europe/Paris:20190318T190000
DTSTAMP:20260423T001507
CREATED:20181009T045315Z
LAST-MODIFIED:20181123T105415Z
UID:18488-1552935600-1552935600@2025.conservatoiregrandavignon.com
SUMMARY:Concert de basson
DESCRIPTION:Artiste invité : Axel Benoit \nDiplômé de piano et de basson du Conservatoire du Grand Avignon\, Axel Benoit intègre en 2010 le Conservatoire National Supérieur de Musique et de Danse de Lyon\, dans la classe de Carlo Colombo et Jean Pignoly. Il est alors invité à jouer au sein d’orchestres tels que l’Opéra de Lyon\, l’Orchestre National de Lyon ou l’Orchestre des Pays de Savoie\, où il se produira en tant que basson solo. \nÀ 18 ans\, il remporte aux États-Unis le 1er prix à l’IDRS 2011 (International Double Reed Society)\, son premier concours international de basson. Suivront d’autres concours qu’il remporte les uns après les autres: Gustav Malher Jugendorchester\, Schleswig-Holstein Music Festival\, Verbier Festival Orchestra & Chamber Orchestra\, Gustav Mahler Academy. En 2012\, il obtient la place d’académiste dans l’Orchestre de l’Opéra de Zürich et se perfectionne alors en parallèle avec Giorgio Mandolesi à la Haute École des Arts de Zürich\, où il obtiendra par la suite un Master de Soliste. Il prend également part au Festival de Zermatt\, où il joue en orchestre et en musique de chambre avec les musiciens de l’Orchestre Philharmonique de Berlin. \nEn 2013\, il intègre\, à l’âge de 21 ans\, l’Orchestre Symphonique de Berne en tant que basson solo. Depuis 2016\, Axel Benoit occupe la place de premier basson solo au sein de l’Orchestre de Chambre de Lausanne. Il a joué sous la direction d’une trentaine de chefs d’orchestre de renommée internationale tels que Valery Gergiev\, Bernhard Haitink\, Charles Dutoit\, Fabio Luisi\, Jaap van Zweden\, Gianandrea Noseda… Il est régulièrement invité en tant que basson solo par le City of Birmingham Symphony Orchestra\, l’Orchestre de la Tonhalle de Zürich\, l’Opéra de Zürich\, Basel Kammerorchester\, Philharmoniker Hamburg\, Festival Strings Lucerne\, Musikkollegium Winterthur\, Orchestra of Europe\, European Philharmonic of Switzerland. \nEn juillet 2018\, il donne ses premières masterclasses internationales et se produit en tant que soliste aux festivals « Jornadas do Fagote » à Viana do Castelo au Portugal\, ainsi qu’au très renommé « International Bassoon Festival » à Qingdao en Chine.
URL:https://2025.conservatoiregrandavignon.com/event/concert-de-basson/
LOCATION:Auditorium Jean Moulin – Le Thor\, 971 Chem. des Estourans\, Le Thor\, 84250\, France
CATEGORIES:Saison 2018-2019,Saison artistique 2018-2019,Artistes invités 2018-2019,Musique
ATTACH;FMTTYPE=image/jpeg:https://2025.conservatoiregrandavignon.com/wp-content/uploads/2018/10/Axel_Benoit-18-et-19-mars-2019.jpg
END:VEVENT
BEGIN:VEVENT
DTSTART;TZID=Europe/Paris:20190320T190000
DTEND;TZID=Europe/Paris:20190320T190000
DTSTAMP:20260423T001507
CREATED:20181009T045628Z
LAST-MODIFIED:20181016T074529Z
UID:18490-1553108400-1553108400@2025.conservatoiregrandavignon.com
SUMMARY:« Pas de danse sans musique »
DESCRIPTION:Concert proposé par Hélène Andreozzi\, pianiste accompagnatrice réunissant autour de l’improvisation des élèves en cycle spécialisé des classes instrumentales et des élèves danseurs.
URL:https://2025.conservatoiregrandavignon.com/event/pas-de-danse-sans-musique/
LOCATION:Auditorium Jean Moulin – Le Thor\, 971 Chem. des Estourans\, Le Thor\, 84250\, France
CATEGORIES:Saison 2018-2019,Saison artistique 2018-2019,Pluridisciplinaire
ATTACH;FMTTYPE=image/jpeg:https://2025.conservatoiregrandavignon.com/wp-content/uploads/2018/10/Danse-20-et-23-mars-7.jpg
END:VEVENT
END:VCALENDAR