BEGIN:VCALENDAR
VERSION:2.0
PRODID:-//Conservatoire à Rayonnement Régional du Grand Avignon - ECPv6.12.0.1//NONSGML v1.0//EN
CALSCALE:GREGORIAN
METHOD:PUBLISH
X-WR-CALNAME:Conservatoire à Rayonnement Régional du Grand Avignon
X-ORIGINAL-URL:https://2025.conservatoiregrandavignon.com
X-WR-CALDESC:Évènements pour Conservatoire à Rayonnement Régional du Grand Avignon
REFRESH-INTERVAL;VALUE=DURATION:PT1H
X-Robots-Tag:noindex
X-PUBLISHED-TTL:PT1H
BEGIN:VTIMEZONE
TZID:Europe/Paris
BEGIN:DAYLIGHT
TZOFFSETFROM:+0100
TZOFFSETTO:+0200
TZNAME:CEST
DTSTART:20190331T010000
END:DAYLIGHT
BEGIN:STANDARD
TZOFFSETFROM:+0200
TZOFFSETTO:+0100
TZNAME:CET
DTSTART:20191027T010000
END:STANDARD
END:VTIMEZONE
BEGIN:VEVENT
DTSTART;VALUE=DATE:20190325
DTEND;VALUE=DATE:20190401
DTSTAMP:20260422T043028
CREATED:20181009T050414Z
LAST-MODIFIED:20190319T153136Z
UID:18492-1553472000-1554076799@2025.conservatoiregrandavignon.com
SUMMARY:LA SEMAINE DES CUIVRES
DESCRIPTION:« La splendeur des cuivres » \nExpositions\nEspace Leclerc\, hall de la médiathèque\nExposition de cuivres des marques\nYamaha\nBuffet Crampon\nCor des Alpes \nEspace Leclerc\, hall de la médiathèque\n« Vents d’avant » : exposition de vieux instruments \nLundi 25 mars\nLes cuivres anciens \nEspace Leclerc\, Amphithéâtre Mozart\, 14h\nConférence sur les embouchures primitives par André Gabriel \nEspace Leclerc\, Amphithéâtre Mozart\, 18h\nConcert de serpent et tuba par Michel Godard \nMardi 26 mars \nLE COR \nEspace Leclerc\, hall de la médiathèque\nExposition de cors anciens et de cors des Alpes par Sandro Faïta \nEspace Leclerc\, Amphithéâtre Mozart\, 10h30 -12h00 et 14h – 17h\nMaster class de cor des Alpes avec Alexandre Jous \nEspace Leclerc\, Salle 5\, 14h – 17h\nMaster class de cor des Alpes avec Alexandre Jous \nEspace Leclerc\, salle 304\, 14h – 17h\nMaster class de cor par Jean-Pierre Cenedese \nEspace Leclerc\, parvis du Conservatoire\, 18h\nConcert de la classe de cor des Alpes de Briançon\nDirection : Olivier Brisville \nEspace Leclerc\, Amphithéâtre Mozart\, 19h\nEnsemble de cor\, direction Eric Sombret\nRécital d’Alexandre Jous\, cor des Alpes \nMercredi 27 mars\nLes cuivres \nEspace Leclerc\, Amphithéâtre Mozart\, 10h30\nConférence sur les métiers de la musique par Jérémy Lair \nEspace Leclerc\, Amphithéâtre Mozart\, salle 109\, 105\, 10h – 12h et salle 109\, 14h – 17h\nMaster class du YOUNG BRASS\, 1er et 2ème cycles avec Thierry AMIOT \nOpéra Confluence\, 20h30\nConcert des professeurs \nJeudi 28 mars\nLa trompette \nEspace Leclerc\, Amphithéâtre Mozart\, 10h30\nConférence « comment gérer son stress » par Patrick Roger \nEspace Leclerc\, Amphithéâtre Mozart\, 14h – 17h\nMaster class avec Franck Pulcini du Quatuor Epsilon \nAuditorium du Grand Avignon – Le Pontet\, 20h\nConcert du Young Brass (élèves des premier et deuxième cycles)\, direction Thierry Amiot\n \nVendredi 29 mars\nLe tuba \nEspace Leclerc\, Amphithéâtre Mozart\, 12h\nCarte blanche aux anciens élèves « cuivre » du Conservatoire \nSalle 109\, 14h – 17h\nMaster class avec Thierry Thibault \nSamedi 30 mars\nLe trombone\nEspace Leclerc\, Amphithéâtre Mozart\, 10h\nMaster class avec Bruno Flahou \nOpéra Confluence\, 17h\nConcert avec l’orchestre symphonique et quintette des professeurs du Conservatoire\nQuatuor Epsilon\nGrand ensemble de cuivres\nDirection : Thierry Thibault
URL:https://2025.conservatoiregrandavignon.com/event/la-semaine-des-cuivres/
LOCATION:Vaucluse
CATEGORIES:Saison 2018-2019,Saison artistique 2018-2019,Musique
ATTACH;FMTTYPE=image/jpeg:https://2025.conservatoiregrandavignon.com/wp-content/uploads/2018/10/cuivres-anciens.jpg
END:VEVENT
BEGIN:VEVENT
DTSTART;TZID=Europe/Paris:20190325T180000
DTEND;TZID=Europe/Paris:20190325T180000
DTSTAMP:20260422T043028
CREATED:20190212T094520Z
LAST-MODIFIED:20190212T094745Z
UID:20298-1553536800-1553536800@2025.conservatoiregrandavignon.com
SUMMARY:Concert Michel Godard
DESCRIPTION:Le 25 mars à 18h à l’amphithéâtre Mozart dans le cadre de la semaine des cuivres. \nNé en 1960 près de Belfort\, Michel Godard est vite reconnu comme un virtuose du tuba\, poursuivant une carrière entre jazz et musique classique. Il est aujourd’hui l’un des plus important tubiste et serpentiste dans le monde du jazz et des musiques improvisées. \nLe jeu de Michel Godard est extraordinaire dans tous les sens\, une technique époustouflante alliée à une musicalité des plus fines lui permette de rendre aériens ces instruments « graves ».\nEn 1979\, il découvre le serpent\, ancêtre du tuba\, ouvrant ainsi son champs d’expression vers la musique ancienne. Depuis 2002\, Michel Godard enseigne le serpent au conservatoire national supérieur de Paris. \nDans le monde de la musique classique\, Michel Godard à joué et enregistré avec L’Orchestre Philarmonique de Radio France\, l’Orchestre National de France\, l’ensemble « musique vivante »\, « la fenice »\, « XVIII-21 Musique des lumières ». Il était membre du « Arban chamber brass » (tournées au Japon\, U.S.A.\, Africa) et interprète du répertoire solo pour tuba. Tout naturellement\, après de telle expériences\, il a donné des master-classes dans le monde entier\, et il sera découvert par le monde du jazz européen. Depuis\, Michel Godard s’engage dans des aventures musicales avec des artistes comme Rabih Abou-Khalil\, Christof Lauer\, Luciano Biondini\, Linda Bsiri\, Michel Portal\, Louis Sclavis\, Henry Texier\, Enrico Rava\, Michael Riessler\, Kenny Wheeler\, Ray Anderson\, Sylvie Courvoisier\, Klaus König\, Simon Nabatov\, Wolfgang Puschnig\, Linda Sharrock\, Pierre Favre\, Misha Mengelberg\, Gianluigi Trovesi\, Maria Pia De Vito\, Pino Minafra\, Willem Breuker\, Herbert Joos\, Dave Bargeron et beaucoup d’autres. \nEn tant que compositeur\, Michel Godard écrit pour Radio France (“Penthés(il)ée II” )\, Donaueschinger Musiktage/Südwestrundfunk (“de mémoire de tuba” \, “Tra la folla\, mora\, mormora” \, “Praeludium”)\, le Ministere de la Culture (“Bradamente aux aguets”\, “les enfants d’un paradis”). \nIl enregistre de nombreux cd avec ses propres projets: « Archangelica »\, « ImpertinAnce »\, « Cousins Germains » pour le label CAMjazz\, « Castel del monte » \, « Tubatuba » pour Enja\, « Deep »\, « Trio Rouge » pour Intuition. \nMichel Godard a aussi joué et enregistré avec le Bagad de Quimperlé\, la reggae star Alpha Blondy\, et les musiciens de Rock de « Canterburry » John Greaves et Pip Pyle. Il collabore régulièrement avec l’écrivain Nancy Huston : « Tendres ténèbres\, pérégrinations Goldberg\, Tentatives de renaissance ».
URL:https://2025.conservatoiregrandavignon.com/event/concert-michel-godard/
LOCATION:Auditorium Jean Moulin – Le Thor\, 971 Chem. des Estourans\, Le Thor\, 84250\, France
CATEGORIES:Saison 2018-2019,Artistes invités 2018-2019,Musique
ATTACH;FMTTYPE=image/jpeg:https://2025.conservatoiregrandavignon.com/wp-content/uploads/2018/10/godard_serpent01-e1549964808815.jpg
END:VEVENT
BEGIN:VEVENT
DTSTART;TZID=Europe/Paris:20190325T180000
DTEND;TZID=Europe/Paris:20190325T190000
DTSTAMP:20260422T043028
CREATED:20190211T155912Z
LAST-MODIFIED:20190320T132153Z
UID:20289-1553536800-1553540400@2025.conservatoiregrandavignon.com
SUMMARY:Concert exceptionnel de Michel Godard
DESCRIPTION:Concert de serpent et tuba par Michel Godard \nVenez découvrir ou redécouvrir un artiste éclectique et touche-à-tout : Michel Godard. Dans le cadre de la semaine des cuivres\, il donnera un concert sur des instruments extraordinaires du plus connu – le tuba – en passant le plus étrange – le serpent.
URL:https://2025.conservatoiregrandavignon.com/event/20289/
LOCATION:Auditorium Jean Moulin – Le Thor\, 971 Chem. des Estourans\, Le Thor\, 84250\, France
CATEGORIES:Saison 2018-2019,Saison artistique 2018-2019,Musique
ATTACH;FMTTYPE=image/jpeg:https://2025.conservatoiregrandavignon.com/wp-content/uploads/2018/10/godard_serpent01-e1549964808815.jpg
END:VEVENT
BEGIN:VEVENT
DTSTART;TZID=Europe/Paris:20190327T203000
DTEND;TZID=Europe/Paris:20190327T223000
DTSTAMP:20260422T043028
CREATED:20190318T151859Z
LAST-MODIFIED:20190319T134200Z
UID:20432-1553718600-1553725800@2025.conservatoiregrandavignon.com
SUMMARY:Professeurs en scène
DESCRIPTION:Professeurs en scène\nLes artistes enseignants du Conservatoire du Grand Avignon vous offrent l’édition 2019 de Professeurs en scène.\nEntrée libre sur réservation auprès de la billetterie de l’Opéra Grand Avignon 04 90 14 26 40 \nDuo Hybride \nMathilde Giraud\, harpe\nFiona Ait Bounou\, voix \nCuerdas con fueye de Alejandro Schwarz (tango) \nYvonne Hahn\, bandonéon\nFlorence Marie Béthune\, violoncelle\nSophie Mouson\, alto\nChantal Rodier et Yves-Michel Dubois\, violons \nCharles Gounod\, 2 pièces mélodiques pour cor et piano \n* Andante Cantabile\n* Andante\, quasi Allegretto\, ma non troppo \nCor\,ric Sombret\nPiano\,Thuy Anh Vuong \nDépartement de musique ancienne  \nSuite de danses d’André Philidor \n* Entrée de M. Liancourt\n* Les Ombres\n* Les Vallets de la Faiste\n* Les Bergers\n* Les Nimphes de la grenouillère\n* Bourrée d’Avignonez \nCélia Vakanas et Marion Déneux\, flûtes à bec\nYvelise Girard\, sacqueboute\nFlorence Marie Béthune\, violoncelle baroque\nPhilippe Cornus\, percussions\nElisa Barbessi\, clavecin \nJohannes Brahms\, sonate opus 120 n°1 en Fa majeur \n* Allegro Appassionato \nAlto\, Sophie Mouson\nPiano\, Thuy Anh Vuong \nScott Joplin\, The Entertainer\, A Ragtime Two-Step (arrangé pour Dixieland Jazz Band par Frédéric Cellier) \nFrançois Bérody\, trompette\nFrédéric Cellier\, clarinette\nYvelise Girard\, trombone\nRomain Ortega\, soubassophone\nEsteban Cellier\, banjo\nMoya Yu\, piano\nSébastien Choquet\, batterie
URL:https://2025.conservatoiregrandavignon.com/event/professeurs-en-scene-4/
LOCATION:Opéra Confluence\, Place de l'Europe
ATTACH;FMTTYPE=image/jpeg:https://2025.conservatoiregrandavignon.com/wp-content/uploads/2019/03/17S007-0325.jpg
END:VEVENT
BEGIN:VEVENT
DTSTART;TZID=Europe/Paris:20190330T170000
DTEND;TZID=Europe/Paris:20190330T190000
DTSTAMP:20260422T043028
CREATED:20190319T130222Z
LAST-MODIFIED:20190319T130805Z
UID:20455-1553965200-1553972400@2025.conservatoiregrandavignon.com
SUMMARY:Concert de clôture de la semaine des cuivres
DESCRIPTION:Concert de clôture de la semaine des cuivres \nGRAND ENSEMBLE DE CUIVRES DU CONSERVATOIRE \n& \nQUATUOR EPSILON
URL:https://2025.conservatoiregrandavignon.com/event/20289-2/
LOCATION:Opéra Confluence\, Place de l'Europe
CATEGORIES:Saison 2018-2019,Saison artistique 2018-2019,Musique
ATTACH;FMTTYPE=image/jpeg:https://2025.conservatoiregrandavignon.com/wp-content/uploads/2019/03/DSC_5393.jpg
END:VEVENT
BEGIN:VEVENT
DTSTART;TZID=Europe/Paris:20190330T183000
DTEND;TZID=Europe/Paris:20190330T183000
DTSTAMP:20260422T043028
CREATED:20181009T050821Z
LAST-MODIFIED:20181016T075444Z
UID:18494-1553970600-1553970600@2025.conservatoiregrandavignon.com
SUMMARY:Rencontre régionale des guitares
DESCRIPTION:Guitare en BD ou BD en guitare ? Telle est la question que tentera d’élucider Maguy Tarenbulle. Maguy\, c’est la bulle musicale qui ira interroger les différents protagonistes : de Tintin à Gaston en passant par Astérix et le Marsupilami\, aucun témoignage ne lui échappera. \nMaguy Tarenbulle réunira les élèves et professeurs guitaristes de toute la région pour un concert en forme de bande dessinée. L’inventivité des élèves se mettra au service de l’élaboration de plusieurs planches musicales originales. Pour couronner le moment\, deux créations commandées à Tristan-Patrice Challulau et à Orestis Kalampalikis rassembleront sur scène l’ensemble des participants pour un instant unique de partage et de convivialité.
URL:https://2025.conservatoiregrandavignon.com/event/rencontre-regionale-des-guitares/
LOCATION:Pôle Culturel Jean Ferrat\, 157 Chemin des Écoles et du Stade\, Sauveterre\, 30150
CATEGORIES:Saison 2018-2019,Musique
ATTACH;FMTTYPE=image/jpeg:https://2025.conservatoiregrandavignon.com/wp-content/uploads/2018/10/guitares-16-mars-et-30-mars-2019-1-2.jpg
END:VEVENT
END:VCALENDAR