BEGIN:VCALENDAR
VERSION:2.0
PRODID:-//Conservatoire à Rayonnement Régional du Grand Avignon - ECPv6.12.0.1//NONSGML v1.0//EN
CALSCALE:GREGORIAN
METHOD:PUBLISH
X-ORIGINAL-URL:https://2025.conservatoiregrandavignon.com
X-WR-CALDESC:Évènements pour Conservatoire à Rayonnement Régional du Grand Avignon
REFRESH-INTERVAL;VALUE=DURATION:PT1H
X-Robots-Tag:noindex
X-PUBLISHED-TTL:PT1H
BEGIN:VTIMEZONE
TZID:Europe/Paris
BEGIN:DAYLIGHT
TZOFFSETFROM:+0100
TZOFFSETTO:+0200
TZNAME:CEST
DTSTART:20190331T010000
END:DAYLIGHT
BEGIN:STANDARD
TZOFFSETFROM:+0200
TZOFFSETTO:+0100
TZNAME:CET
DTSTART:20191027T010000
END:STANDARD
END:VTIMEZONE
BEGIN:VEVENT
DTSTART;VALUE=DATE:20190513
DTEND;VALUE=DATE:20190515
DTSTAMP:20260423T000835
CREATED:20181009T074845Z
LAST-MODIFIED:20190506T124108Z
UID:18602-1557705600-1557878399@2025.conservatoiregrandavignon.com
SUMMARY:Master class guitare /  Jérémy Péret
DESCRIPTION:Artiste invité : Jérémy Péret \nMaster class\, 10h – 12h30 et 14h – 17h\nConcert mardi\, 19h
URL:https://2025.conservatoiregrandavignon.com/event/master-class-jeremy-peret/
LOCATION:Auditorium Jean Moulin – Le Thor\, 971 Chem. des Estourans\, Le Thor\, 84250\, France
CATEGORIES:Saison 2018-2019,Saison pédagogique 2018-2019,Musique,Masterclass
ATTACH;FMTTYPE=image/jpeg:https://2025.conservatoiregrandavignon.com/wp-content/uploads/2019/05/CONCERT.jpg
END:VEVENT
BEGIN:VEVENT
DTSTART;TZID=Europe/Paris:20190514T190000
DTEND;TZID=Europe/Paris:20190514T203000
DTSTAMP:20260423T000835
CREATED:20181009T054406Z
LAST-MODIFIED:20190506T124228Z
UID:18522-1557860400-1557865800@2025.conservatoiregrandavignon.com
SUMMARY:Concert de guitare avec Jérémy Péret
DESCRIPTION:Jérémy Peret entame sa formation de guitariste au conservatoire de l’Aveyron. Élève de Christophe Louboutin\, il y obtient rapidement son diplôme de fin d’études de guitare classique\, puis se tourne vers le jazz et valide le même diplôme dans cette discipline auprès de Serge Lazarevitch à Perpignan. Toujours passionné de musique classique\, il part à Paris se perfectionner auprès de Judicaël Perroy\, puis intègre le Conservatoire national supérieur de musique de Paris où il obtient son master en juin 2013. \nIl a déjà remporté de nombreux concours internationaux : 3e prix du prestigieux concours GFA aux Etats-Unis en 2014\, 2e prix aux concours de Séville\, de Sernancelhe (Portugal) et « Robert J. Vidal » en France. En décembre 2016\, il décroche le 1er prix du concours de Nagoya au Japon et le 2e prix à Tokyo. \nFidèle à l’improvisation et à la création contemporaine\, il s’associe volontiers à d’autres pratiques artistiques\, et participe souvent à des projets regroupant plasticiens\, metteurs en scène ou vidéastes. Il est souvent appelé à se produire avec l’ensemble Le Balcon\, avec lequel il a partagé des scènes prestigieuses comme l’Opéra Bastille\, l’Opéra d’Avignon\, le théâtre de l’Athénée à Paris ou le festival Musica à Strasbourg. \nSa dernière grande aventure a été la création du spectacle Vous qui savez ce qu’est l’amour\, adaptation débridée des Noces de Figaro de Mozart\, où l’argument est servi par une comédienne mezzo-soprano et une guitare électrique. Enseignant\, il est depuis 2011 professeur de guitare au Conservatoire de Châtenay-Malabry\, titulaire au grade d’assistant spécialisé d’enseignement artistique en guitare classique ainsi qu’en musiques actuelles.
URL:https://2025.conservatoiregrandavignon.com/event/concert-de-guitare-avec-jeremy-peret/
LOCATION:Auditorium Jean Moulin – Le Thor\, 971 Chem. des Estourans\, Le Thor\, 84250\, France
CATEGORIES:Saison 2018-2019,Saison artistique 2018-2019,Musique
END:VEVENT
BEGIN:VEVENT
DTSTART;TZID=Europe/Paris:20190516T190000
DTEND;TZID=Europe/Paris:20190516T190000
DTSTAMP:20260423T000835
CREATED:20181009T054527Z
LAST-MODIFIED:20190506T091653Z
UID:18524-1558033200-1558033200@2025.conservatoiregrandavignon.com
SUMMARY:Concert de la classe de Jazz\, de Philippe Coromp et Julien Tamisier
DESCRIPTION:La classe de Jazz du Conservatoire propose un concert mêlant élèves et professeurs autour d’un répertoire varié : Du Jazz traditionnel du début du siècle\, en passant par les compositions de grands musiciens\, en passant par des créations d’élèves nourris d’influences diverses (Musique Classique\, Jazz\, Musiques Actuelles) \nVous découvrirez diverses formations\, du duo au quintet\, issues des rencontres et des complicités nées dans la classe de Jazz.
URL:https://2025.conservatoiregrandavignon.com/event/concert-de-la-classe-de-jazz-de-philippe-coromp-et-julien-tamisier-2/
LOCATION:Auditorium Jean Moulin – Le Thor\, 971 Chem. des Estourans\, Le Thor\, 84250\, France
CATEGORIES:Saison 2018-2019,Saison artistique 2018-2019,Musique
ATTACH;FMTTYPE=image/jpeg:https://2025.conservatoiregrandavignon.com/wp-content/uploads/2019/05/ANNULE-.1.jpg
END:VEVENT
BEGIN:VEVENT
DTSTART;TZID=Europe/Paris:20190518T200000
DTEND;TZID=Europe/Paris:20190518T200000
DTSTAMP:20260423T000835
CREATED:20181009T054648Z
LAST-MODIFIED:20190514T153614Z
UID:18526-1558209600-1558209600@2025.conservatoiregrandavignon.com
SUMMARY:« Je est un autre »
DESCRIPTION:Voyage musical et théâtral \nJe est un autre\, mais on s’entend bien ! \nAvec la participation des classes de musiques actuelles\, de piano\, de bandonéon\, de théâtre\, l’atelier bandonéon \nDirection : Stéphanie Laye \nClasse de Violoncelle de Nerte DUNAN  \nClasse de Musiques Actuelles de Flavie FOURNIER  \nAtelier Chant/Piano de Stéphanie LAYE  \nClasse de Guitare de Fabrice MINY  \nClasse de Théâtre de Florian SIMON
URL:https://2025.conservatoiregrandavignon.com/event/je-est-hais-un-autre/
LOCATION:Église du Pontet\, 7 Avenue de l'Église\, Le Pontet\, 84130\, France
CATEGORIES:Saison 2018-2019,Saison artistique 2018-2019,Musique
ATTACH;FMTTYPE=image/jpeg:https://2025.conservatoiregrandavignon.com/wp-content/uploads/2018/10/Spectacle-18-mai-2019-2.jpg
END:VEVENT
END:VCALENDAR