BEGIN:VCALENDAR
VERSION:2.0
PRODID:-//Conservatoire à Rayonnement Régional du Grand Avignon - ECPv6.12.0.1//NONSGML v1.0//EN
CALSCALE:GREGORIAN
METHOD:PUBLISH
X-WR-CALNAME:Conservatoire à Rayonnement Régional du Grand Avignon
X-ORIGINAL-URL:https://2025.conservatoiregrandavignon.com
X-WR-CALDESC:Évènements pour Conservatoire à Rayonnement Régional du Grand Avignon
REFRESH-INTERVAL;VALUE=DURATION:PT1H
X-Robots-Tag:noindex
X-PUBLISHED-TTL:PT1H
BEGIN:VTIMEZONE
TZID:Europe/Paris
BEGIN:DAYLIGHT
TZOFFSETFROM:+0100
TZOFFSETTO:+0200
TZNAME:CEST
DTSTART:20190331T010000
END:DAYLIGHT
BEGIN:STANDARD
TZOFFSETFROM:+0200
TZOFFSETTO:+0100
TZNAME:CET
DTSTART:20191027T010000
END:STANDARD
END:VTIMEZONE
BEGIN:VEVENT
DTSTART;VALUE=DATE:20190617
DTEND;VALUE=DATE:20190622
DTSTAMP:20260423T025903
CREATED:20181009T070002Z
LAST-MODIFIED:20181016T062214Z
UID:18581-1560729600-1561161599@2025.conservatoiregrandavignon.com
SUMMARY:« Projets du pôle théâtre »
DESCRIPTION:Les élèves du pôle théâtre présentent\, comme chaque\, leur « projet personnel » de fin de cycle. \nTous les jours à 19h
URL:https://2025.conservatoiregrandavignon.com/event/projets-du-pole-theatre/
LOCATION:Église du Pontet\, 7 Avenue de l'Église\, Le Pontet\, 84130\, France
CATEGORIES:Saison 2018-2019,Examens publics,Théâtre
ATTACH;FMTTYPE=image/jpeg:https://2025.conservatoiregrandavignon.com/wp-content/uploads/2018/10/Projets-pole-theatre-17-au-21-juin-2019-1.jpg
END:VEVENT
BEGIN:VEVENT
DTSTART;TZID=Europe/Paris:20190618T200000
DTEND;TZID=Europe/Paris:20190618T220000
DTSTAMP:20260423T025903
CREATED:20190617T133426Z
LAST-MODIFIED:20190617T134112Z
UID:20978-1560888000-1560895200@2025.conservatoiregrandavignon.com
SUMMARY:PRÉSENTATION DES TRAVAUX DU POLE THÉÂTRE
DESCRIPTION:Mardi 18 juin 2019\nAuditorium du Grand Avignon\, 20h00\nProjet dirigé des élèves du cycle spécialisé 1ère année théâtre\nMise en scène : Marcelle Basso \nD’après « L’éveil du printemps » de Franck Wedekind. \nLa pièce de Wedekind\, écrite en 1891\, parle de la découverte de la sexualité par des adolescents. Attirance mutuelle\, filles/garçons\, garçons /filles\, garçon /garçon\, interrogations sur les manifestations physiologiques de la libido\, sur la réalité de l’acte sexuel et sur la reproduction humaine. \nMais la société allemande de l’époque\, fort répressive\, entièrement tournée vers le travail\, restreint le champ des désirs et contrôle leur expression. Dans les discussions entre adultes et adolescents\, la sexualité demeure taboue. Et ce silence mortifère finira par engendrer le suicide de Moritz et la mort de la jeune Wendla\, due à un avortement aux méthodes archaïques. \nMalgré cette avalanche de catastrophes\, Wedekind garde son optimisme de résilient et sa foi en l’humanité. En tant que satiriste\, acteur/auteur/chanteur de cabaret\, il dévoile la comédie humaine sans en être victime. Sa pièce\, d’essence tragique\, est imprégnée d’un puissant esprit comique grinçant et vivifiant. \nAujourd’hui\, en 2019\, elle fait encore écho à nos questionnements sur la vie et sur l’éducation. Tout comme les chansons des Pink Floyd (Comfortably numb) et de Patti Smith (Gloria). \n  \n  \n 
URL:https://2025.conservatoiregrandavignon.com/event/presentation-des-travaux-du-pole-theatre/
LOCATION:Église du Pontet\, 7 Avenue de l'Église\, Le Pontet\, 84130\, France
ATTACH;FMTTYPE=image/jpeg:https://2025.conservatoiregrandavignon.com/wp-content/uploads/2019/06/DSC_9427.jpg
END:VEVENT
BEGIN:VEVENT
DTSTART;TZID=Europe/Paris:20190620T200000
DTEND;TZID=Europe/Paris:20190620T220000
DTSTAMP:20260423T025903
CREATED:20190617T134615Z
LAST-MODIFIED:20190617T134644Z
UID:20988-1561060800-1561068000@2025.conservatoiregrandavignon.com
SUMMARY:PRÉSENTATION DES TRAVAUX DU POLE THÉÂTRE
DESCRIPTION:PRÉSENTATION du projet dirigé des ateliers de perfectionnement de la pratique amateur\nAuditorium du Grand Avignon\nJeudi 20 juin 2019\, 20h00 \nDirection Marcelle Basso-Boccabella  \nD’après : Sopro (Souffle) de Tiago Rodrigues \nMise en scène : Marcelle Basso  \nLumière : Philippe Montes Morin \nMusique :  Carol Albitar (chant)\, Marie-Françoise Antonini (conception\, hautbois\, percussion)\, Ursula Priad (accordéon)  \nSopro » est une pièce récente de Tiago Rodrigues. Metteur en scène\, acteur et auteur portugais\, vieux compagnon de route du TG Stan\, il dirige actuellement le Théâtre National de Lisbonne. Il a créé « Sopro » en 2017 au théâtre des Carmes\, dans le cadre du festival d’Avignon.  \n Au début de la pièce\, la directrice du théâtre vient de mourir pendant une représentation de « Bérénice » de Racine. Pour maintenir le théâtre en marche\, l’actuel directeur monte une pièce qui met en scène la souffleuse\, en tant que personnage principal. Elle évoque certaines scènes du répertoire (« Dinis et Isabel »\, d’Antonio Patricio »\, « L’avare » de Molière\, « Les trois sœurs » de Tchekov\, « Antigone » de Sophocle et « Bérénice » de Racine) et raconte certains moments marquants dans sa longue carrière au service des acteurs. \nAvec : \nLa souffleuse :  Marie-Françoise Antonini\, Claudine Baille\, Céline Marcy\, Amparo Aliena Noguera\, Amandine Mégret\, Céline Être\, Ndeye Binta Nang\, Michelle Ange Ischia Berenguer \nLe directeur : Thierry Thérondel\, Laurent Girard \nLa directrice : Déborah Payan \nDinis : Patrick Wagon \nLe fou : Ursula Priad \nUne demoiselle : Carol Albitar \nVerchinine (dans le rôle d’Harpagon) : Jean-Noël Papera \nVerchinine (dans le rôle de Verchinine) : Laurent Girard \nIrina : Ursula Priad \nOlga : Déborah Payan \nMacha : Carol Albitar \nKouliguine : Mohamed M’Haïdra \nLa choryphée : Tina Vara Ruiz \nCréon : Olivier Granara \nIsmène : Sophie Hémin \nAntigone : Amandine Mégret \nVerchinine : Olivier Granara \nLa directrice (dans le rôle de Bérénice) : Céline Marcy \n  \n  \n  \n 
URL:https://2025.conservatoiregrandavignon.com/event/presentation-des-travaux-du-pole-theatre-2/
LOCATION:Église du Pontet\, 7 Avenue de l'Église\, Le Pontet\, 84130\, France
ATTACH;FMTTYPE=image/jpeg:https://2025.conservatoiregrandavignon.com/wp-content/uploads/2019/06/IMG_8673.jpg
END:VEVENT
BEGIN:VEVENT
DTSTART;TZID=Europe/Paris:20190621T180000
DTEND;TZID=Europe/Paris:20190621T180000
DTSTAMP:20260423T025903
CREATED:20181009T062150Z
LAST-MODIFIED:20181015T195345Z
UID:18554-1561140000-1561140000@2025.conservatoiregrandavignon.com
SUMMARY:Orchestre d’harmonie apprenti et junior
DESCRIPTION:
URL:https://2025.conservatoiregrandavignon.com/event/orchestre-dharmonie-apprenti-et-junior/
LOCATION:Parvis du conservatoire\, Avignon
CATEGORIES:Saison 2018-2019,Saison artistique 2018-2019,Musique
END:VEVENT
BEGIN:VEVENT
DTSTART;TZID=Europe/Paris:20190621T200000
DTEND;TZID=Europe/Paris:20190621T220000
DTSTAMP:20260423T025903
CREATED:20190617T135510Z
LAST-MODIFIED:20190617T135510Z
UID:20990-1561147200-1561154400@2025.conservatoiregrandavignon.com
SUMMARY:PRÉSENTATION DES TRAVAUX DU POLE THÉÂTRE
DESCRIPTION:PRÉSENTATION Du Cycle Spécialisé 2ème année en Art dramatique – « DET »\nAuditorium du Pontet\nVendredi 21 juin 2019\, 20h00 \nANTIGONE de Sophocle\nAdaptation\, traduction et direction : Cyril COTINAUT \n L’HISTOIRE\nEtéocle et Polynice\, les deux fils d’Œdipe\, se sont livrés un duel fratricide et mortel pour savoir qui de l’un ou de l’autre devait régner sur la ville de Thèbes. \nCréon\, leur oncle\, fraîchement nommé à la tête de la cité\, tente de rétablir l’ordre et promulgue un arrêt : le frère qui a protégé la ville de Thèbes contre l’agression de son jumeau sera enterré et honoré. L’autre en revanche ne recevra ni tombeau\, ni hommage. Antigone\, la fille d’Œdipe\, décide alors de violer la loi et d’enterrer le cadavre de son frère déchu. \nLE PROJET\nCe projet dirigé est l’occasion de donner à chacun des acteurs une responsabilité créatrice importante. Chacun a une partition\, une position philosophique et politique à défendre et des moyens de jeu à proposer pour l’accompagner. \nLe théâtre est ici le lieu du débat : ouvert et contradictoire. Chaque spectateur est sollicité dans son opinion\, autour de thématiques aux résonances éminemment contemporaines : lois humaines ou lois sacrées\, décisions politiques ou éthiques\, destin personnel ou collectif. Les notions de Sagesse et de Bien sont au cœur de la réflexion et du travail des élèves. Peut-on prétendre à faire le Bien pour tous ? L’action morale et héroïque est-elle purement altruiste ou ne peut-on pas y déceler la quête d’une gloire individuelle ? sont quelques-unes des questions au cœur de ce projet dirigé. \n 
URL:https://2025.conservatoiregrandavignon.com/event/presentation-des-travaux-du-pole-theatre-3/
LOCATION:Église du Pontet\, 7 Avenue de l'Église\, Le Pontet\, 84130\, France
ATTACH;FMTTYPE=image/jpeg:https://2025.conservatoiregrandavignon.com/wp-content/uploads/2019/06/Petites-formes-TDC@ACM-juin-2019-6-1.jpg
END:VEVENT
BEGIN:VEVENT
DTSTART;VALUE=DATE:20190622
DTEND;VALUE=DATE:20190624
DTSTAMP:20260423T025903
CREATED:20181009T062345Z
LAST-MODIFIED:20181015T195335Z
UID:18557-1561161600-1561334399@2025.conservatoiregrandavignon.com
SUMMARY:Spectacle de danse avec les élèves du pôle danse et du site Le Pontet/Morières
DESCRIPTION:Samedi 22 juin\, 20h\nDimanche 23 juin\, 15h ou 17h
URL:https://2025.conservatoiregrandavignon.com/event/spectacle-de-danse-avec-les-eleves-du-pole-danse-et-du-site-le-pontet-morieres/
LOCATION:L’Autre Scène\, Avenue Pierre de Coubertin\, Vedène\, 84270
CATEGORIES:Saison 2018-2019,Saison artistique 2018-2019,Danse
END:VEVENT
END:VCALENDAR